{
 "currentVersion": 11.3,
 "serviceDescription": "Maine GeoLibrary LiDAR Project. Geographic Extent: Central Maine, covering approximately 2,882 total square miles. Dataset Description: The Maine and Massachusetts 2015 QL1 and QL2 LiDAR project called for the Planning, Acquisition, processing and derivative products of LIDAR data to be collected at an aggregate nominal pulse spacing (NPS) of 0.7 meters for the 2,882 sqmi of the QL2 Maine AOI. Project specifications are based on the U.S. Geological Survey National Geospatial Program Base LIDAR Specification, Version 1.2. The data was developed based on a horizontal projection/datum of NAD83 (2011) UTM Zone 19, meters and vertical datum of NAVD1988 (GEOID12A), meters. LiDAR data was delivered in RAW flight line swath format, processed to create Classified LAS 1.4 Files formatted to 3,585 individual 1,500 meter X 1,500 meter tiles. Corresponding 1-meter Intensity Image and 1-meter Bare Earth DEM tiles were created with the same 1,500 meter X 1,500 meter tile schema. Breaklines were produced in Esri shapefile format. Ground Conditions: LiDAR was partially collected in spring of 2015 and completed in winter 2015, while no snow was on the ground and rivers were at or below normal levels. In order to post process the LiDAR data to meet task order specifications, Quantum Spatial established a total of 286 Land Cover control points. These were used to calibrate the LIDAR to known ground locations established throughout the entire Maine UTM 19 QL2 project area (136 calibration control points and 150 QC checkpoints).",
 "name": "Elevation/Maine_Elevation_DEM_2015",
 "description": "Maine GeoLibrary LiDAR Project. Geographic Extent: Central Maine, covering approximately 2,882 total square miles. Dataset Description: The Maine and Massachusetts 2015 QL1 and QL2 LiDAR project called for the Planning, Acquisition, processing and derivative products of LIDAR data to be collected at an aggregate nominal pulse spacing (NPS) of 0.7 meters for the 2,882 sqmi of the QL2 Maine AOI. Project specifications are based on the U.S. Geological Survey National Geospatial Program Base LIDAR Specification, Version 1.2. The data was developed based on a horizontal projection/datum of NAD83 (2011) UTM Zone 19, meters and vertical datum of NAVD1988 (GEOID12A), meters. LiDAR data was delivered in RAW flight line swath format, processed to create Classified LAS 1.4 Files formatted to 3,585 individual 1,500 meter X 1,500 meter tiles. Corresponding 1-meter Intensity Image and 1-meter Bare Earth DEM tiles were created with the same 1,500 meter X 1,500 meter tile schema. Breaklines were produced in Esri shapefile format. Ground Conditions: LiDAR was partially collected in spring of 2015 and completed in winter 2015, while no snow was on the ground and rivers were at or below normal levels. In order to post process the LiDAR data to meet task order specifications, Quantum Spatial established a total of 286 Land Cover control points. These were used to calibrate the LIDAR to known ground locations established throughout the entire Maine UTM 19 QL2 project area (136 calibration control points and 150 QC checkpoints).",
 "extent": {
  "xmin": 409500,
  "ymin": 4918500,
  "xmax": 558000,
  "ymax": 5022000,
  "spatialReference": {
   "wkid": 26919,
   "latestWkid": 26919,
   "vcsWkid": 5703,
   "latestVcsWkid": 5703
  }
 },
 "initialExtent": {
  "xmin": 409500,
  "ymin": 4918500,
  "xmax": 558000,
  "ymax": 5022000,
  "spatialReference": {
   "wkid": 26919,
   "latestWkid": 26919,
   "vcsWkid": 5703,
   "latestVcsWkid": 5703
  }
 },
 "fullExtent": {
  "xmin": 409500,
  "ymin": 4918500,
  "xmax": 558000,
  "ymax": 5022000,
  "spatialReference": {
   "wkid": 26919,
   "latestWkid": 26919,
   "vcsWkid": 5703,
   "latestVcsWkid": 5703
  }
 },
 "sortableFields": "",
 "heightModelInfo": {
  "heightModel": "gravity_related_height",
  "vertCRS": "NAVD_1988",
  "heightUnit": "meter"
 },
 "bandCount": 1,
 "pixelType": "F32",
 "minValues": [
  2.125670909881592
 ],
 "maxValues": [
  648.8311157226562
 ],
 "meanValues": [
  128.72037081975935
 ],
 "stdvValues": [
  79.62703251003884
 ],
 "hasMultidimensions": false,
 "pixelSizeX": 1,
 "pixelSizeY": 1,
 "meanPixelSize": 1,
 "datasetFormat": "Cache/LERC2D",
 "uncompressedSize": 61479000000,
 "blockWidth": 256,
 "blockHeight": 256,
 "compressionType": "LERC2D",
 "bandNames": [
  "Band_1"
 ],
 "allowCopy": true,
 "allowAnalysis": true,
 "itemAccess": false,
 "inspectionCapabilities": "",
 "noDataValue": 3.3999999521443642E38,
 "noDataValues": [
  3.3999999521443642E38
 ],
 "minPixelSize": 0,
 "maxPixelSize": 0,
 "copyrightText": "Maine GeoLibrary, MaineGIS",
 "serviceDataType": "esriImageServiceDataTypeElevation",
 "serviceSourceType": "esriImageServiceSourceTypeDataset",
 "objectIdField": "",
 "fields": [],
 "capabilities": "Catalog,Pixels,Download,Image,Metadata",
 "defaultMosaicMethod": "Northwest",
 "allowedMosaicMethods": "NorthWest,Center,ByAttribute,Nadir,Viewpoint,None",
 "sortField": "",
 "sortValue": null,
 "sortAscending": true,
 "mosaicOperator": "First",
 "maxDownloadSizeLimit": 2048,
 "defaultCompressionQuality": 87,
 "defaultResamplingMethod": "Bilinear",
 "maxImageHeight": 4100,
 "maxImageWidth": 15000,
 "maxRecordCount": 1000,
 "maxDownloadImageCount": 20,
 "maxMosaicImageCount": 20,
 "allowRasterFunction": true,
 "rasterFunctionInfos": [
  {
   "name": "None",
   "description": "A No-Op Function.",
   "help": ""
  },
  {
   "name": "Aspect Function_2020831_104624_259",
   "description": "A raster function template.",
   "help": ""
  },
  {
   "name": "Hillshade Function_2020831_104646_493",
   "description": "A raster function template.",
   "help": ""
  },
  {
   "name": "Shaded Relief Function_2020831_10479_196",
   "description": "A raster function template.",
   "help": ""
  },
  {
   "name": "Slope Function_2020831_104727_759",
   "description": "A raster function template.",
   "help": ""
  }
 ],
 "rasterTypeInfos": [
  {
   "name": "Raster Dataset",
   "description": "Supports all ArcGIS Raster Datasets",
   "help": ""
  }
 ],
 "mensurationCapabilities": "",
 "hasHistograms": true,
 "hasColormap": false,
 "hasRasterAttributeTable": false,
 "minScale": 0,
 "maxScale": 0,
 "exportTilesAllowed": false,
 "supportsStatistics": false,
 "supportsAdvancedQueries": false,
 "editFieldsInfo": null,
 "ownershipBasedAccessControlForRasters": null,
 "allowComputeTiePoints": false,
 "useStandardizedQueries": true,
 "advancedQueryCapabilities": {
  "useStandardizedQueries": true,
  "supportsStatistics": false,
  "supportsOrderBy": false,
  "supportsDistinct": false,
  "supportsPagination": false
 },
 "spatialReference": {
  "wkid": 26919,
  "latestWkid": 26919,
  "vcsWkid": 5703,
  "latestVcsWkid": 5703
 },
 "resampling": false
}
