{
 "currentVersion": 11.3,
 "serviceDescription": "Product: These are Digital Elevation Model (DEM) data for the Umbagog NH/ME 2016 LiDAR project. Class 2 (ground) lidar points in conjunction with the hydro breaklines were used to create a 1-meter hydro-flattened raster DEM. Geographic Extent: Partial coverage of six counties in New Hampshire and Maine, covering approximately 3,276 total square miles. Dataset Description: The Umbagog NH/ME 2016 LiDAR project called for the planning, acquisition, processing, and derivative products of LiDAR data to be collected at a nominal pulse spacing (NPS) of 0.7 meters for the New Hampshire, Maine, and FEMA R1 (MOD1) areas of interest. The White Mountain National Forest NH/ME areas of interest used LiDAR collected at 0.57 meters NPS, with the MOD2 WMNF addon collected at 0.35 NPS. Project specifications are based on the U.S. Geological Survey National Geospatial Program Base LiDAR Specification, Version 1.2. The data for counties in the AOI were developed based on a horizontal projection/datum of NAD83 (2011), UTM Zone 19, meters and vertical datum of NAVD88 (GEOID12B), meters. LiDAR data were delivered as flightline-extent unclassified LAS swaths, as processed Classified LAS 1.4 files formatted to 3,465 individual 1,500-meter x 1,500-meter tiles, along with 283 individual 750-meter x 750-meter tiles for the MOD2 WMNF addon area of interest, as tiled 1-meter intensity imagery in GeoTIFF format, and as tiled 1-meter hydro-flattened bare earth DEMs in GeoTIFF format; all tiled to the same schema. Continuous breaklines were produced in Esri file geodatabase format. Ground Conditions: LiDAR was collected from spring of 2016 to spring of 2018, while no snow was on the ground and rivers were at or below normal levels. In order to post process the LiDAR data to meet task order specifications and meet ASPRS vertical accuracy guidelines, Quantum Spatial, Inc. utilized a total of 68 ground control points that were used to calibrate the LiDAR to known ground locations established throughout the project area. An additional 165 independent accuracy checkpoints, 95 in Bare Earth and Urban landcovers (95 NVA points), 70 in Tall Weeds categories (70 VVA points), were used to assess the vertical accuracy of the data. These checkpoints were not used to calibrate or post process the data.",
 "name": "Elevation/Maine_Elevation_DEM_2018",
 "description": "Product: These are Digital Elevation Model (DEM) data for the Umbagog NH/ME 2016 LiDAR project. Class 2 (ground) lidar points in conjunction with the hydro breaklines were used to create a 1-meter hydro-flattened raster DEM. Geographic Extent: Partial coverage of six counties in New Hampshire and Maine, covering approximately 3,276 total square miles. Dataset Description: The Umbagog NH/ME 2016 LiDAR project called for the planning, acquisition, processing, and derivative products of LiDAR data to be collected at a nominal pulse spacing (NPS) of 0.7 meters for the New Hampshire, Maine, and FEMA R1 (MOD1) areas of interest. The White Mountain National Forest NH/ME areas of interest used LiDAR collected at 0.57 meters NPS, with the MOD2 WMNF addon collected at 0.35 NPS. Project specifications are based on the U.S. Geological Survey National Geospatial Program Base LiDAR Specification, Version 1.2. The data for counties in the AOI were developed based on a horizontal projection/datum of NAD83 (2011), UTM Zone 19, meters and vertical datum of NAVD88 (GEOID12B), meters. LiDAR data were delivered as flightline-extent unclassified LAS swaths, as processed Classified LAS 1.4 files formatted to 3,465 individual 1,500-meter x 1,500-meter tiles, along with 283 individual 750-meter x 750-meter tiles for the MOD2 WMNF addon area of interest, as tiled 1-meter intensity imagery in GeoTIFF format, and as tiled 1-meter hydro-flattened bare earth DEMs in GeoTIFF format; all tiled to the same schema. Continuous breaklines were produced in Esri file geodatabase format. Ground Conditions: LiDAR was collected from spring of 2016 to spring of 2018, while no snow was on the ground and rivers were at or below normal levels. In order to post process the LiDAR data to meet task order specifications and meet ASPRS vertical accuracy guidelines, Quantum Spatial, Inc. utilized a total of 68 ground control points that were used to calibrate the LiDAR to known ground locations established throughout the project area. An additional 165 independent accuracy checkpoints, 95 in Bare Earth and Urban landcovers (95 NVA points), 70 in Tall Weeds categories (70 VVA points), were used to assess the vertical accuracy of the data. These checkpoints were not used to calibrate or post process the data.",
 "extent": {
  "xmin": 336000,
  "ymin": 4852500,
  "xmax": 391500,
  "ymax": 5032500,
  "spatialReference": {
   "wkid": 102388,
   "latestWkid": 6348,
   "vcsWkid": 5703,
   "latestVcsWkid": 5703
  }
 },
 "initialExtent": {
  "xmin": 336000,
  "ymin": 4852500,
  "xmax": 391500,
  "ymax": 5032500,
  "spatialReference": {
   "wkid": 102388,
   "latestWkid": 6348,
   "vcsWkid": 5703,
   "latestVcsWkid": 5703
  }
 },
 "fullExtent": {
  "xmin": 336000,
  "ymin": 4852500,
  "xmax": 391500,
  "ymax": 5032500,
  "spatialReference": {
   "wkid": 102388,
   "latestWkid": 6348,
   "vcsWkid": 5703,
   "latestVcsWkid": 5703
  }
 },
 "sortableFields": "",
 "heightModelInfo": {
  "heightModel": "gravity_related_height",
  "vertCRS": "NAVD_1988",
  "heightUnit": "meter"
 },
 "bandCount": 1,
 "pixelType": "F32",
 "minValues": [
  116.50703430175781
 ],
 "maxValues": [
  1174.2115478515625
 ],
 "meanValues": [
  548.2882160618415
 ],
 "stdvValues": [
  159.45801911641294
 ],
 "hasMultidimensions": false,
 "pixelSizeX": 1,
 "pixelSizeY": 1,
 "meanPixelSize": 1,
 "datasetFormat": "Cache/LERC2D",
 "uncompressedSize": 39960000000,
 "blockWidth": 256,
 "blockHeight": 256,
 "compressionType": "LERC2D",
 "bandNames": [
  "Band_1"
 ],
 "allowCopy": true,
 "allowAnalysis": true,
 "itemAccess": false,
 "inspectionCapabilities": "",
 "noDataValue": 3.3999999521443642E38,
 "noDataValues": [
  3.3999999521443642E38
 ],
 "minPixelSize": 0,
 "maxPixelSize": 0,
 "copyrightText": "USGS, Maine GeoLibrary",
 "serviceDataType": "esriImageServiceDataTypeElevation",
 "serviceSourceType": "esriImageServiceSourceTypeDataset",
 "objectIdField": "",
 "fields": [],
 "capabilities": "Catalog,Pixels,Download,Image,Metadata",
 "defaultMosaicMethod": "Northwest",
 "allowedMosaicMethods": "NorthWest,Center,ByAttribute,Nadir,Viewpoint,None",
 "sortField": "",
 "sortValue": null,
 "sortAscending": true,
 "mosaicOperator": "First",
 "maxDownloadSizeLimit": 2048,
 "defaultCompressionQuality": 87,
 "defaultResamplingMethod": "Bilinear",
 "maxImageHeight": 4100,
 "maxImageWidth": 15000,
 "maxRecordCount": 1000,
 "maxDownloadImageCount": 20,
 "maxMosaicImageCount": 44,
 "allowRasterFunction": true,
 "rasterFunctionInfos": [
  {
   "name": "None",
   "description": "A No-Op Function.",
   "help": ""
  },
  {
   "name": "Aspect Function_2020831_104751_744",
   "description": "A raster function template.",
   "help": ""
  },
  {
   "name": "Hillshade Function_2020831_10485_791",
   "description": "A raster function template.",
   "help": ""
  },
  {
   "name": "Shaded Relief Function_2020831_104821_697",
   "description": "A raster function template.",
   "help": ""
  },
  {
   "name": "Slope Function_2020831_104836_275",
   "description": "A raster function template.",
   "help": ""
  }
 ],
 "rasterTypeInfos": [
  {
   "name": "Raster Dataset",
   "description": "Supports all ArcGIS Raster Datasets",
   "help": ""
  }
 ],
 "mensurationCapabilities": "",
 "hasHistograms": true,
 "hasColormap": false,
 "hasRasterAttributeTable": false,
 "minScale": 0,
 "maxScale": 0,
 "exportTilesAllowed": false,
 "supportsStatistics": false,
 "supportsAdvancedQueries": false,
 "editFieldsInfo": null,
 "ownershipBasedAccessControlForRasters": null,
 "allowComputeTiePoints": false,
 "useStandardizedQueries": true,
 "advancedQueryCapabilities": {
  "useStandardizedQueries": true,
  "supportsStatistics": false,
  "supportsOrderBy": false,
  "supportsDistinct": false,
  "supportsPagination": false
 },
 "spatialReference": {
  "wkid": 102388,
  "latestWkid": 6348,
  "vcsWkid": 5703,
  "latestVcsWkid": 5703
 },
 "resampling": false
}
