View In:
ArcGIS JavaScript
ArcGIS Online Map Viewer
ArcGIS Earth
Service Description: MEDEM2 is a digital terrain elevation model of Maine with a 2 meter by 2 meter square grid or data spacing. Digital Elevation Model (DEM) is the terminology adopted by USGS to describe terrain elevation data sets in a digital raster form. The standard DEM consists of an array of elevations from ground positions at regularly spaced intervals, cast on a designated coordinate projection system. Elevation values are in meters. The data are a combination of DEMs from various lidar collections in Maine ranging from 2006 to 2013. The data overall are accurate to RSMEz 15cm.
Name: Elevation/Maine_Elevation_DEM_2_Meter
Description: MEDEM2 is a digital terrain elevation model of Maine with a 2 meter by 2 meter square grid or data spacing. Digital Elevation Model (DEM) is the terminology adopted by USGS to describe terrain elevation data sets in a digital raster form. The standard DEM consists of an array of elevations from ground positions at regularly spaced intervals, cast on a designated coordinate projection system. Elevation values are in meters. The data are a combination of DEMs from various lidar collections in Maine ranging from 2006 to 2013. The data overall are accurate to RSMEz 15cm.
Single Fused Map Cache: false
Extent:
XMin: 337500.0
YMin: 4759046.0
XMax: 663000.0
YMax: 5005842.0
Spatial Reference: 26919
(26919)
VCSWkid(5703)
LatestVCSWkid(5703)
Initial Extent:
XMin: 337500.0
YMin: 4759046.0
XMax: 663000.0
YMax: 5005842.0
Spatial Reference: 26919
(26919)
VCSWkid(5703)
LatestVCSWkid(5703)
Full Extent:
XMin: 337500.0
YMin: 4759046.0
XMax: 663000.0
YMax: 5005842.0
Spatial Reference: 26919
(26919)
VCSWkid(5703)
LatestVCSWkid(5703)
Pixel Size X: 2.0
Pixel Size Y: 2.0
Band Count: 1
Pixel Type: F32
RasterFunction Infos: {"rasterFunctionInfos": [
{
"name": "None",
"description": "A No-Op Function.",
"help": ""
},
{
"name": "Aspect Function_20181012_15575_932",
"description": "A raster function template.",
"help": ""
},
{
"name": "Hillshade Function_20181012_155721_508",
"description": "A raster function template.",
"help": ""
},
{
"name": "Shaded Relief Function_20181012_155754_556",
"description": "A raster function template.",
"help": ""
},
{
"name": "Slope Function_20181012_15584_908",
"description": "A raster function template.",
"help": ""
}
]}
Mensuration Capabilities: Basic
Inspection Capabilities:
Has Histograms: true
Has Colormap: false
Has Multi Dimensions : false
Rendering Rule:
Min Scale: 0
Max Scale: 0
Copyright Text: Maine GeoLibrary, MaineGIS
Service Data Type: esriImageServiceDataTypeElevation
Min Values: -48.880001068115234
Max Values: 609.8499755859375
Mean Values: 68.14811020058436
Standard Deviation Values: 59.356604853684594
Object ID Field:
Fields:
None
Default Mosaic Method: Center
Allowed Mosaic Methods:
SortField:
SortValue: null
Mosaic Operator: First
Default Compression Quality: 75
Default Resampling Method: Bilinear
Max Record Count: null
Max Image Height: 4100
Max Image Width: 15000
Max Download Image Count: null
Max Mosaic Image Count: null
Allow Raster Function: true
Allow Copy: true
Allow Analysis: true
Allow Compute TiePoints: false
Supports Statistics: false
Supports Advanced Queries: false
Use StandardizedQueries: true
Raster Type Infos:
Name: Raster Dataset
Description: Supports all ArcGIS Raster Datasets
Help:
Has Raster Attribute Table: false
Edit Fields Info: null
Ownership Based AccessControl For Rasters: null
Child Resources:
Info
Histograms
Statistics
Key Properties
Legend
Raster Function Infos
Supported Operations:
Export Image
Identify
Measure
Compute Histograms
Compute Statistics Histograms
Get Samples
Compute Class Statistics
Query Boundary
Compute Pixel Location
Compute Angles
Validate
Project
Calculate Volume