View In:
ArcGIS JavaScript
ArcGIS Online map viewer
ArcGIS Earth
ArcMap
View Footprint In:
ArcGIS Online map viewer
Service Description: MEDEM2 is a digital terrain elevation model of Maine with a 2 meter by 2 meter square grid or data spacing. Digital Elevation Model (DEM) is the terminology adopted by USGS to describe terrain elevation data sets in a digital raster form. The standard DEM consists of an array of elevations from ground positions at regularly spaced intervals, cast on a designated coordinate projection system. Elevation values are in meters. The data are a combination of DEMs from various lidar collections in Maine ranging from 2006 to 2013. The data overall are accurate to RSMEz 15cm.
Name: Elevation/Maine_Elevation_DEM_2_Meter_Image_Service
Description: MEDEM2 is a digital terrain elevation model of Maine with a 2 meter by 2 meter square grid or data spacing. Digital Elevation Model (DEM) is the terminology adopted by USGS to describe terrain elevation data sets in a digital raster form. The standard DEM consists of an array of elevations from ground positions at regularly spaced intervals, cast on a designated coordinate projection system. Elevation values are in meters. The data are a combination of DEMs from various lidar collections in Maine ranging from 2006 to 2013. The data overall are accurate to RSMEz 15cm.
Single Fused Map Cache: false
Extent:
XMin: 337500
YMin: 4759046
XMax: 663000
YMax: 5005842
Spatial Reference: 26919
(26919)
VCSWkid(5703)
LatestVCSWkid(5703)
Initial Extent:
XMin: 337500
YMin: 4759046
XMax: 663000
YMax: 5005842
Spatial Reference: 26919
(26919)
VCSWkid(5703)
LatestVCSWkid(5703)
Full Extent:
XMin: 337500
YMin: 4759046
XMax: 663000
YMax: 5005842
Spatial Reference: 26919
(26919)
VCSWkid(5703)
LatestVCSWkid(5703)
Time Info:
Start Time Field: DateIntBegin
End Time Field: DateIntEnd
Time Extent:
[2006/01/01 00:00:00 UTC, 2013/01/01 00:00:00 UTC]
Time Reference:
N/A
Pixel Size X: 2.0
Pixel Size Y: 2.0
Band Count: 1
Pixel Type: F32
RasterFunction Infos: {"rasterFunctionInfos": [
{
"name": "None",
"description": "A No-Op Function.",
"help": ""
},
{
"name": "Aspect Function_20181012_15575_932",
"description": "A raster function template.",
"help": ""
},
{
"name": "Hillshade Function_20181012_155721_508",
"description": "A raster function template.",
"help": ""
},
{
"name": "Shaded Relief Function_20181012_155754_556",
"description": "A raster function template.",
"help": ""
},
{
"name": "Slope Function_20181012_15584_908",
"description": "A raster function template.",
"help": ""
}
]}
Mensuration Capabilities: None
Has Histograms: true
Has Colormap: false
Has Multi Dimensions : false
Rendering Rule:
Min Scale: 0
Max Scale: 0
Copyright Text: Maine GeoLibrary, MaineGIS
Service Data Type: esriImageServiceDataTypeElevation
Min Values: -33.03512954711914
Max Values: 906.4984741210938
Mean Values: 114.95846989705011
Standard Deviation Values: 118.0629844965606
Object ID Field: OBJECTID
Fields:
-
OBJECTID
(
type: esriFieldTypeOID, alias: OBJECTID
)
-
Shape
(
type: esriFieldTypeGeometry, alias: Shape
)
-
Name
(
type: esriFieldTypeString, alias: Name, length: 200
)
-
MinPS
(
type: esriFieldTypeDouble, alias: MinPS
)
-
MaxPS
(
type: esriFieldTypeDouble, alias: MaxPS
)
-
LowPS
(
type: esriFieldTypeDouble, alias: LowPS
)
-
HighPS
(
type: esriFieldTypeDouble, alias: HighPS
)
-
Category
(
type: esriFieldTypeInteger, alias: Category
, Coded Values:
[0: Unknown]
, [1: Primary]
, [2: Overview]
, ...6 more...
)
-
Tag
(
type: esriFieldTypeString, alias: Tag, length: 100
)
-
GroupName
(
type: esriFieldTypeString, alias: GroupName, length: 100
)
-
ProductName
(
type: esriFieldTypeString, alias: ProductName, length: 100
)
-
CenterX
(
type: esriFieldTypeDouble, alias: CenterX
)
-
CenterY
(
type: esriFieldTypeDouble, alias: CenterY
)
-
ZOrder
(
type: esriFieldTypeInteger, alias: ZOrder
)
-
Shape_Length
(
type: esriFieldTypeDouble, alias: Shape_Length
)
-
Shape_Area
(
type: esriFieldTypeDouble, alias: Shape_Area
)
-
Date
(
type: esriFieldTypeDate, alias: Date, length: 8
)
-
DateInt
(
type: esriFieldTypeSmallInteger, alias: DateInt
)
-
DateBegin
(
type: esriFieldTypeDate, alias: DateBegin, length: 8
)
-
DateEnd
(
type: esriFieldTypeDate, alias: DateEnd, length: 8
)
-
DateIntBegin
(
type: esriFieldTypeSmallInteger, alias: DateIntBegin
)
-
DateIntEnd
(
type: esriFieldTypeSmallInteger, alias: DateIntEnd
)
Default Mosaic Method: Northwest
Allowed Mosaic Methods: NorthWest,Center,ByAttribute,Nadir,Viewpoint,None
SortField:
SortValue: null
Mosaic Operator: First
Default Compression Quality: 87
Default Resampling Method: Nearest
Max Record Count: 1000
Max Image Height: 4100
Max Image Width: 15000
Max Download Image Count: 20
Max Mosaic Image Count: 20
Allow Raster Function: true
Allow Copy: true
Allow Analysis: true
Allow Compute TiePoints: false
Supports Statistics: true
Supports Advanced Queries: true
Use StandardizedQueries: true
Raster Type Infos:
Name: Raster Dataset
Description: Supports all ArcGIS Raster Datasets
Help:
Has Raster Attribute Table: false
Edit Fields Info: null
Ownership Based AccessControl For Rasters: null
Child Resources:
Info
Histograms
Statistics
Key Properties
Legend
Raster Function Infos
Supported Operations:
Export Image
Query
Identify
Download Rasters
Compute Histograms
Compute Statistics Histograms
Get Samples
Compute Class Statistics
Query Boundary
Compute Pixel Location
Compute Angles
Validate
Project
Calculate Volume