{ "currentVersion": 11.3, "serviceDescription": "
These are Digital Elevation Model (DEM) data for Maine as part of the required deliverables for the ME_MidCoast_B21_2021, Work Units 220045 and 300071 project. Class 2 (ground) LiDAR points in conjunction with the hydro breaklines were used to create a 1-meter hydro-flattened Raster DEM.<\/span><\/p> Dataset Description: The ME_MidCoast_B21_2021, Work Unit 300071 project called for the planning, acquisition, processing, and derivative products of lidar data to be collected at a nominal pulse spacing (NPS) of 0.71 meters. Project specifications are based on the U.S. Geological Survey National Geospatial Program Base LiDAR Specification, 2020 Rev. A. This project was done at Quality Level 2. The data were developed based on a horizontal projection/datum of NAD 1983 2011 UTM Zone 19N, Meter and vertical datum of NAVD88 Geoid 18, Meter. LiDAR data were delivered as processed Classified LAS 1.4 files formatted to 3333 individual 1500 m x 1500 m tiles, as tiled intensity imagery, and as tiled bare earth DEMs; all tiled to the same 1500 m x 1500 m schema. Continuous breaklines were produced in Esri file geodatabase format.<\/span><\/span><\/p> Ground Conditions: LiDAR was collected in spring and fall 2021 through 2022, while no snow was on the ground and rivers were at or below normal levels. In order to post process the LiDAR data to meet task order specifications and meet ASPRS vertical accuracy guidelines, NV5 Geospatial utilized a total of 56 ground control points that were used to calibrate the LiDAR to known ground locations established throughout the project area. An additional 190 independent accuracy checkpoints, 107 in Bare Earth and Urban landcovers (107 NVA points), 83 in Tall Weeds categories (83 VVA points), were used to assess the vertical accuracy of the data. These checkpoints were not used to calibrate or post process the data.<\/span><\/span><\/p> <\/span><\/p> The ME_MidCoast_B21_2021, Work Unit 220045 project called for the planning, acquisition, processing, and derivative products of lidar data to be collected at a nominal pulse spacing (NPS) of 0.71 meters. Project specifications are based on the U.S. Geological Survey National Geospatial Program Base LiDAR Specification, Version 2.1. The data were developed based on a horizontal projection/datum of NAD 1983 2011 UTM Zone 19N, Meter and vertical datum of NAVD88 Geoid 18, Meter. LiDAR data were delivered as processed Classified LAS 1.4 files formatted to 1877 individual 1500 m x 1500 m tiles. Intensity imagery were formatted to 1877 individual 1500 m x 1500 m tiles. DEMs were formatted to 1885 individual 1500 m x 1500 m tiles. Continuous breaklines were produced in Esri file geodatabase format. There are 8 fewer LAS and intensity deliverables than the 1,885 that appear in the tile index. The following tiles contain no deliverable points due to being over water: 19TEJ558885.las, 19TFK616921.las, 19TFK625933.las, 19TFK627933.las, 19TFK640939.las, 19TFK651948.las, 19TFK660957.las, 19TFK652930.las.<\/span><\/p> Ground Conditions: LiDAR was collected in spring 2021, while no snow was on the ground and rivers were at or below normal levels.<\/span><\/span><\/p> <\/p><\/div><\/div><\/div>",
"name": "Elevation/Maine_Elevation_DEM_Midcoast_2021",
"description": " These are Digital Elevation Model (DEM) data for Maine as part of the required deliverables for the ME_MidCoast_B21_2021, Work Units 220045 and 300071 project. Class 2 (ground) LiDAR points in conjunction with the hydro breaklines were used to create a 1-meter hydro-flattened Raster DEM.<\/SPAN><\/P> Dataset Description: The ME_MidCoast_B21_2021, Work Unit 300071 project called for the planning, acquisition, processing, and derivative products of lidar data to be collected at a nominal pulse spacing (NPS) of 0.71 meters. Project specifications are based on the U.S. Geological Survey National Geospatial Program Base LiDAR Specification, 2020 Rev. A. This project was done at Quality Level 2. The data were developed based on a horizontal projection/datum of NAD 1983 2011 UTM Zone 19N, Meter and vertical datum of NAVD88 Geoid 18, Meter. LiDAR data were delivered as processed Classified LAS 1.4 files formatted to 3333 individual 1500 m x 1500 m tiles, as tiled intensity imagery, and as tiled bare earth DEMs; all tiled to the same 1500 m x 1500 m schema. Continuous breaklines were produced in Esri file geodatabase format.<\/SPAN><\/SPAN><\/P> Ground Conditions: LiDAR was collected in spring and fall 2021 through 2022, while no snow was on the ground and rivers were at or below normal levels. In order to post process the LiDAR data to meet task order specifications and meet ASPRS vertical accuracy guidelines, NV5 Geospatial utilized a total of 56 ground control points that were used to calibrate the LiDAR to known ground locations established throughout the project area. An additional 190 independent accuracy checkpoints, 107 in Bare Earth and Urban landcovers (107 NVA points), 83 in Tall Weeds categories (83 VVA points), were used to assess the vertical accuracy of the data. These checkpoints were not used to calibrate or post process the data.<\/SPAN><\/SPAN><\/P> <\/SPAN><\/P> The ME_MidCoast_B21_2021, Work Unit 220045 project called for the planning, acquisition, processing, and derivative products of lidar data to be collected at a nominal pulse spacing (NPS) of 0.71 meters. Project specifications are based on the U.S. Geological Survey National Geospatial Program Base LiDAR Specification, Version 2.1. The data were developed based on a horizontal projection/datum of NAD 1983 2011 UTM Zone 19N, Meter and vertical datum of NAVD88 Geoid 18, Meter. LiDAR data were delivered as processed Classified LAS 1.4 files formatted to 1877 individual 1500 m x 1500 m tiles. Intensity imagery were formatted to 1877 individual 1500 m x 1500 m tiles. DEMs were formatted to 1885 individual 1500 m x 1500 m tiles. Continuous breaklines were produced in Esri file geodatabase format. There are 8 fewer LAS and intensity deliverables than the 1,885 that appear in the tile index. The following tiles contain no deliverable points due to being over water: 19TEJ558885.las, 19TFK616921.las, 19TFK625933.las, 19TFK627933.las, 19TFK640939.las, 19TFK651948.las, 19TFK660957.las, 19TFK652930.las.<\/SPAN><\/P> Ground Conditions: LiDAR was collected in spring 2021, while no snow was on the ground and rivers were at or below normal levels.<\/SPAN><\/SPAN><\/P> <\/P><\/DIV><\/DIV><\/DIV>",
"extent": {
"xmin": 457500,
"ymin": 4846500,
"xmax": 666000,
"ymax": 4989000,
"spatialReference": {
"wkid": 102388,
"latestWkid": 6348
}
},
"initialExtent": {
"xmin": 457500,
"ymin": 4846500,
"xmax": 666000,
"ymax": 4989000,
"spatialReference": {
"wkid": 102388,
"latestWkid": 6348
}
},
"fullExtent": {
"xmin": 457500,
"ymin": 4846500,
"xmax": 666000,
"ymax": 4989000,
"spatialReference": {
"wkid": 102388,
"latestWkid": 6348
}
},
"sortableFields": "MinPS,MaxPS,LowPS,HighPS,CenterX,CenterY,ZOrder,Shape_Length,Shape_Area,DateBegin,DateEnd,DateIntBegin,DateIntEnd",
"bandCount": 1,
"pixelType": "F32",
"minValues": [
-64.01466369628906
],
"maxValues": [
466.2542419433594
],
"meanValues": [
46.054297019584865
],
"stdvValues": [
53.817614152686694
],
"hasMultidimensions": false,
"pixelSizeX": 1,
"pixelSizeY": 1,
"meanPixelSize": 1,
"datasetFormat": "Cache/LERC2D",
"uncompressedSize": 118845000000,
"blockWidth": 256,
"blockHeight": 256,
"compressionType": "LERC2D",
"bandNames": [
"Band_1"
],
"allowCopy": true,
"allowAnalysis": true,
"itemAccess": false,
"inspectionCapabilities": "",
"noDataValue": -9999,
"noDataValues": [
-9999
],
"minPixelSize": 0,
"maxPixelSize": 0,
"copyrightText": "NV5 Geospatial, Quantum Geospatial, Maine GeoLibrary",
"serviceDataType": "esriImageServiceDataTypeGeneric",
"serviceSourceType": "esriImageServiceSourceTypeDataset",
"objectIdField": "",
"fields": [],
"capabilities": "Catalog,Download,Image,Metadata",
"defaultMosaicMethod": "Northwest",
"allowedMosaicMethods": "NorthWest,Center,LockRaster,ByAttribute,Nadir,Viewpoint,Seamline,None",
"sortField": "",
"sortValue": null,
"sortAscending": true,
"mosaicOperator": "First",
"maxDownloadSizeLimit": 2048,
"defaultCompressionQuality": 75,
"defaultResamplingMethod": "Nearest",
"maxImageHeight": 4100,
"maxImageWidth": 15000,
"maxRecordCount": 1000,
"maxDownloadImageCount": 20,
"maxMosaicImageCount": 20,
"allowRasterFunction": true,
"rasterFunctionInfos": [
{
"name": "None",
"description": "A No-Op Function.",
"help": ""
},
{
"name": "None",
"description": "A No-Op Function.",
"help": ""
},
{
"name": "Aspect Function_202347_123358_ 82",
"description": "A raster function template.",
"help": ""
},
{
"name": "Hillshade Function_2023410_125056_818",
"description": "A raster function template.",
"help": ""
},
{
"name": "Slope Function_202347_123423_320",
"description": "A raster function template.",
"help": ""
}
],
"rasterTypeInfos": [
{
"name": "Raster Dataset",
"description": "Supports all ArcGIS Raster Datasets",
"help": ""
}
],
"mensurationCapabilities": "",
"hasHistograms": true,
"hasColormap": false,
"hasRasterAttributeTable": false,
"minScale": 0,
"maxScale": 0,
"exportTilesAllowed": false,
"supportsStatistics": false,
"supportsAdvancedQueries": false,
"editFieldsInfo": null,
"ownershipBasedAccessControlForRasters": null,
"allowComputeTiePoints": false,
"useStandardizedQueries": true,
"advancedQueryCapabilities": {
"useStandardizedQueries": true,
"supportsStatistics": false,
"supportsOrderBy": false,
"supportsDistinct": false,
"supportsPagination": false
},
"spatialReference": {
"wkid": 102388,
"latestWkid": 6348
},
"resampling": false
}