View In:
ArcGIS JavaScript
ArcGIS Online Map Viewer
ArcGIS Earth
ArcMap
View Footprint In:
ArcGIS Online Map Viewer
Service Description: Published for temporary use in coastal planning with permission from NOAA OCS.
This product may contain preliminary data and as such may contain position and depth errors and/or other quality issues. Products generated with these data are not to be used for measurements or navigation under any circumstances. This multi-layered image is part of NOAA Office of Coast Survey’s National Bathymetry. The National Bathymetric Source is created to serve chart production and support navigation, but these specific files may include unqualified data and have been transformed from chart datum and are therefore not suitable for navigation. The user assumes the entire risk related to the use of these products. The Office of Coast Survey is providing these products “as-is” and OCS disclaims any and all warranties, whether express or implied, including any implied warranties of merchantability or fitness for a particular purpose. In no event will OCS be liable to you or any third party for any direct, indirect, incidental, consequential, special, or exemplary damages or lost profit resulting from any use or misuse of these data. The bathymetry is compiled from multiple sources with varying quality and includes forms of interpolation. The bathymetric quality and interpolation is described through the vertical uncertainty layer and the associated data quality raster attribute table. For further information please contact OCS.NBS@noaa.gov.
Name: dmr/wind_aoi_bathy
Description: Published for temporary use in coastal planning with permission from NOAA OCS.
This product may contain preliminary data and as such may contain position and depth errors and/or other quality issues. Products generated with these data are not to be used for measurements or navigation under any circumstances. This multi-layered image is part of NOAA Office of Coast Survey’s National Bathymetry. The National Bathymetric Source is created to serve chart production and support navigation, but these specific files may include unqualified data and have been transformed from chart datum and are therefore not suitable for navigation. The user assumes the entire risk related to the use of these products. The Office of Coast Survey is providing these products “as-is” and OCS disclaims any and all warranties, whether express or implied, including any implied warranties of merchantability or fitness for a particular purpose. In no event will OCS be liable to you or any third party for any direct, indirect, incidental, consequential, special, or exemplary damages or lost profit resulting from any use or misuse of these data. The bathymetry is compiled from multiple sources with varying quality and includes forms of interpolation. The bathymetric quality and interpolation is described through the vertical uncertainty layer and the associated data quality raster attribute table. For further information please contact OCS.NBS@noaa.gov.
Single Fused Map Cache: false
Extent:
XMin: 402024.0
YMin: 4649960.0
XMax: 549688.0
YMax: 4883680.0
Spatial Reference: 26919
(26919)
VCSWkid(5703)
LatestVCSWkid(5703)
Initial Extent:
XMin: 402024.0
YMin: 4649960.0
XMax: 549688.0
YMax: 4883680.0
Spatial Reference: 26919
(26919)
VCSWkid(5703)
LatestVCSWkid(5703)
Full Extent:
XMin: 402024.0
YMin: 4649960.0
XMax: 549688.0
YMax: 4883680.0
Spatial Reference: 26919
(26919)
VCSWkid(5703)
LatestVCSWkid(5703)
Pixel Size X: 8.0
Pixel Size Y: 8.0
Band Count: 2
Pixel Type: F32
RasterFunction Infos: {"rasterFunctionInfos": [
{
"name": "Coop Shaded Relief",
"description": "Shaded relief visualization",
"help": ""
},
{
"name": "None",
"description": "",
"help": ""
}
]}
Mensuration Capabilities: Basic
Has Histograms: true
Has Colormap: false
Has Multi Dimensions : false
Rendering Rule:
Min Scale: 0
Max Scale: 0
Copyright Text: NOAA Office of Coast Survey's National Bathymetry
Service Data Type: esriImageServiceDataTypeGeneric
Min Values: -292.23116574436426, 0.6530664212987176
Max Values: 59.08115277439356, 308.2169409036651
Mean Values: -131.30641085212088, 107.53007135287872
Standard Deviation Values: 60.69374524022505, 113.57522739154916
Object ID Field: OBJECTID
Fields:
-
OBJECTID
(
type: esriFieldTypeOID, alias: OBJECTID
)
-
Shape
(
type: esriFieldTypeGeometry, alias: Shape
)
-
Name
(
type: esriFieldTypeString, alias: Name, length: 200
)
-
MinPS
(
type: esriFieldTypeDouble, alias: MinPS
)
-
MaxPS
(
type: esriFieldTypeDouble, alias: MaxPS
)
-
LowPS
(
type: esriFieldTypeDouble, alias: LowPS
)
-
HighPS
(
type: esriFieldTypeDouble, alias: HighPS
)
-
Category
(
type: esriFieldTypeInteger, alias: Category
, Coded Values:
[0: Unknown]
, [1: Primary]
, [2: Overview]
, ...6 more...
)
-
Tag
(
type: esriFieldTypeString, alias: Tag, length: 100
)
-
GroupName
(
type: esriFieldTypeString, alias: GroupName, length: 100
)
-
ProductName
(
type: esriFieldTypeString, alias: ProductName, length: 100
)
-
CenterX
(
type: esriFieldTypeDouble, alias: CenterX
)
-
CenterY
(
type: esriFieldTypeDouble, alias: CenterY
)
-
ZOrder
(
type: esriFieldTypeInteger, alias: ZOrder
)
-
Shape_Length
(
type: esriFieldTypeDouble, alias: Shape_Length
)
-
Shape_Area
(
type: esriFieldTypeDouble, alias: Shape_Area
)
-
Thumbnail
(
type: esriFieldTypeBlob, alias: Thumbnail
)
Default Mosaic Method: Northwest
Allowed Mosaic Methods: NorthWest,Center,LockRaster,ByAttribute,Nadir,Viewpoint,Seamline,None
SortField:
SortValue: null
Mosaic Operator: First
Default Compression Quality: 75
Default Resampling Method: Bilinear
Max Record Count: 1000
Max Image Height: 4100
Max Image Width: 15000
Max Download Image Count: 20
Max Mosaic Image Count: 20
Allow Raster Function: true
Allow Copy: null
Allow Analysis: null
Allow Compute TiePoints: false
Supports Statistics: true
Supports Advanced Queries: true
Use StandardizedQueries: true
Raster Type Infos:
Name: Raster Dataset
Description: Supports all ArcGIS Raster Datasets
Help:
Has Raster Attribute Table: false
Edit Fields Info: null
Ownership Based AccessControl For Rasters: null
Child Resources:
Info
Histograms
Key Properties
Legend
Raster Function Infos
Supported Operations:
Export Image
Query
Identify
Measure
Compute Histograms
Compute Statistics Histograms
Get Samples
Compute Class Statistics
Query Boundary
Compute Pixel Location
Compute Angles
Validate
Project