{
 "currentVersion": 10.91,
 "serviceDescription": "Published for temporary use in coastal planning with permission from NOAA OCS.\n\nThis product may contain preliminary data and as such may contain position and depth errors and/or other quality issues. Products generated with these data are not to be used for measurements or navigation under any circumstances. This multi-layered image is part of NOAA Office of Coast Survey\u2019s National Bathymetry. The National Bathymetric Source is created to serve chart production and support navigation, but these specific files may include unqualified data and have been transformed from chart datum and are therefore not suitable for navigation. The user assumes the entire risk related to the use of these products. The Office of Coast Survey is providing these products \u201cas-is\u201d and OCS disclaims any and all warranties, whether express or implied, including any implied warranties of merchantability or fitness for a particular purpose. In no event will OCS be liable to you or any third party for any direct, indirect, incidental, consequential, special, or exemplary damages or lost profit resulting from any use or misuse of these data. The bathymetry is compiled from multiple sources with varying quality and includes forms of interpolation. The bathymetric quality and interpolation is described through the vertical uncertainty layer and the associated data quality raster attribute table. For further information please contact OCS.NBS@noaa.gov.",
 "name": "dmr/wind_aoi_bathy",
 "description": "Published for temporary use in coastal planning with permission from NOAA OCS.\n\nThis product may contain preliminary data and as such may contain position and depth errors and/or other quality issues. Products generated with these data are not to be used for measurements or navigation under any circumstances. This multi-layered image is part of NOAA Office of Coast Survey\u2019s National Bathymetry. The National Bathymetric Source is created to serve chart production and support navigation, but these specific files may include unqualified data and have been transformed from chart datum and are therefore not suitable for navigation. The user assumes the entire risk related to the use of these products. The Office of Coast Survey is providing these products \u201cas-is\u201d and OCS disclaims any and all warranties, whether express or implied, including any implied warranties of merchantability or fitness for a particular purpose. In no event will OCS be liable to you or any third party for any direct, indirect, incidental, consequential, special, or exemplary damages or lost profit resulting from any use or misuse of these data. The bathymetry is compiled from multiple sources with varying quality and includes forms of interpolation. The bathymetric quality and interpolation is described through the vertical uncertainty layer and the associated data quality raster attribute table. For further information please contact OCS.NBS@noaa.gov.",
 "extent": {
  "xmin": 402024,
  "ymin": 4649960,
  "xmax": 549688,
  "ymax": 4883680,
  "spatialReference": {
   "wkid": 26919,
   "latestWkid": 26919,
   "vcsWkid": 5703,
   "latestVcsWkid": 5703
  }
 },
 "initialExtent": {
  "xmin": 402024,
  "ymin": 4649960,
  "xmax": 549688,
  "ymax": 4883680,
  "spatialReference": {
   "wkid": 26919,
   "latestWkid": 26919,
   "vcsWkid": 5703,
   "latestVcsWkid": 5703
  }
 },
 "fullExtent": {
  "xmin": 402024,
  "ymin": 4649960,
  "xmax": 549688,
  "ymax": 4883680,
  "spatialReference": {
   "wkid": 26919,
   "latestWkid": 26919,
   "vcsWkid": 5703,
   "latestVcsWkid": 5703
  }
 },
 "heightModelInfo": {
  "heightModel": "gravity_related_height",
  "vertCRS": "NAVD88 height",
  "heightUnit": "meter"
 },
 "pixelSizeX": 8,
 "pixelSizeY": 8,
 "bandCount": 2,
 "pixelType": "F32",
 "minPixelSize": 0,
 "maxPixelSize": 0,
 "copyrightText": "NOAA Office of Coast Survey's National Bathymetry",
 "serviceDataType": "esriImageServiceDataTypeGeneric",
 "minValues": [
  -292.23116574436426,
  0.6530664212987176
 ],
 "maxValues": [
  59.08115277439356,
  308.2169409036651
 ],
 "meanValues": [
  -131.30641085212088,
  107.53007135287872
 ],
 "stdvValues": [
  60.69374524022505,
  113.57522739154916
 ],
 "objectIdField": "OBJECTID",
 "fields": [
  {
   "name": "OBJECTID",
   "type": "esriFieldTypeOID",
   "alias": "OBJECTID",
   "domain": null
  },
  {
   "name": "Shape",
   "type": "esriFieldTypeGeometry",
   "alias": "Shape",
   "domain": null
  },
  {
   "name": "Name",
   "type": "esriFieldTypeString",
   "alias": "Name",
   "domain": null,
   "length": 200
  },
  {
   "name": "MinPS",
   "type": "esriFieldTypeDouble",
   "alias": "MinPS",
   "domain": null
  },
  {
   "name": "MaxPS",
   "type": "esriFieldTypeDouble",
   "alias": "MaxPS",
   "domain": null
  },
  {
   "name": "LowPS",
   "type": "esriFieldTypeDouble",
   "alias": "LowPS",
   "domain": null
  },
  {
   "name": "HighPS",
   "type": "esriFieldTypeDouble",
   "alias": "HighPS",
   "domain": null
  },
  {
   "name": "Category",
   "type": "esriFieldTypeInteger",
   "alias": "Category",
   "domain": {
    "type": "codedValue",
    "name": "MosaicCatalogItemCategoryDomain",
    "description": "Catalog item categories.",
    "codedValues": [
     {
      "name": "Unknown",
      "code": 0
     },
     {
      "name": "Primary",
      "code": 1
     },
     {
      "name": "Overview",
      "code": 2
     },
     {
      "name": "Unprocessed Overview",
      "code": 3
     },
     {
      "name": "Partial Overview",
      "code": 4
     },
     {
      "name": "Inactive",
      "code": 5
     },
     {
      "name": "Uploaded",
      "code": 253
     },
     {
      "name": "Incomplete",
      "code": 254
     },
     {
      "name": "Custom",
      "code": 255
     }
    ],
    "mergePolicy": "esriMPTDefaultValue",
    "splitPolicy": "esriSPTDefaultValue"
   }
  },
  {
   "name": "Tag",
   "type": "esriFieldTypeString",
   "alias": "Tag",
   "domain": null,
   "length": 100
  },
  {
   "name": "GroupName",
   "type": "esriFieldTypeString",
   "alias": "GroupName",
   "domain": null,
   "length": 100
  },
  {
   "name": "ProductName",
   "type": "esriFieldTypeString",
   "alias": "ProductName",
   "domain": null,
   "length": 100
  },
  {
   "name": "CenterX",
   "type": "esriFieldTypeDouble",
   "alias": "CenterX",
   "domain": null
  },
  {
   "name": "CenterY",
   "type": "esriFieldTypeDouble",
   "alias": "CenterY",
   "domain": null
  },
  {
   "name": "ZOrder",
   "type": "esriFieldTypeInteger",
   "alias": "ZOrder",
   "domain": null
  },
  {
   "name": "Shape_Length",
   "type": "esriFieldTypeDouble",
   "alias": "Shape_Length",
   "domain": null
  },
  {
   "name": "Shape_Area",
   "type": "esriFieldTypeDouble",
   "alias": "Shape_Area",
   "domain": null
  },
  {
   "name": "Thumbnail",
   "type": "esriFieldTypeBlob",
   "alias": "Thumbnail",
   "domain": null
  }
 ],
 "capabilities": "Catalog,Image,Mensuration,Metadata,Pixels",
 "defaultMosaicMethod": "Northwest",
 "allowedMosaicMethods": "NorthWest,Center,LockRaster,ByAttribute,Nadir,Viewpoint,Seamline,None",
 "sortField": "",
 "sortValue": null,
 "sortAscending": true,
 "mosaicOperator": "First",
 "maxDownloadSizeLimit": 2048,
 "defaultCompressionQuality": 75,
 "defaultResamplingMethod": "Bilinear",
 "maxImageHeight": 4100,
 "maxImageWidth": 15000,
 "maxRecordCount": 1000,
 "maxDownloadImageCount": 20,
 "maxMosaicImageCount": 20,
 "allowRasterFunction": true,
 "rasterFunctionInfos": [
  {
   "name": "Coop Shaded Relief",
   "description": "Shaded relief visualization",
   "help": ""
  },
  {
   "name": "None",
   "description": "",
   "help": ""
  }
 ],
 "rasterTypeInfos": [
  {
   "name": "Raster Dataset",
   "description": "Supports all ArcGIS Raster Datasets",
   "help": ""
  }
 ],
 "mensurationCapabilities": "Basic",
 "hasHistograms": true,
 "hasColormap": false,
 "hasRasterAttributeTable": false,
 "minScale": 0,
 "maxScale": 0,
 "exportTilesAllowed": false,
 "hasMultidimensions": false,
 "supportsStatistics": true,
 "supportsAdvancedQueries": true,
 "editFieldsInfo": null,
 "ownershipBasedAccessControlForRasters": null,
 "allowComputeTiePoints": false,
 "useStandardizedQueries": true,
 "advancedQueryCapabilities": {
  "useStandardizedQueries": true,
  "supportsStatistics": true,
  "supportsOrderBy": true,
  "supportsDistinct": true,
  "supportsPagination": true
 },
 "spatialReference": {
  "wkid": 26919,
  "latestWkid": 26919,
  "vcsWkid": 5703,
  "latestVcsWkid": 5703
 }
}
