{
"currentVersion": 10.91,
"serviceDescription": "Not intended for end user client consumption and visualization. Service for Maine GeoLibrary Orthoimagery Discovery and Download App.<\/a>",
"name": "imageryBaseMapsEarthCover/Maine_Orthoimagery_Aggregate",
"description": "Not intended for end user client consumption and visualization. Service for Maine GeoLibrary Orthoimagery Discovery and Download App.<\/a>",
"extent": {
"xmin": 329509.9528323681,
"ymin": 4755966.742860634,
"xmax": 665154.1528320352,
"ymax": 5260762.942860133,
"spatialReference": {
"wkid": 26919,
"latestWkid": 26919,
"vcsWkid": 5703,
"latestVcsWkid": 5703
}
},
"initialExtent": {
"xmin": 329509.9528323681,
"ymin": 4755966.742860634,
"xmax": 665154.1528320352,
"ymax": 5260762.942860133,
"spatialReference": {
"wkid": 26919,
"latestWkid": 26919,
"vcsWkid": 5703,
"latestVcsWkid": 5703
}
},
"fullExtent": {
"xmin": 329509.9528323681,
"ymin": 4755966.742860634,
"xmax": 665154.1528320352,
"ymax": 5260762.942860133,
"spatialReference": {
"wkid": 26919,
"latestWkid": 26919,
"vcsWkid": 5703,
"latestVcsWkid": 5703
}
},
"heightModelInfo": {
"heightModel": "gravity_related_height",
"vertCRS": "NAVD_1988",
"heightUnit": "meter"
},
"hasMultidimensions": false,
"timeInfo": {
"startTimeField": "DateIntBegin",
"endTimeField": "DateIntEnd",
"timeExtent": [
-2208988800000,
1672531200000
],
"timeReference": null,
"defaultTimeInterval": 2,
"defaultTimeIntervalUnits": "esriTimeUnitsYears"
},
"pixelSizeX": 0.07499999999992561,
"pixelSizeY": 0.07499999999992558,
"datasetFormat": "AMD",
"uncompressedSize": 120484918550784,
"blockWidth": 2048,
"blockHeight": 256,
"compressionType": "None",
"bandNames": [
"Red",
"Green",
"Blue",
"Infrared"
],
"allowCopy": true,
"allowAnalysis": true,
"bandCount": 4,
"pixelType": "U8",
"minPixelSize": 0,
"maxPixelSize": 0,
"copyrightText": "Maine GeoLibrary, MaineGIS",
"serviceDataType": "esriImageServiceDataTypeProcessed",
"serviceSourceType": "esriImageServiceSourceTypeMosaicDataset",
"minValues": [
0,
0,
0,
0
],
"maxValues": [
255,
255,
255,
255
],
"meanValues": [
65.20687051290815,
68.38523460825783,
59.920732390136,
56.16359497994342
],
"stdvValues": [
61.0004968050046,
62.02716772728396,
53.788057882461054,
75.85585415901222
],
"objectIdField": "OBJECTID",
"fields": [
{
"name": "OBJECTID",
"type": "esriFieldTypeOID",
"alias": "OBJECTID",
"domain": null
},
{
"name": "Shape",
"type": "esriFieldTypeGeometry",
"alias": "Shape",
"domain": null
},
{
"name": "Name",
"type": "esriFieldTypeString",
"alias": "Name",
"domain": null,
"length": 200
},
{
"name": "MinPS",
"type": "esriFieldTypeDouble",
"alias": "MinPS",
"domain": null
},
{
"name": "MaxPS",
"type": "esriFieldTypeDouble",
"alias": "MaxPS",
"domain": null
},
{
"name": "LowPS",
"type": "esriFieldTypeDouble",
"alias": "LowPS",
"domain": null
},
{
"name": "HighPS",
"type": "esriFieldTypeDouble",
"alias": "HighPS",
"domain": null
},
{
"name": "Category",
"type": "esriFieldTypeInteger",
"alias": "Category",
"domain": {
"type": "codedValue",
"name": "MosaicCatalogItemCategoryDomain",
"description": "Catalog item categories.",
"codedValues": [
{
"name": "Unknown",
"code": 0
},
{
"name": "Primary",
"code": 1
},
{
"name": "Overview",
"code": 2
},
{
"name": "Unprocessed Overview",
"code": 3
},
{
"name": "Partial Overview",
"code": 4
},
{
"name": "Inactive",
"code": 5
},
{
"name": "Uploaded",
"code": 253
},
{
"name": "Incomplete",
"code": 254
},
{
"name": "Custom",
"code": 255
}
],
"mergePolicy": "esriMPTDefaultValue",
"splitPolicy": "esriSPTDefaultValue"
}
},
{
"name": "Tag",
"type": "esriFieldTypeString",
"alias": "Tag",
"domain": null,
"length": 100
},
{
"name": "GroupName",
"type": "esriFieldTypeString",
"alias": "GroupName",
"domain": null,
"length": 100
},
{
"name": "ProductName",
"type": "esriFieldTypeString",
"alias": "ProductName",
"domain": null,
"length": 100
},
{
"name": "CenterX",
"type": "esriFieldTypeDouble",
"alias": "CenterX",
"domain": null
},
{
"name": "CenterY",
"type": "esriFieldTypeDouble",
"alias": "CenterY",
"domain": null
},
{
"name": "ZOrder",
"type": "esriFieldTypeInteger",
"alias": "ZOrder",
"domain": null
},
{
"name": "DateBegin",
"type": "esriFieldTypeDate",
"alias": "DateBegin",
"domain": null,
"length": 8
},
{
"name": "DateEnd",
"type": "esriFieldTypeDate",
"alias": "DateEnd",
"domain": null,
"length": 8
},
{
"name": "DateIntBegin",
"type": "esriFieldTypeSmallInteger",
"alias": "DateIntBegin",
"domain": null
},
{
"name": "DateIntEnd",
"type": "esriFieldTypeSmallInteger",
"alias": "DateIntEnd",
"domain": null
},
{
"name": "Shape_Length",
"type": "esriFieldTypeDouble",
"alias": "Shape_Length",
"domain": null
},
{
"name": "Shape_Area",
"type": "esriFieldTypeDouble",
"alias": "Shape_Area",
"domain": null
}
],
"capabilities": "Catalog,Pixels,Download,Image,Metadata",
"defaultMosaicMethod": "Northwest",
"allowedMosaicMethods": "NorthWest,Center,ByAttribute,Nadir,Viewpoint,None",
"sortField": "",
"sortValue": null,
"sortAscending": true,
"mosaicOperator": "First",
"maxDownloadSizeLimit": 4096,
"defaultCompressionQuality": 87,
"defaultResamplingMethod": "Bilinear",
"maxImageHeight": 4100,
"maxImageWidth": 15000,
"maxRecordCount": 1000,
"maxDownloadImageCount": 100,
"maxMosaicImageCount": 20,
"allowRasterFunction": true,
"rasterFunctionInfos": [
{
"name": "None",
"description": "Make a Raster or Raster Dataset into a Function Raster Dataset.",
"help": ""
}
],
"rasterTypeInfos": [
{
"name": "Raster Dataset",
"description": "Supports all ArcGIS Raster Datasets",
"help": ""
}
],
"mensurationCapabilities": "",
"hasHistograms": true,
"hasColormap": false,
"hasRasterAttributeTable": false,
"minScale": 0,
"maxScale": 0,
"exportTilesAllowed": false,
"supportsStatistics": true,
"supportsAdvancedQueries": true,
"editFieldsInfo": null,
"ownershipBasedAccessControlForRasters": null,
"allowComputeTiePoints": false,
"useStandardizedQueries": true,
"advancedQueryCapabilities": {
"useStandardizedQueries": true,
"supportsStatistics": true,
"supportsOrderBy": true,
"supportsDistinct": true,
"supportsPagination": true
},
"spatialReference": {
"wkid": 26919,
"latestWkid": 26919,
"vcsWkid": 5703,
"latestVcsWkid": 5703
}
}