{
 "currentVersion": 11.3,
 "serviceDescription": "Maine Land Cover Dataset (MELCD) is a land cover map for Maine primarily derived from Landsat Thematic Mapper 5 and 7 imagery, from the years 1999-2001. This imagery constitutes the basis for the National Land Cover Dataset (NLCD 2001) and the NOAA Coastal Change Analysis Program (C-CAP). This land cover map was refined to the State of Maine requirements using SPOT 5 panchromatic imagery from 2004. The Landsat imagery used was for three seasons: early spring (leaf-off), summer, and early fall (senescence) and was collected with a spatial resolution of 30 m. The SPOT 5 panchromatic imagery was collected at a spatial resolution of 5 m during the spring and summer months of 2004. The map was developed in two distinct stages, the first stage was the development of a state wide land cover data set consistent with the NOAAC-CAP land cover map. The second stage was: a) the update to 2004 conditions, b) a refinement of the classification system to Maine specific classes and, c) a refinement of the spatial boundaries to create a polygon map based on 5 m imagery.",
 "name": "imageryBaseMapsEarthCover/earthCoverMelcd",
 "description": "Maine Land Cover Dataset (MELCD) is a land cover map for Maine primarily derived from Landsat Thematic Mapper 5 and 7 imagery, from the years 1999-2001. This imagery constitutes the basis for the National Land Cover Dataset (NLCD 2001) and the NOAA Coastal Change Analysis Program (C-CAP). This land cover map was refined to the State of Maine requirements using SPOT 5 panchromatic imagery from 2004. The Landsat imagery used was for three seasons: early spring (leaf-off), summer, and early fall (senescence) and was collected with a spatial resolution of 30 m. The SPOT 5 panchromatic imagery was collected at a spatial resolution of 5 m during the spring and summer months of 2004. The map was developed in two distinct stages, the first stage was the development of a state wide land cover data set consistent with the NOAAC-CAP land cover map. The second stage was: a) the update to 2004 conditions, b) a refinement of the classification system to Maine specific classes and, c) a refinement of the spatial boundaries to create a polygon map based on 5 m imagery.",
 "extent": {
  "xmin": 330862.5,
  "ymin": 4752672.5,
  "xmax": 667597.5,
  "ymax": 5256742.5,
  "spatialReference": {
   "wkid": 26919,
   "latestWkid": 26919
  }
 },
 "initialExtent": {
  "xmin": 330862.5,
  "ymin": 4752672.5,
  "xmax": 667597.5,
  "ymax": 5256742.5,
  "spatialReference": {
   "wkid": 26919,
   "latestWkid": 26919
  }
 },
 "fullExtent": {
  "xmin": 330862.5,
  "ymin": 4752672.5,
  "xmax": 667597.5,
  "ymax": 5256742.5,
  "spatialReference": {
   "wkid": 26919,
   "latestWkid": 26919
  }
 },
 "sortableFields": "",
 "bandCount": 1,
 "pixelType": "U8",
 "minValues": [],
 "maxValues": [],
 "meanValues": [],
 "stdvValues": [],
 "hasMultidimensions": false,
 "pixelSizeX": 5,
 "pixelSizeY": 5,
 "meanPixelSize": 5,
 "datasetFormat": "AMD",
 "uncompressedSize": 6789520458,
 "blockWidth": 2048,
 "blockHeight": 256,
 "compressionType": "None",
 "bandNames": [
  "Band_1"
 ],
 "allowCopy": true,
 "allowAnalysis": true,
 "itemAccess": false,
 "inspectionCapabilities": "",
 "minPixelSize": 0,
 "maxPixelSize": 0,
 "copyrightText": "MaineGIS",
 "serviceDataType": "esriImageServiceDataTypeThematic",
 "serviceSourceType": "esriImageServiceSourceTypeMosaicDataset",
 "objectIdField": "OBJECTID",
 "fields": [
  {
   "name": "OBJECTID",
   "type": "esriFieldTypeOID",
   "alias": "OBJECTID",
   "domain": null
  },
  {
   "name": "Shape",
   "type": "esriFieldTypeGeometry",
   "alias": "Shape",
   "domain": null
  },
  {
   "name": "Name",
   "type": "esriFieldTypeString",
   "alias": "Name",
   "domain": null,
   "length": 200
  },
  {
   "name": "MinPS",
   "type": "esriFieldTypeDouble",
   "alias": "MinPS",
   "domain": null
  },
  {
   "name": "MaxPS",
   "type": "esriFieldTypeDouble",
   "alias": "MaxPS",
   "domain": null
  },
  {
   "name": "LowPS",
   "type": "esriFieldTypeDouble",
   "alias": "LowPS",
   "domain": null
  },
  {
   "name": "HighPS",
   "type": "esriFieldTypeDouble",
   "alias": "HighPS",
   "domain": null
  },
  {
   "name": "Category",
   "type": "esriFieldTypeInteger",
   "alias": "Category",
   "domain": {
    "type": "codedValue",
    "name": "MosaicCatalogItemCategoryDomain",
    "description": "Catalog item categories.",
    "codedValues": [
     {
      "name": "Unknown",
      "code": 0
     },
     {
      "name": "Primary",
      "code": 1
     },
     {
      "name": "Overview",
      "code": 2
     },
     {
      "name": "Unprocessed Overview",
      "code": 3
     },
     {
      "name": "Partial Overview",
      "code": 4
     },
     {
      "name": "Inactive",
      "code": 5
     },
     {
      "name": "Uploaded",
      "code": 253
     },
     {
      "name": "Incomplete",
      "code": 254
     },
     {
      "name": "Custom",
      "code": 255
     }
    ],
    "mergePolicy": "esriMPTDefaultValue",
    "splitPolicy": "esriSPTDefaultValue"
   }
  },
  {
   "name": "Tag",
   "type": "esriFieldTypeString",
   "alias": "Tag",
   "domain": null,
   "length": 100
  },
  {
   "name": "GroupName",
   "type": "esriFieldTypeString",
   "alias": "GroupName",
   "domain": null,
   "length": 100
  },
  {
   "name": "ProductName",
   "type": "esriFieldTypeString",
   "alias": "ProductName",
   "domain": null,
   "length": 100
  },
  {
   "name": "CenterX",
   "type": "esriFieldTypeDouble",
   "alias": "CenterX",
   "domain": null
  },
  {
   "name": "CenterY",
   "type": "esriFieldTypeDouble",
   "alias": "CenterY",
   "domain": null
  },
  {
   "name": "ZOrder",
   "type": "esriFieldTypeInteger",
   "alias": "ZOrder",
   "domain": null
  }
 ],
 "capabilities": "Catalog,Pixels,Download,Image,Metadata",
 "defaultMosaicMethod": "Northwest",
 "allowedMosaicMethods": "NorthWest,Center,ByAttribute,Nadir,Viewpoint,None",
 "sortField": "",
 "sortValue": null,
 "sortAscending": true,
 "mosaicOperator": "First",
 "maxDownloadSizeLimit": 2048,
 "defaultCompressionQuality": 87,
 "defaultResamplingMethod": "Nearest",
 "maxImageHeight": 67347,
 "maxImageWidth": 100814,
 "maxRecordCount": 1000,
 "maxDownloadImageCount": 20,
 "maxMosaicImageCount": 20,
 "allowRasterFunction": true,
 "rasterFunctionInfos": [
  {
   "name": "None",
   "description": "A No-Op Function.",
   "help": ""
  },
  {
   "name": "None",
   "description": "A No-Op Function.",
   "help": ""
  }
 ],
 "rasterTypeInfos": [
  {
   "name": "Raster Dataset",
   "description": "Supports all ArcGIS Raster Datasets",
   "help": ""
  }
 ],
 "mensurationCapabilities": "None",
 "hasHistograms": false,
 "hasColormap": false,
 "hasRasterAttributeTable": true,
 "minScale": 0,
 "maxScale": 0,
 "exportTilesAllowed": false,
 "supportsStatistics": true,
 "supportsAdvancedQueries": true,
 "editFieldsInfo": null,
 "ownershipBasedAccessControlForRasters": null,
 "allowComputeTiePoints": false,
 "useStandardizedQueries": true,
 "advancedQueryCapabilities": {
  "useStandardizedQueries": true,
  "supportsStatistics": true,
  "supportsOrderBy": true,
  "supportsDistinct": true,
  "supportsPagination": true
 },
 "spatialReference": {
  "wkid": 26919,
  "latestWkid": 26919
 },
 "resampling": false
}
