{
 "currentVersion": 11.3,
 "serviceDescription": "The 2018 Casco Bay Orthoimagery dataset consists of orthophotography for the Casco Bay region of Maine. Imagery was collected on June 16 and June 17, 2018 at low tide. The Casco Bay Region covers the shoreline and islands from the westerly shore of Phippsburg to the easterly shore of Cape Elizabeth. The State of Maine DEP requested orthophotos that are untiled (scanline), four band (R, G, B, NIR). GeoTIFF images (with appropriate world file), with 30 cm ground sample distance (GSD) and a 2-foot horizontal spatial accuracy. The raw imagery was acquired using the Intergraph Digital Mapping Camera (DMC) mounted on a fixed wing aircraft at an elevation of approximately 9,500 feet. Digital ortho-rectified images were created from the digital aerial imagery, aerotriangulation results, and a digital elevation model. An orthoimage is remotely sensed image data in which displacement of features in the image caused by terrain relief and sensor orientation have been mathematically removed, thus it combines the image characteristics of a photograph with the geometric qualities of a map. The orthophotography was generated by contractors for the State of Maine DEP in partnership with the Casco Bay Estuary Partnership, the Maine Department of Agriculture, Conservation and Forestry Submerged Lands Program, The Nature Conservancy, and using funds from the Maine Department of Inland Fisheries and Wildlife's State Wildlife Grant program. Geomni, Inc. acquired the raw aerial photographs. Cornerstone Energy Services, Inc. processed the raw imagery to create the orthophotos and verify that quality assurance objectives were met.",
 "name": "imageryBaseMapsEarthCover/orthoCoastalCascoBay2018",
 "description": "The 2018 Casco Bay Orthoimagery dataset consists of orthophotography for the Casco Bay region of Maine. Imagery was collected on June 16 and June 17, 2018 at low tide. The Casco Bay Region covers the shoreline and islands from the westerly shore of Phippsburg to the easterly shore of Cape Elizabeth. The State of Maine DEP requested orthophotos that are untiled (scanline), four band (R, G, B, NIR). GeoTIFF images (with appropriate world file), with 30 cm ground sample distance (GSD) and a 2-foot horizontal spatial accuracy. The raw imagery was acquired using the Intergraph Digital Mapping Camera (DMC) mounted on a fixed wing aircraft at an elevation of approximately 9,500 feet. Digital ortho-rectified images were created from the digital aerial imagery, aerotriangulation results, and a digital elevation model. An orthoimage is remotely sensed image data in which displacement of features in the image caused by terrain relief and sensor orientation have been mathematically removed, thus it combines the image characteristics of a photograph with the geometric qualities of a map. The orthophotography was generated by contractors for the State of Maine DEP in partnership with the Casco Bay Estuary Partnership, the Maine Department of Agriculture, Conservation and Forestry Submerged Lands Program, The Nature Conservancy, and using funds from the Maine Department of Inland Fisheries and Wildlife's State Wildlife Grant program. Geomni, Inc. acquired the raw aerial photographs. Cornerstone Energy Services, Inc. processed the raw imagery to create the orthophotos and verify that quality assurance objectives were met.",
 "extent": {
  "xmin": 388999.48651001207,
  "ymin": 4821493.2180700665,
  "xmax": 437006.7057098185,
  "ymax": 4868000.211669879,
  "spatialReference": {
   "wkid": 26919,
   "latestWkid": 26919
  }
 },
 "initialExtent": {
  "xmin": 388999.48651001207,
  "ymin": 4821493.2180700665,
  "xmax": 437006.7057098185,
  "ymax": 4868000.211669879,
  "spatialReference": {
   "wkid": 26919,
   "latestWkid": 26919
  }
 },
 "fullExtent": {
  "xmin": 388999.48651001207,
  "ymin": 4821493.2180700665,
  "xmax": 437006.7057098185,
  "ymax": 4868000.211669879,
  "spatialReference": {
   "wkid": 26919,
   "latestWkid": 26919
  }
 },
 "sortableFields": "",
 "bandCount": 4,
 "pixelType": "U8",
 "minValues": [
  0,
  0,
  0,
  0
 ],
 "maxValues": [
  255,
  255,
  255,
  242
 ],
 "meanValues": [
  42.84364134901114,
  63.175287628803,
  62.53052105063573,
  82.43850749099155
 ],
 "stdvValues": [
  43.198633253530716,
  39.450059708933715,
  34.86622753251175,
  62.168972993508895
 ],
 "hasMultidimensions": false,
 "timeInfo": {
  "startTimeField": "DateBegin",
  "endTimeField": "DateEnd",
  "timeExtent": [
   1529107200000,
   1529193600000
  ],
  "timeReference": null,
  "defaultTimeInterval": 2,
  "defaultTimeIntervalUnits": "esriTimeUnitsDays"
 },
 "pixelSizeX": 0.30479999999877117,
 "pixelSizeY": 0.30479999999877117,
 "meanPixelSize": 0.30479999999877117,
 "datasetFormat": "AMD",
 "uncompressedSize": 96129101312,
 "blockWidth": 2048,
 "blockHeight": 256,
 "compressionType": "None",
 "bandNames": [
  "Red",
  "Green",
  "Blue",
  "Infrared"
 ],
 "allowCopy": true,
 "allowAnalysis": true,
 "itemAccess": false,
 "inspectionCapabilities": "",
 "minPixelSize": 0,
 "maxPixelSize": 0,
 "copyrightText": "MaineDEP, MaineDACF, MaineIFW, Maine GeoLibrary, Casco Bay Estuary Partnership, Nature Conservancy",
 "serviceDataType": "esriImageServiceDataTypeProcessed",
 "serviceSourceType": "esriImageServiceSourceTypeMosaicDataset",
 "objectIdField": "OBJECTID",
 "fields": [
  {
   "name": "OBJECTID",
   "type": "esriFieldTypeOID",
   "alias": "OBJECTID",
   "domain": null
  },
  {
   "name": "Shape",
   "type": "esriFieldTypeGeometry",
   "alias": "Shape",
   "domain": null
  },
  {
   "name": "Name",
   "type": "esriFieldTypeString",
   "alias": "Name",
   "domain": null,
   "length": 200
  },
  {
   "name": "MinPS",
   "type": "esriFieldTypeDouble",
   "alias": "MinPS",
   "domain": null
  },
  {
   "name": "MaxPS",
   "type": "esriFieldTypeDouble",
   "alias": "MaxPS",
   "domain": null
  },
  {
   "name": "LowPS",
   "type": "esriFieldTypeDouble",
   "alias": "LowPS",
   "domain": null
  },
  {
   "name": "HighPS",
   "type": "esriFieldTypeDouble",
   "alias": "HighPS",
   "domain": null
  },
  {
   "name": "Category",
   "type": "esriFieldTypeInteger",
   "alias": "Category",
   "domain": {
    "type": "codedValue",
    "name": "MosaicCatalogItemCategoryDomain",
    "description": "Catalog item categories.",
    "codedValues": [
     {
      "name": "Unknown",
      "code": 0
     },
     {
      "name": "Primary",
      "code": 1
     },
     {
      "name": "Overview",
      "code": 2
     },
     {
      "name": "Unprocessed Overview",
      "code": 3
     },
     {
      "name": "Partial Overview",
      "code": 4
     },
     {
      "name": "Inactive",
      "code": 5
     },
     {
      "name": "Uploaded",
      "code": 253
     },
     {
      "name": "Incomplete",
      "code": 254
     },
     {
      "name": "Custom",
      "code": 255
     }
    ],
    "mergePolicy": "esriMPTDefaultValue",
    "splitPolicy": "esriSPTDefaultValue"
   }
  },
  {
   "name": "Tag",
   "type": "esriFieldTypeString",
   "alias": "Tag",
   "domain": null,
   "length": 100
  },
  {
   "name": "GroupName",
   "type": "esriFieldTypeString",
   "alias": "GroupName",
   "domain": null,
   "length": 100
  },
  {
   "name": "ProductName",
   "type": "esriFieldTypeString",
   "alias": "ProductName",
   "domain": null,
   "length": 100
  },
  {
   "name": "CenterX",
   "type": "esriFieldTypeDouble",
   "alias": "CenterX",
   "domain": null
  },
  {
   "name": "CenterY",
   "type": "esriFieldTypeDouble",
   "alias": "CenterY",
   "domain": null
  },
  {
   "name": "ZOrder",
   "type": "esriFieldTypeInteger",
   "alias": "ZOrder",
   "domain": null
  },
  {
   "name": "Shape_Length",
   "type": "esriFieldTypeDouble",
   "alias": "Shape_Length",
   "domain": null
  },
  {
   "name": "Shape_Area",
   "type": "esriFieldTypeDouble",
   "alias": "Shape_Area",
   "domain": null
  },
  {
   "name": "DateBegin",
   "type": "esriFieldTypeDate",
   "alias": "DateBegin",
   "domain": null,
   "length": 8
  },
  {
   "name": "DateEnd",
   "type": "esriFieldTypeDate",
   "alias": "DateEnd",
   "domain": null,
   "length": 8
  },
  {
   "name": "DateIntBegin",
   "type": "esriFieldTypeSmallInteger",
   "alias": "DateIntBegin",
   "domain": null
  },
  {
   "name": "DateIntEnd",
   "type": "esriFieldTypeSmallInteger",
   "alias": "DateIntEnd",
   "domain": null
  },
  {
   "name": "LowTide",
   "type": "esriFieldTypeSmallInteger",
   "alias": "LowTide",
   "domain": null
  }
 ],
 "capabilities": "Catalog,Pixels,Download,Image,Metadata",
 "defaultMosaicMethod": "Northwest",
 "allowedMosaicMethods": "NorthWest,Center,ByAttribute,Nadir,Viewpoint,None",
 "sortField": "",
 "sortValue": null,
 "sortAscending": true,
 "mosaicOperator": "First",
 "maxDownloadSizeLimit": 2048,
 "defaultCompressionQuality": 87,
 "defaultResamplingMethod": "Bilinear",
 "maxImageHeight": 4100,
 "maxImageWidth": 15000,
 "maxRecordCount": 1000,
 "maxDownloadImageCount": 20,
 "maxMosaicImageCount": 20,
 "allowRasterFunction": true,
 "rasterFunctionInfos": [
  {
   "name": "None",
   "description": "A No-Op Function.",
   "help": ""
  }
 ],
 "rasterTypeInfos": [
  {
   "name": "Raster Dataset",
   "description": "Supports all ArcGIS Raster Datasets",
   "help": ""
  }
 ],
 "mensurationCapabilities": "None",
 "hasHistograms": true,
 "hasColormap": false,
 "hasRasterAttributeTable": false,
 "minScale": 0,
 "maxScale": 0,
 "exportTilesAllowed": false,
 "supportsStatistics": true,
 "supportsAdvancedQueries": true,
 "editFieldsInfo": null,
 "ownershipBasedAccessControlForRasters": null,
 "allowComputeTiePoints": false,
 "useStandardizedQueries": true,
 "advancedQueryCapabilities": {
  "useStandardizedQueries": true,
  "supportsStatistics": true,
  "supportsOrderBy": true,
  "supportsDistinct": true,
  "supportsPagination": true
 },
 "spatialReference": {
  "wkid": 26919,
  "latestWkid": 26919
 },
 "resampling": false
}
