{ "currentVersion": 11.3, "serviceDescription": "
Ortho-rectified Digital Images (ODIs) collected and processed by J. W. Sewall Co. These digital images result from ortho-rectification and mosaicking of digital color aerial photographs. Digital file features include high quality ground-level georeferencing, derived from accurate positioning and geometric corrections, and provide a digital photographic map suitable for applications requiring a 1:2400 National Map Accuracy Standard (NMAS). This service is available as a seamless mosaic. The imagery covers a portion of the Maine coastline at low tide (low water). Imagery created from scanned analog photography which was processed to for ortho-rectified mosaicks.<\/span><\/p><\/div><\/div><\/div>",
"name": "imageryBaseMapsEarthCover/orthoCoastalDownEastCoast2008",
"description": " Ortho-rectified Digital Images (ODIs) collected and processed by J. W. Sewall Co. These digital images result from ortho-rectification and mosaicking of digital color aerial photographs. Digital file features include high quality ground-level georeferencing, derived from accurate positioning and geometric corrections, and provide a digital photographic map suitable for applications requiring a 1:2400 National Map Accuracy Standard (NMAS). This service is available as a seamless mosaic. The imagery covers a portion of the Maine coastline at low tide (low water). Imagery created from scanned analog photography which was processed to for ortho-rectified mosaicks.<\/span><\/p><\/div><\/div><\/div>",
"extent": {
"xmin": 518074,
"ymin": 4871920.50012,
"xmax": 575700,
"ymax": 4938283.50012,
"spatialReference": {
"wkid": 26919,
"latestWkid": 26919
}
},
"initialExtent": {
"xmin": 518074,
"ymin": 4871920.50012,
"xmax": 575700,
"ymax": 4938283.50012,
"spatialReference": {
"wkid": 26919,
"latestWkid": 26919
}
},
"fullExtent": {
"xmin": 518074,
"ymin": 4871920.50012,
"xmax": 575700,
"ymax": 4938283.50012,
"spatialReference": {
"wkid": 26919,
"latestWkid": 26919
}
},
"sortableFields": "",
"bandCount": 4,
"pixelType": "U8",
"minValues": [
0,
0,
0,
0
],
"maxValues": [
254,
254,
254,
254
],
"meanValues": [
79.25216987941592,
94.69822230841989,
89.42556028975504,
89.42556028975504
],
"stdvValues": [
35.9583192871856,
28.89326182926427,
21.917133804185088,
21.917133804185088
],
"hasMultidimensions": false,
"timeInfo": {
"startTimeField": "Date",
"endTimeField": "Date",
"timeExtent": [
1219276800000,
1219276800000
],
"timeReference": null,
"defaultTimeInterval": 2,
"defaultTimeIntervalUnits": "esriTimeUnitsDays"
},
"pixelSizeX": 0.5,
"pixelSizeY": 0.5,
"meanPixelSize": 0.5,
"datasetFormat": "AMD",
"uncompressedSize": 61187747808,
"blockWidth": 2048,
"blockHeight": 256,
"compressionType": "None",
"bandNames": [
"Red",
"Green",
"Blue",
"Infrared"
],
"allowCopy": true,
"allowAnalysis": true,
"itemAccess": false,
"inspectionCapabilities": "",
"noDataValue": 0,
"noDataValues": [
0,
0,
0,
0
],
"minPixelSize": 0,
"maxPixelSize": 0,
"copyrightText": "MaineDMR, Maine GeoLibrary",
"serviceDataType": "esriImageServiceDataTypeProcessed",
"serviceSourceType": "esriImageServiceSourceTypeMosaicDataset",
"objectIdField": "OBJECTID",
"fields": [
{
"name": "OBJECTID",
"type": "esriFieldTypeOID",
"alias": "OBJECTID",
"domain": null
},
{
"name": "Shape",
"type": "esriFieldTypeGeometry",
"alias": "Shape",
"domain": null
},
{
"name": "Name",
"type": "esriFieldTypeString",
"alias": "Name",
"domain": null,
"length": 200
},
{
"name": "MinPS",
"type": "esriFieldTypeDouble",
"alias": "MinPS",
"domain": null
},
{
"name": "MaxPS",
"type": "esriFieldTypeDouble",
"alias": "MaxPS",
"domain": null
},
{
"name": "LowPS",
"type": "esriFieldTypeDouble",
"alias": "LowPS",
"domain": null
},
{
"name": "HighPS",
"type": "esriFieldTypeDouble",
"alias": "HighPS",
"domain": null
},
{
"name": "Category",
"type": "esriFieldTypeInteger",
"alias": "Category",
"domain": {
"type": "codedValue",
"name": "MosaicCatalogItemCategoryDomain",
"description": "Catalog item categories.",
"codedValues": [
{
"name": "Unknown",
"code": 0
},
{
"name": "Primary",
"code": 1
},
{
"name": "Overview",
"code": 2
},
{
"name": "Unprocessed Overview",
"code": 3
},
{
"name": "Partial Overview",
"code": 4
},
{
"name": "Inactive",
"code": 5
},
{
"name": "Uploaded",
"code": 253
},
{
"name": "Incomplete",
"code": 254
},
{
"name": "Custom",
"code": 255
}
],
"mergePolicy": "esriMPTDefaultValue",
"splitPolicy": "esriSPTDefaultValue"
}
},
{
"name": "Tag",
"type": "esriFieldTypeString",
"alias": "Tag",
"domain": null,
"length": 100
},
{
"name": "GroupName",
"type": "esriFieldTypeString",
"alias": "GroupName",
"domain": null,
"length": 100
},
{
"name": "ProductName",
"type": "esriFieldTypeString",
"alias": "ProductName",
"domain": null,
"length": 100
},
{
"name": "CenterX",
"type": "esriFieldTypeDouble",
"alias": "CenterX",
"domain": null
},
{
"name": "CenterY",
"type": "esriFieldTypeDouble",
"alias": "CenterY",
"domain": null
},
{
"name": "ZOrder",
"type": "esriFieldTypeInteger",
"alias": "ZOrder",
"domain": null
},
{
"name": "Shape_Length",
"type": "esriFieldTypeDouble",
"alias": "Shape_Length",
"domain": null
},
{
"name": "Shape_Area",
"type": "esriFieldTypeDouble",
"alias": "Shape_Area",
"domain": null
},
{
"name": "Date",
"type": "esriFieldTypeDate",
"alias": "Date",
"domain": null,
"length": 8
},
{
"name": "DateInt",
"type": "esriFieldTypeSmallInteger",
"alias": "DateInt",
"domain": null
}
],
"capabilities": "Catalog,Pixels,Download,Image,Metadata",
"defaultMosaicMethod": "Northwest",
"allowedMosaicMethods": "NorthWest,Center,ByAttribute,Nadir,Viewpoint,None",
"sortField": "",
"sortValue": null,
"sortAscending": true,
"mosaicOperator": "First",
"maxDownloadSizeLimit": 2048,
"defaultCompressionQuality": 87,
"defaultResamplingMethod": "Bilinear",
"maxImageHeight": 4100,
"maxImageWidth": 15000,
"maxRecordCount": 1000,
"maxDownloadImageCount": 20,
"maxMosaicImageCount": 20,
"allowRasterFunction": true,
"rasterFunctionInfos": [
{
"name": "None",
"description": "A No-Op Function.",
"help": ""
}
],
"rasterTypeInfos": [
{
"name": "Raster Dataset",
"description": "Supports all ArcGIS Raster Datasets",
"help": ""
}
],
"mensurationCapabilities": "None",
"hasHistograms": true,
"hasColormap": false,
"hasRasterAttributeTable": false,
"minScale": 0,
"maxScale": 0,
"exportTilesAllowed": false,
"supportsStatistics": true,
"supportsAdvancedQueries": true,
"editFieldsInfo": null,
"ownershipBasedAccessControlForRasters": null,
"allowComputeTiePoints": false,
"useStandardizedQueries": true,
"advancedQueryCapabilities": {
"useStandardizedQueries": true,
"supportsStatistics": true,
"supportsOrderBy": true,
"supportsDistinct": true,
"supportsPagination": true
},
"spatialReference": {
"wkid": 26919,
"latestWkid": 26919
},
"resampling": false
}