{ "currentVersion": 11.3, "serviceDescription": "
Provide an interpreted low-tide level imagery from which the tide line was interpreted. These data can be used in conjunction with other data layers for improving the understanding of the physical characteristics of the Penobscot Bay study area. This is part of a project titled 'Applications of Remote Sensing and Geographic Information Systems for Marine Resource Management in Penobscot Bay, Maine\u2019.Processing began at the National Geophysical Data Center, in Boulder, Colorado, an orthophoto mosaic was constructed using 76 aerial photographs obtained from NOAA's National Ocean Service, using Socet Set photogrammetric software. The photography was collected at low tide stage, on four dates in 1982 and 1983. After digital scanning the photography had a pixel resolution of 1.2 meters. After mosaicking, a vector layer of the interpreted low-tide line was delineated.<\/span><\/p><\/div><\/div><\/div>",
"name": "imageryBaseMapsEarthCover/orthoCoastalPenobscotBay1982And1983",
"description": " Provide an interpreted low-tide level imagery from which the tide line was interpreted. These data can be used in conjunction with other data layers for improving the understanding of the physical characteristics of the Penobscot Bay study area. This is part of a project titled 'Applications of Remote Sensing and Geographic Information Systems for Marine Resource Management in Penobscot Bay, Maine\u2019.Processing began at the National Geophysical Data Center, in Boulder, Colorado, an orthophoto mosaic was constructed using 76 aerial photographs obtained from NOAA's National Ocean Service, using Socet Set photogrammetric software. The photography was collected at low tide stage, on four dates in 1982 and 1983. After digital scanning the photography had a pixel resolution of 1.2 meters. After mosaicking, a vector layer of the interpreted low-tide line was delineated.<\/span><\/p><\/div><\/div><\/div>",
"extent": {
"xmin": 482357.20000000164,
"ymin": 4861244.200000001,
"xmax": 535399.5999999987,
"ymax": 4936115.799999997,
"spatialReference": {
"wkid": 26919,
"latestWkid": 26919
}
},
"initialExtent": {
"xmin": 482357.20000000164,
"ymin": 4861244.200000001,
"xmax": 535399.5999999987,
"ymax": 4936115.799999997,
"spatialReference": {
"wkid": 26919,
"latestWkid": 26919
}
},
"fullExtent": {
"xmin": 482357.20000000164,
"ymin": 4861244.200000001,
"xmax": 535399.5999999987,
"ymax": 4936115.799999997,
"spatialReference": {
"wkid": 26919,
"latestWkid": 26919
}
},
"sortableFields": "",
"bandCount": 1,
"pixelType": "U8",
"minValues": [
0
],
"maxValues": [
255
],
"meanValues": [
91.51438252071509
],
"stdvValues": [
51.37125238599743
],
"hasMultidimensions": false,
"timeInfo": {
"startTimeField": "Date",
"endTimeField": "Date",
"timeExtent": [
378691200000,
378691200000
],
"timeReference": null,
"defaultTimeInterval": 2,
"defaultTimeIntervalUnits": "esriTimeUnitsYears"
},
"pixelSizeX": 1.1999999999999333,
"pixelSizeY": 1.1999999999999342,
"meanPixelSize": 1.1999999999999338,
"datasetFormat": "AMD",
"uncompressedSize": 2757895386,
"blockWidth": 2048,
"blockHeight": 256,
"compressionType": "None",
"bandNames": [
"Band_1"
],
"allowCopy": true,
"allowAnalysis": true,
"itemAccess": false,
"inspectionCapabilities": "",
"noDataValue": 0,
"noDataValues": [
0
],
"minPixelSize": 0,
"maxPixelSize": 0,
"copyrightText": "NGDC, Maine GeoLibrary",
"serviceDataType": "esriImageServiceDataTypeProcessed",
"serviceSourceType": "esriImageServiceSourceTypeMosaicDataset",
"objectIdField": "OBJECTID",
"fields": [
{
"name": "OBJECTID",
"type": "esriFieldTypeOID",
"alias": "OBJECTID",
"domain": null
},
{
"name": "Shape",
"type": "esriFieldTypeGeometry",
"alias": "Shape",
"domain": null
},
{
"name": "Name",
"type": "esriFieldTypeString",
"alias": "Name",
"domain": null,
"length": 200
},
{
"name": "MinPS",
"type": "esriFieldTypeDouble",
"alias": "MinPS",
"domain": null
},
{
"name": "MaxPS",
"type": "esriFieldTypeDouble",
"alias": "MaxPS",
"domain": null
},
{
"name": "LowPS",
"type": "esriFieldTypeDouble",
"alias": "LowPS",
"domain": null
},
{
"name": "HighPS",
"type": "esriFieldTypeDouble",
"alias": "HighPS",
"domain": null
},
{
"name": "Category",
"type": "esriFieldTypeInteger",
"alias": "Category",
"domain": {
"type": "codedValue",
"name": "MosaicCatalogItemCategoryDomain",
"description": "Catalog item categories.",
"codedValues": [
{
"name": "Unknown",
"code": 0
},
{
"name": "Primary",
"code": 1
},
{
"name": "Overview",
"code": 2
},
{
"name": "Unprocessed Overview",
"code": 3
},
{
"name": "Partial Overview",
"code": 4
},
{
"name": "Inactive",
"code": 5
},
{
"name": "Uploaded",
"code": 253
},
{
"name": "Incomplete",
"code": 254
},
{
"name": "Custom",
"code": 255
}
],
"mergePolicy": "esriMPTDefaultValue",
"splitPolicy": "esriSPTDefaultValue"
}
},
{
"name": "Tag",
"type": "esriFieldTypeString",
"alias": "Tag",
"domain": null,
"length": 100
},
{
"name": "GroupName",
"type": "esriFieldTypeString",
"alias": "GroupName",
"domain": null,
"length": 100
},
{
"name": "ProductName",
"type": "esriFieldTypeString",
"alias": "ProductName",
"domain": null,
"length": 100
},
{
"name": "CenterX",
"type": "esriFieldTypeDouble",
"alias": "CenterX",
"domain": null
},
{
"name": "CenterY",
"type": "esriFieldTypeDouble",
"alias": "CenterY",
"domain": null
},
{
"name": "ZOrder",
"type": "esriFieldTypeInteger",
"alias": "ZOrder",
"domain": null
},
{
"name": "Shape_Length",
"type": "esriFieldTypeDouble",
"alias": "Shape_Length",
"domain": null
},
{
"name": "Shape_Area",
"type": "esriFieldTypeDouble",
"alias": "Shape_Area",
"domain": null
},
{
"name": "Date",
"type": "esriFieldTypeDate",
"alias": "Date",
"domain": null,
"length": 8
},
{
"name": "DateInt",
"type": "esriFieldTypeSmallInteger",
"alias": "DateInt",
"domain": null
}
],
"capabilities": "Catalog,Pixels,Download,Image,Metadata",
"defaultMosaicMethod": "Northwest",
"allowedMosaicMethods": "NorthWest,Center,ByAttribute,Nadir,Viewpoint,None",
"sortField": "",
"sortValue": null,
"sortAscending": true,
"mosaicOperator": "First",
"maxDownloadSizeLimit": 2048,
"defaultCompressionQuality": 87,
"defaultResamplingMethod": "Bilinear",
"maxImageHeight": 4100,
"maxImageWidth": 15000,
"maxRecordCount": 1000,
"maxDownloadImageCount": 20,
"maxMosaicImageCount": 20,
"allowRasterFunction": true,
"rasterFunctionInfos": [
{
"name": "None",
"description": "A No-Op Function.",
"help": ""
}
],
"rasterTypeInfos": [
{
"name": "Raster Dataset",
"description": "Supports all ArcGIS Raster Datasets",
"help": ""
}
],
"mensurationCapabilities": "None",
"hasHistograms": true,
"hasColormap": false,
"hasRasterAttributeTable": false,
"minScale": 0,
"maxScale": 0,
"exportTilesAllowed": false,
"supportsStatistics": true,
"supportsAdvancedQueries": true,
"editFieldsInfo": null,
"ownershipBasedAccessControlForRasters": null,
"allowComputeTiePoints": false,
"useStandardizedQueries": true,
"advancedQueryCapabilities": {
"useStandardizedQueries": true,
"supportsStatistics": true,
"supportsOrderBy": true,
"supportsDistinct": true,
"supportsPagination": true
},
"spatialReference": {
"wkid": 26919,
"latestWkid": 26919
},
"resampling": false
}