{ "currentVersion": 11.3, "serviceDescription": "
The U.S. Army Corps of Engineers collects (by themselves and contractors) and maintains LiDAR data including orthophotos in coastal areas of the United States and its territories. The Corps acquires this data in the course of performing its mission of Flood Control, Navigation, Environmental Engineering, and support for the Army and others. Digital orthophotos were produced with QuickBird high-resolution satellite imagery. The purpose of this survey was to obtain the existing conditions of the beach and near shore in support of the Joint Airborne LIDAR Bathymetric Technical Center of Expertise National Coastal mapping Program.<\/span><\/p><\/div><\/div>",
"name": "imageryBaseMapsEarthCover/orthoCoastalSouthCoast2008",
"description": " The U.S. Army Corps of Engineers collects (by themselves and contractors) and maintains LiDAR data including orthophotos in coastal areas of the United States and its territories. The Corps acquires this data in the course of performing its mission of Flood Control, Navigation, Environmental Engineering, and support for the Army and others. Digital orthophotos were produced with QuickBird high-resolution satellite imagery. The purpose of this survey was to obtain the existing conditions of the beach and near shore in support of the Joint Airborne LIDAR Bathymetric Technical Center of Expertise National Coastal mapping Program.<\/span><\/p><\/div><\/div>",
"extent": {
"xmin": 359563,
"ymin": 4767993,
"xmax": 443771,
"ymax": 4852311.5,
"spatialReference": {
"wkid": 26919,
"latestWkid": 26919
}
},
"initialExtent": {
"xmin": 359563,
"ymin": 4767993,
"xmax": 443771,
"ymax": 4852311.5,
"spatialReference": {
"wkid": 26919,
"latestWkid": 26919
}
},
"fullExtent": {
"xmin": 359563,
"ymin": 4767993,
"xmax": 443771,
"ymax": 4852311.5,
"spatialReference": {
"wkid": 26919,
"latestWkid": 26919
}
},
"sortableFields": "",
"bandCount": 3,
"pixelType": "U8",
"minValues": [
0,
0,
0
],
"maxValues": [
255,
255,
255
],
"meanValues": [
44.0141402636365,
48.02329393135452,
51.09668995596811
],
"stdvValues": [
48.34718468296477,
47.72863310707492,
41.87109939593243
],
"hasMultidimensions": false,
"timeInfo": {
"startTimeField": "DateBegin",
"endTimeField": "DateEnd",
"timeExtent": [
1213833600000,
1213833600000
],
"timeReference": null,
"defaultTimeInterval": 2,
"defaultTimeIntervalUnits": "esriTimeUnitsDays"
},
"pixelSizeX": 0.5,
"pixelSizeY": 0.5,
"meanPixelSize": 0.5,
"datasetFormat": "AMD",
"uncompressedSize": 85203506976,
"blockWidth": 2048,
"blockHeight": 256,
"compressionType": "None",
"bandNames": [
"Red",
"Green",
"Blue"
],
"allowCopy": true,
"allowAnalysis": true,
"itemAccess": false,
"inspectionCapabilities": "",
"minPixelSize": 0,
"maxPixelSize": 0,
"copyrightText": "Fugro Pelagos Inc, NOAA, Maine GeoLibrary",
"serviceDataType": "esriImageServiceDataTypeProcessed",
"serviceSourceType": "esriImageServiceSourceTypeMosaicDataset",
"objectIdField": "OBJECTID",
"fields": [
{
"name": "OBJECTID",
"type": "esriFieldTypeOID",
"alias": "OBJECTID",
"domain": null
},
{
"name": "Shape",
"type": "esriFieldTypeGeometry",
"alias": "Shape",
"domain": null
},
{
"name": "Name",
"type": "esriFieldTypeString",
"alias": "Name",
"domain": null,
"length": 200
},
{
"name": "MinPS",
"type": "esriFieldTypeDouble",
"alias": "MinPS",
"domain": null
},
{
"name": "MaxPS",
"type": "esriFieldTypeDouble",
"alias": "MaxPS",
"domain": null
},
{
"name": "LowPS",
"type": "esriFieldTypeDouble",
"alias": "LowPS",
"domain": null
},
{
"name": "HighPS",
"type": "esriFieldTypeDouble",
"alias": "HighPS",
"domain": null
},
{
"name": "Category",
"type": "esriFieldTypeInteger",
"alias": "Category",
"domain": {
"type": "codedValue",
"name": "MosaicCatalogItemCategoryDomain",
"description": "Catalog item categories.",
"codedValues": [
{
"name": "Unknown",
"code": 0
},
{
"name": "Primary",
"code": 1
},
{
"name": "Overview",
"code": 2
},
{
"name": "Unprocessed Overview",
"code": 3
},
{
"name": "Partial Overview",
"code": 4
},
{
"name": "Inactive",
"code": 5
},
{
"name": "Uploaded",
"code": 253
},
{
"name": "Incomplete",
"code": 254
},
{
"name": "Custom",
"code": 255
}
],
"mergePolicy": "esriMPTDefaultValue",
"splitPolicy": "esriSPTDefaultValue"
}
},
{
"name": "Tag",
"type": "esriFieldTypeString",
"alias": "Tag",
"domain": null,
"length": 100
},
{
"name": "GroupName",
"type": "esriFieldTypeString",
"alias": "GroupName",
"domain": null,
"length": 100
},
{
"name": "ProductName",
"type": "esriFieldTypeString",
"alias": "ProductName",
"domain": null,
"length": 100
},
{
"name": "CenterX",
"type": "esriFieldTypeDouble",
"alias": "CenterX",
"domain": null
},
{
"name": "CenterY",
"type": "esriFieldTypeDouble",
"alias": "CenterY",
"domain": null
},
{
"name": "ZOrder",
"type": "esriFieldTypeInteger",
"alias": "ZOrder",
"domain": null
},
{
"name": "DateBegin",
"type": "esriFieldTypeDate",
"alias": "DateBegin",
"domain": null,
"length": 8
},
{
"name": "DateEnd",
"type": "esriFieldTypeDate",
"alias": "DateEnd",
"domain": null,
"length": 8
},
{
"name": "DateIntBegin",
"type": "esriFieldTypeSmallInteger",
"alias": "DateIntBegin",
"domain": null
},
{
"name": "DateIntEnd",
"type": "esriFieldTypeSmallInteger",
"alias": "DateIntEnd",
"domain": null
},
{
"name": "Shape_Length",
"type": "esriFieldTypeDouble",
"alias": "Shape_Length",
"domain": null
},
{
"name": "Shape_Area",
"type": "esriFieldTypeDouble",
"alias": "Shape_Area",
"domain": null
}
],
"capabilities": "Catalog,Pixels,Download,Image,Metadata",
"defaultMosaicMethod": "Northwest",
"allowedMosaicMethods": "NorthWest,Center,ByAttribute,Nadir,Viewpoint,None",
"sortField": "",
"sortValue": null,
"sortAscending": true,
"mosaicOperator": "First",
"maxDownloadSizeLimit": 2048,
"defaultCompressionQuality": 87,
"defaultResamplingMethod": "Bilinear",
"maxImageHeight": 4100,
"maxImageWidth": 15000,
"maxRecordCount": 1000,
"maxDownloadImageCount": 20,
"maxMosaicImageCount": 20,
"allowRasterFunction": true,
"rasterFunctionInfos": [
{
"name": "None",
"description": "A No-Op Function.",
"help": ""
}
],
"rasterTypeInfos": [
{
"name": "Raster Dataset",
"description": "Supports all ArcGIS Raster Datasets",
"help": ""
}
],
"mensurationCapabilities": "None",
"hasHistograms": true,
"hasColormap": false,
"hasRasterAttributeTable": false,
"minScale": 0,
"maxScale": 0,
"exportTilesAllowed": false,
"supportsStatistics": true,
"supportsAdvancedQueries": true,
"editFieldsInfo": null,
"ownershipBasedAccessControlForRasters": null,
"allowComputeTiePoints": false,
"useStandardizedQueries": true,
"advancedQueryCapabilities": {
"useStandardizedQueries": true,
"supportsStatistics": true,
"supportsOrderBy": true,
"supportsDistinct": true,
"supportsPagination": true
},
"spatialReference": {
"wkid": 26919,
"latestWkid": 26919
},
"resampling": false
}