{ "currentVersion": 11.3, "serviceDescription": "
This is an image mosaic of true color imagery, 0.50 meter ground sample distance (GSD), high resolution digital orthophotographs produced from aerial photos collected over the coast of Maine in the summer of 2010. Each pixel represents a planimetric square 0.50 meter on a side on the ground. Aerial photography was flown at approximately 1,870 meters above mean ground level. Source elevation data were 30 meter Digital Elevation Models produced by the USGS from 1:24,000 scale elevation. The digital orthorectified images are referenced to North American Datum 1983, UTM Zone 19, expressed in units of meters. The completed orthorectified GeoTIFF files represent Digital Ortho Quarter Quad (DOQQ) sized sheets. Imagery tiles provide complete coverage of the Maine Department of Marine Resources (DMR) 2010 Eelgrass boundaries as defined by the Biddeford to Kittery project.<\/span><\/p><\/div><\/div><\/div>",
"name": "imageryBaseMapsEarthCover/orthoCoastalSouthCoast2010",
"description": " This is an image mosaic of true color imagery, 0.50 meter ground sample distance (GSD), high resolution digital orthophotographs produced from aerial photos collected over the coast of Maine in the summer of 2010. Each pixel represents a planimetric square 0.50 meter on a side on the ground. Aerial photography was flown at approximately 1,870 meters above mean ground level. Source elevation data were 30 meter Digital Elevation Models produced by the USGS from 1:24,000 scale elevation. The digital orthorectified images are referenced to North American Datum 1983, UTM Zone 19, expressed in units of meters. The completed orthorectified GeoTIFF files represent Digital Ortho Quarter Quad (DOQQ) sized sheets. Imagery tiles provide complete coverage of the Maine Department of Marine Resources (DMR) 2010 Eelgrass boundaries as defined by the Biddeford to Kittery project.<\/span><\/p><\/div><\/div><\/div>",
"extent": {
"xmin": 347325,
"ymin": 4765672,
"xmax": 393892,
"ymax": 4813811,
"spatialReference": {
"wkid": 26919,
"latestWkid": 26919
}
},
"initialExtent": {
"xmin": 347325,
"ymin": 4765672,
"xmax": 393892,
"ymax": 4813811,
"spatialReference": {
"wkid": 26919,
"latestWkid": 26919
}
},
"fullExtent": {
"xmin": 347325,
"ymin": 4765672,
"xmax": 393892,
"ymax": 4813811,
"spatialReference": {
"wkid": 26919,
"latestWkid": 26919
}
},
"sortableFields": "",
"bandCount": 4,
"pixelType": "U8",
"minValues": [
3,
3,
2,
2
],
"maxValues": [
237,
233,
235,
235
],
"meanValues": [
96.86037071777945,
97.849239223369,
81.1909702911124,
81.1909702911124
],
"stdvValues": [
31.431458495025804,
27.43467549447474,
24.912674882546195,
24.912674882546195
],
"hasMultidimensions": false,
"timeInfo": {
"startTimeField": "Date",
"endTimeField": "Date",
"timeExtent": [
1281744000000,
1281744000000
],
"timeReference": null,
"defaultTimeInterval": 2,
"defaultTimeIntervalUnits": "esriTimeUnitsDays"
},
"pixelSizeX": 0.5,
"pixelSizeY": 0.5,
"meanPixelSize": 0.5,
"datasetFormat": "AMD",
"uncompressedSize": 35867021008,
"blockWidth": 2048,
"blockHeight": 256,
"compressionType": "None",
"bandNames": [
"Red",
"Green",
"Blue",
"Infrared"
],
"allowCopy": true,
"allowAnalysis": true,
"itemAccess": false,
"inspectionCapabilities": "",
"noDataValue": 0,
"noDataValues": [
0,
0,
0,
0
],
"minPixelSize": 0,
"maxPixelSize": 0,
"copyrightText": "MaineDMR, Maine GeoLibrary",
"serviceDataType": "esriImageServiceDataTypeProcessed",
"serviceSourceType": "esriImageServiceSourceTypeMosaicDataset",
"objectIdField": "OBJECTID",
"fields": [
{
"name": "OBJECTID",
"type": "esriFieldTypeOID",
"alias": "OBJECTID",
"domain": null
},
{
"name": "Shape",
"type": "esriFieldTypeGeometry",
"alias": "Shape",
"domain": null
},
{
"name": "Name",
"type": "esriFieldTypeString",
"alias": "Name",
"domain": null,
"length": 200
},
{
"name": "MinPS",
"type": "esriFieldTypeDouble",
"alias": "MinPS",
"domain": null
},
{
"name": "MaxPS",
"type": "esriFieldTypeDouble",
"alias": "MaxPS",
"domain": null
},
{
"name": "LowPS",
"type": "esriFieldTypeDouble",
"alias": "LowPS",
"domain": null
},
{
"name": "HighPS",
"type": "esriFieldTypeDouble",
"alias": "HighPS",
"domain": null
},
{
"name": "Category",
"type": "esriFieldTypeInteger",
"alias": "Category",
"domain": {
"type": "codedValue",
"name": "MosaicCatalogItemCategoryDomain",
"description": "Catalog item categories.",
"codedValues": [
{
"name": "Unknown",
"code": 0
},
{
"name": "Primary",
"code": 1
},
{
"name": "Overview",
"code": 2
},
{
"name": "Unprocessed Overview",
"code": 3
},
{
"name": "Partial Overview",
"code": 4
},
{
"name": "Inactive",
"code": 5
},
{
"name": "Uploaded",
"code": 253
},
{
"name": "Incomplete",
"code": 254
},
{
"name": "Custom",
"code": 255
}
],
"mergePolicy": "esriMPTDefaultValue",
"splitPolicy": "esriSPTDefaultValue"
}
},
{
"name": "Tag",
"type": "esriFieldTypeString",
"alias": "Tag",
"domain": null,
"length": 100
},
{
"name": "GroupName",
"type": "esriFieldTypeString",
"alias": "GroupName",
"domain": null,
"length": 100
},
{
"name": "ProductName",
"type": "esriFieldTypeString",
"alias": "ProductName",
"domain": null,
"length": 100
},
{
"name": "CenterX",
"type": "esriFieldTypeDouble",
"alias": "CenterX",
"domain": null
},
{
"name": "CenterY",
"type": "esriFieldTypeDouble",
"alias": "CenterY",
"domain": null
},
{
"name": "ZOrder",
"type": "esriFieldTypeInteger",
"alias": "ZOrder",
"domain": null
},
{
"name": "Shape_Length",
"type": "esriFieldTypeDouble",
"alias": "Shape_Length",
"domain": null
},
{
"name": "Shape_Area",
"type": "esriFieldTypeDouble",
"alias": "Shape_Area",
"domain": null
},
{
"name": "Date",
"type": "esriFieldTypeDate",
"alias": "Date",
"domain": null,
"length": 8
},
{
"name": "DateInt",
"type": "esriFieldTypeSmallInteger",
"alias": "DateInt",
"domain": null
}
],
"capabilities": "Catalog,Pixels,Download,Image,Metadata",
"defaultMosaicMethod": "Northwest",
"allowedMosaicMethods": "NorthWest,Center,ByAttribute,Nadir,Viewpoint,None",
"sortField": "",
"sortValue": null,
"sortAscending": true,
"mosaicOperator": "First",
"maxDownloadSizeLimit": 2048,
"defaultCompressionQuality": 87,
"defaultResamplingMethod": "Bilinear",
"maxImageHeight": 4100,
"maxImageWidth": 15000,
"maxRecordCount": 1000,
"maxDownloadImageCount": 20,
"maxMosaicImageCount": 20,
"allowRasterFunction": true,
"rasterFunctionInfos": [
{
"name": "None",
"description": "A No-Op Function.",
"help": ""
}
],
"rasterTypeInfos": [
{
"name": "Raster Dataset",
"description": "Supports all ArcGIS Raster Datasets",
"help": ""
}
],
"mensurationCapabilities": "None",
"hasHistograms": true,
"hasColormap": false,
"hasRasterAttributeTable": false,
"minScale": 0,
"maxScale": 0,
"exportTilesAllowed": false,
"supportsStatistics": true,
"supportsAdvancedQueries": true,
"editFieldsInfo": null,
"ownershipBasedAccessControlForRasters": null,
"allowComputeTiePoints": false,
"useStandardizedQueries": true,
"advancedQueryCapabilities": {
"useStandardizedQueries": true,
"supportsStatistics": true,
"supportsOrderBy": true,
"supportsDistinct": true,
"supportsPagination": true
},
"spatialReference": {
"wkid": 26919,
"latestWkid": 26919
},
"resampling": false
}