View In:
ArcGIS JavaScript
ArcGIS Online Map Viewer
ArcGIS Earth
Service Description: This dataset consists of true color aerial imagery of the Pisctaqua coastal region between York, ME and Cape Elizabeth, ME and was captured at 14.5-cm GSD and used to produce high resolution 6” orthorectified imagery with a one-foot accuracy. Imagery was collected on June 28th and 29th, 2021, during low tide conditions and within two hours of spring tides. Additional atmospheric considerations that were considered before each lift included flying in a sun angle between 25 degrees and 50 degrees, no more than 10% cloud cover, and less than 10 knots of a maximum predicted wind velocity. Additionally, flights were only be dispatched after a precipitation-free period of at least 48 hours. The project area consisted of approximately 400 images on approximately 7 flight lines with 60% forelap and 30% sidelap. Airborne GPS and IMU were be utilized during the acquisition to improve the aerotriangulation solution. Raw imagery was acquired using the Vexcel Eagle 80-mm Mark 3 mounted on a fixed wing aircraft and flown at an elevation of approximately 9,500 feet. Digital ortho-rectified imagery was created using the raw digital aerial imagery, ground control, aerotriangulation, and a digital elevation model. Existing State of Maine ground control was utilized in the aerotriangulation solution for this project. These aerial survey products were under contract for the State of Maine Department of Environmental Protection. Bluesky Geospatial captured the raw aerial imagery and James W. Sewall processed the raw imagery to develop the aerotriangulation solution and to create digital orthophotos and related products. Normandeau Associates served as Aerial Survey Coordinator to verify that project specifications were met.
Name: imageryBaseMapsEarthCover/orthoCoastalSouthCoast2021
Description: This dataset consists of true color aerial imagery of the Pisctaqua coastal region between York, ME and Cape Elizabeth, ME and was captured at 14.5-cm GSD and used to produce high resolution 6” orthorectified imagery with a one-foot accuracy. Imagery was collected on June 28th and 29th, 2021, during low tide conditions and within two hours of spring tides. Additional atmospheric considerations that were considered before each lift included flying in a sun angle between 25 degrees and 50 degrees, no more than 10% cloud cover, and less than 10 knots of a maximum predicted wind velocity. Additionally, flights were only be dispatched after a precipitation-free period of at least 48 hours. The project area consisted of approximately 400 images on approximately 7 flight lines with 60% forelap and 30% sidelap. Airborne GPS and IMU were be utilized during the acquisition to improve the aerotriangulation solution. Raw imagery was acquired using the Vexcel Eagle 80-mm Mark 3 mounted on a fixed wing aircraft and flown at an elevation of approximately 9,500 feet. Digital ortho-rectified imagery was created using the raw digital aerial imagery, ground control, aerotriangulation, and a digital elevation model. Existing State of Maine ground control was utilized in the aerotriangulation solution for this project. These aerial survey products were under contract for the State of Maine Department of Environmental Protection. Bluesky Geospatial captured the raw aerial imagery and James W. Sewall processed the raw imagery to develop the aerotriangulation solution and to create digital orthophotos and related products. Normandeau Associates served as Aerial Survey Coordinator to verify that project specifications were met.
Single Fused Map Cache: false
Extent:
XMin: 346500.0
YMin: 4765500.0
XMax: 405000.0
YMax: 4833000.0
Spatial Reference: 26919
(26919)
LatestVCSWkid(0)
Initial Extent:
XMin: 346500.0
YMin: 4765500.0
XMax: 405000.0
YMax: 4833000.0
Spatial Reference: 26919
(26919)
LatestVCSWkid(0)
Full Extent:
XMin: 346500.0
YMin: 4765500.0
XMax: 405000.0
YMax: 4833000.0
Spatial Reference: 26919
(26919)
LatestVCSWkid(0)
Pixel Size X: 0.15
Pixel Size Y: 0.15
Band Count: 4
Pixel Type: U8
RasterFunction Infos: {"rasterFunctionInfos": [
{
"name": "None",
"description": "A No-Op Function.",
"help": ""
},
{
"name": "None",
"description": "A No-Op Function.",
"help": ""
}
]}
Mensuration Capabilities: None
Inspection Capabilities:
Has Histograms: true
Has Colormap: false
Has Multi Dimensions : false
Rendering Rule:
Min Scale: 0
Max Scale: 0
Resampling: false
Copyright Text: Orthophotos were produced for the State of Maine Department of Enviromental Protection. James W. Sewall and Normandeau Associates were primary contractors and Bluesky Geospatial was subcontracted for aerial imagery acquisition.
Service Data Type: esriImageServiceDataTypeGeneric
Min Values: 17, 48, 70, 4
Max Values: 253, 254, 254, 254
Mean Values: 92.49108414034195, 129.9765297923628, 140.94310765283768, 138.2400304478373
Standard Deviation Values: 51.89588990402183, 38.57371830714102, 28.265059103905354, 85.43731437683907
Object ID Field: OBJECTID
Fields:
-
OBJECTID
(
type: esriFieldTypeOID, alias: OBJECTID
)
-
Shape
(
type: esriFieldTypeGeometry, alias: Shape
)
-
Name
(
type: esriFieldTypeString, alias: Name, length: 200
)
-
MinPS
(
type: esriFieldTypeDouble, alias: MinPS
)
-
MaxPS
(
type: esriFieldTypeDouble, alias: MaxPS
)
-
LowPS
(
type: esriFieldTypeDouble, alias: LowPS
)
-
HighPS
(
type: esriFieldTypeDouble, alias: HighPS
)
-
Category
(
type: esriFieldTypeInteger, alias: Category
, Coded Values:
[0: Unknown]
, [1: Primary]
, [2: Overview]
, ...6 more...
)
-
Tag
(
type: esriFieldTypeString, alias: Tag, length: 100
)
-
GroupName
(
type: esriFieldTypeString, alias: GroupName, length: 100
)
-
ProductName
(
type: esriFieldTypeString, alias: ProductName, length: 100
)
-
CenterX
(
type: esriFieldTypeDouble, alias: CenterX
)
-
CenterY
(
type: esriFieldTypeDouble, alias: CenterY
)
-
ZOrder
(
type: esriFieldTypeInteger, alias: ZOrder
)
-
Shape_Length
(
type: esriFieldTypeDouble, alias: Shape_Length
)
-
Shape_Area
(
type: esriFieldTypeDouble, alias: Shape_Area
)
-
DateBegin
(
type: esriFieldTypeDate, alias: DateBegin, length: 8
)
-
DateEnd
(
type: esriFieldTypeDate, alias: DateEnd, length: 8
)
-
DateIntBegin
(
type: esriFieldTypeSmallInteger, alias: DateIntBegin
)
-
DateIntEnd
(
type: esriFieldTypeSmallInteger, alias: DateIntEnd
)
-
LowTide
(
type: esriFieldTypeSmallInteger, alias: LowTide
)
Default Mosaic Method: Northwest
Allowed Mosaic Methods: NorthWest,Center,LockRaster,ByAttribute,Nadir,Viewpoint,Seamline,None
SortField:
SortValue: null
Mosaic Operator: First
Default Compression Quality: 91
Default Resampling Method: Bilinear
Max Record Count: 1000
Max Image Height: 4100
Max Image Width: 15000
Max Download Image Count: 20
Max Mosaic Image Count: 20
Allow Raster Function: true
Allow Copy: true
Allow Analysis: true
Allow Compute TiePoints: false
Supports Statistics: true
Supports Advanced Queries: true
Use StandardizedQueries: true
Raster Type Infos:
Name: Raster Dataset
Description: Supports all ArcGIS Raster Datasets
Help:
Has Raster Attribute Table: false
Edit Fields Info: null
Ownership Based AccessControl For Rasters: null
Child Resources:
Info
Histograms
Statistics
Key Properties
Legend
Raster Function Infos
Supported Operations:
Export Image
Query
Identify
Download Rasters
Get Image Url
Compute Histograms
Compute Statistics Histograms
Get Samples
Compute Class Statistics
Query GPS Info
Find Images
Image to Map
Map to Image
Measure from Image
Image to Map Multiray
Query Boundary
Compute Pixel Location
Compute Angles
Validate
Project