{ "currentVersion": 11.3, "serviceDescription": "
This dataset consists of true color aerial imagery of the Pisctaqua coastal region between York, ME and Cape Elizabeth, ME and was captured at 14.5-cm GSD and used to produce high resolution 6\u201d orthorectified imagery with a one-foot accuracy. Imagery was collected on June 28th and 29th, 2021, during low tide conditions and within two hours of spring tides. Additional atmospheric considerations that were considered before each lift included flying in a sun angle between 25 degrees and 50 degrees, no more than 10% cloud cover, and less than 10 knots of a maximum predicted wind velocity. Additionally, flights were only be dispatched after a precipitation-free period of at least 48 hours. The project area consisted of approximately 400 images on approximately 7 flight lines with 60% forelap and 30% sidelap. Airborne GPS and IMU were be utilized during the acquisition to improve the aerotriangulation solution. Raw imagery was acquired using the Vexcel Eagle 80-mm Mark 3 mounted on a fixed wing aircraft and flown at an elevation of approximately 9,500 feet. Digital ortho-rectified imagery was created using the raw digital aerial imagery, ground control, aerotriangulation, and a digital elevation model. Existing State of Maine ground control was utilized in the aerotriangulation solution for this project. These aerial survey products were under contract for the State of Maine Department of Environmental Protection. Bluesky Geospatial captured the raw aerial imagery and James W. Sewall processed the raw imagery to develop the aerotriangulation solution and to create digital orthophotos and related products. Normandeau Associates served as Aerial Survey Coordinator to verify that project specifications were met.<\/span><\/span><\/p> <\/p><\/div><\/div><\/div>",
"name": "imageryBaseMapsEarthCover/orthoCoastalSouthCoast2021",
"description": " This dataset consists of true color aerial imagery of the Pisctaqua coastal region between York, ME and Cape Elizabeth, ME and was captured at 14.5-cm GSD and used to produce high resolution 6\u201d orthorectified imagery with a one-foot accuracy. Imagery was collected on June 28th and 29th, 2021, during low tide conditions and within two hours of spring tides. Additional atmospheric considerations that were considered before each lift included flying in a sun angle between 25 degrees and 50 degrees, no more than 10% cloud cover, and less than 10 knots of a maximum predicted wind velocity. Additionally, flights were only be dispatched after a precipitation-free period of at least 48 hours. The project area consisted of approximately 400 images on approximately 7 flight lines with 60% forelap and 30% sidelap. Airborne GPS and IMU were be utilized during the acquisition to improve the aerotriangulation solution. Raw imagery was acquired using the Vexcel Eagle 80-mm Mark 3 mounted on a fixed wing aircraft and flown at an elevation of approximately 9,500 feet. Digital ortho-rectified imagery was created using the raw digital aerial imagery, ground control, aerotriangulation, and a digital elevation model. Existing State of Maine ground control was utilized in the aerotriangulation solution for this project. These aerial survey products were under contract for the State of Maine Department of Environmental Protection. Bluesky Geospatial captured the raw aerial imagery and James W. Sewall processed the raw imagery to develop the aerotriangulation solution and to create digital orthophotos and related products. Normandeau Associates served as Aerial Survey Coordinator to verify that project specifications were met.<\/span><\/span><\/p> <\/p><\/div><\/div><\/div>",
"extent": {
"xmin": 346500,
"ymin": 4765500,
"xmax": 405000,
"ymax": 4833000,
"spatialReference": {
"wkid": 26919,
"latestWkid": 26919
}
},
"initialExtent": {
"xmin": 346500,
"ymin": 4765500,
"xmax": 405000,
"ymax": 4833000,
"spatialReference": {
"wkid": 26919,
"latestWkid": 26919
}
},
"fullExtent": {
"xmin": 346500,
"ymin": 4765500,
"xmax": 405000,
"ymax": 4833000,
"spatialReference": {
"wkid": 26919,
"latestWkid": 26919
}
},
"sortableFields": "MinPS,MaxPS,LowPS,HighPS,CenterX,CenterY,ZOrder,Shape_Length,Shape_Area,DateBegin,DateEnd,DateIntBegin,DateIntEnd,LowTide",
"bandCount": 4,
"pixelType": "U8",
"minValues": [
17,
48,
70,
4
],
"maxValues": [
253,
254,
254,
254
],
"meanValues": [
92.49108414034195,
129.9765297923628,
140.94310765283768,
138.2400304478373
],
"stdvValues": [
51.89588990402183,
38.57371830714102,
28.265059103905354,
85.43731437683907
],
"hasMultidimensions": false,
"pixelSizeX": 0.15,
"pixelSizeY": 0.15,
"meanPixelSize": 0.15,
"datasetFormat": "AMD",
"uncompressedSize": 702000000000,
"blockWidth": 2048,
"blockHeight": 256,
"compressionType": "None",
"bandNames": [
"Red",
"Green",
"Blue",
"Infrared"
],
"allowCopy": true,
"allowAnalysis": true,
"itemAccess": false,
"inspectionCapabilities": "",
"noDataValue": 255,
"noDataValues": [
255,
255,
255,
255
],
"minPixelSize": 0,
"maxPixelSize": 0,
"copyrightText": "Orthophotos were produced for the State of Maine Department of Enviromental Protection. James W. Sewall and Normandeau Associates were primary contractors and Bluesky Geospatial was subcontracted for aerial imagery acquisition.",
"serviceDataType": "esriImageServiceDataTypeGeneric",
"serviceSourceType": "esriImageServiceSourceTypeMosaicDataset",
"objectIdField": "OBJECTID",
"fields": [
{
"name": "OBJECTID",
"type": "esriFieldTypeOID",
"alias": "OBJECTID",
"domain": null
},
{
"name": "Shape",
"type": "esriFieldTypeGeometry",
"alias": "Shape",
"domain": null
},
{
"name": "Name",
"type": "esriFieldTypeString",
"alias": "Name",
"domain": null,
"length": 200
},
{
"name": "MinPS",
"type": "esriFieldTypeDouble",
"alias": "MinPS",
"domain": null
},
{
"name": "MaxPS",
"type": "esriFieldTypeDouble",
"alias": "MaxPS",
"domain": null
},
{
"name": "LowPS",
"type": "esriFieldTypeDouble",
"alias": "LowPS",
"domain": null
},
{
"name": "HighPS",
"type": "esriFieldTypeDouble",
"alias": "HighPS",
"domain": null
},
{
"name": "Category",
"type": "esriFieldTypeInteger",
"alias": "Category",
"domain": {
"type": "codedValue",
"name": "MosaicCatalogItemCategoryDomain",
"description": "Catalog item categories.",
"codedValues": [
{
"name": "Unknown",
"code": 0
},
{
"name": "Primary",
"code": 1
},
{
"name": "Overview",
"code": 2
},
{
"name": "Unprocessed Overview",
"code": 3
},
{
"name": "Partial Overview",
"code": 4
},
{
"name": "Inactive",
"code": 5
},
{
"name": "Uploaded",
"code": 253
},
{
"name": "Incomplete",
"code": 254
},
{
"name": "Custom",
"code": 255
}
],
"mergePolicy": "esriMPTDefaultValue",
"splitPolicy": "esriSPTDefaultValue"
}
},
{
"name": "Tag",
"type": "esriFieldTypeString",
"alias": "Tag",
"domain": null,
"length": 100
},
{
"name": "GroupName",
"type": "esriFieldTypeString",
"alias": "GroupName",
"domain": null,
"length": 100
},
{
"name": "ProductName",
"type": "esriFieldTypeString",
"alias": "ProductName",
"domain": null,
"length": 100
},
{
"name": "CenterX",
"type": "esriFieldTypeDouble",
"alias": "CenterX",
"domain": null
},
{
"name": "CenterY",
"type": "esriFieldTypeDouble",
"alias": "CenterY",
"domain": null
},
{
"name": "ZOrder",
"type": "esriFieldTypeInteger",
"alias": "ZOrder",
"domain": null
},
{
"name": "Shape_Length",
"type": "esriFieldTypeDouble",
"alias": "Shape_Length",
"domain": null
},
{
"name": "Shape_Area",
"type": "esriFieldTypeDouble",
"alias": "Shape_Area",
"domain": null
},
{
"name": "DateBegin",
"type": "esriFieldTypeDate",
"alias": "DateBegin",
"domain": null,
"length": 8
},
{
"name": "DateEnd",
"type": "esriFieldTypeDate",
"alias": "DateEnd",
"domain": null,
"length": 8
},
{
"name": "DateIntBegin",
"type": "esriFieldTypeSmallInteger",
"alias": "DateIntBegin",
"domain": null
},
{
"name": "DateIntEnd",
"type": "esriFieldTypeSmallInteger",
"alias": "DateIntEnd",
"domain": null
},
{
"name": "LowTide",
"type": "esriFieldTypeSmallInteger",
"alias": "LowTide",
"domain": null
}
],
"capabilities": "Catalog,Download,Image,Metadata",
"defaultMosaicMethod": "Northwest",
"allowedMosaicMethods": "NorthWest,Center,LockRaster,ByAttribute,Nadir,Viewpoint,Seamline,None",
"sortField": "",
"sortValue": null,
"sortAscending": true,
"mosaicOperator": "First",
"maxDownloadSizeLimit": 2048,
"defaultCompressionQuality": 91,
"defaultResamplingMethod": "Bilinear",
"maxImageHeight": 4100,
"maxImageWidth": 15000,
"maxRecordCount": 1000,
"maxDownloadImageCount": 20,
"maxMosaicImageCount": 20,
"allowRasterFunction": true,
"rasterFunctionInfos": [
{
"name": "None",
"description": "A No-Op Function.",
"help": ""
},
{
"name": "None",
"description": "A No-Op Function.",
"help": ""
}
],
"rasterTypeInfos": [
{
"name": "Raster Dataset",
"description": "Supports all ArcGIS Raster Datasets",
"help": ""
}
],
"mensurationCapabilities": "None",
"hasHistograms": true,
"hasColormap": false,
"hasRasterAttributeTable": false,
"minScale": 0,
"maxScale": 0,
"exportTilesAllowed": false,
"supportsStatistics": true,
"supportsAdvancedQueries": true,
"editFieldsInfo": null,
"ownershipBasedAccessControlForRasters": null,
"allowComputeTiePoints": false,
"useStandardizedQueries": true,
"advancedQueryCapabilities": {
"useStandardizedQueries": true,
"supportsStatistics": true,
"supportsOrderBy": true,
"supportsDistinct": true,
"supportsPagination": true
},
"spatialReference": {
"wkid": 26919,
"latestWkid": 26919
},
"resampling": false
}