View In:
  ArcGIS JavaScript
  ArcGIS Online Map Viewer
  ArcGIS Earth
Service Description:  ORTHO_BP contains high resolution QuickBird orthorectified satellite imagery from Digital Globe. The data are presented in 4 bands with pixel resolution of 60cm and horizontal accuracy of 2.3m.
 imageryBaseMapsEarthCover/orthoConservationBaxterStatePark2004
Description:  ORTHO_BP contains high resolution QuickBird orthorectified satellite imagery from Digital Globe. The data are presented in 4 bands with pixel resolution of 60cm and horizontal accuracy of 2.3m.
 false
Extent: 
XMin: 492586.0000000004
YMin: 5072752.000000003
XMax: 516429.99999999464
YMax: 5118732.999999992
Spatial Reference: 26919
 (26919)
 LatestVCSWkid(0)
Initial Extent:
XMin: 492586.0000000004
YMin: 5072752.000000003
XMax: 516429.99999999464
YMax: 5118732.999999992
Spatial Reference: 26919
 (26919)
 LatestVCSWkid(0)
Full Extent:
XMin: 492586.0000000004
YMin: 5072752.000000003
XMax: 516429.99999999464
YMax: 5118732.999999992
Spatial Reference: 26919
 (26919)
 LatestVCSWkid(0)
Time Info:
Start Time Field: Date
End Time Field: Date
Time Extent:
[2004/10/03 00:00:00 UTC, 2004/10/03 00:00:00 UTC]
Time Reference:
N/A
Pixel Size X: 0.599999999999855
Pixel Size Y:  0.5999999999998542
Band Count: 4
Pixel Type: U8
RasterFunction Infos:  {"rasterFunctionInfos": [{
 "name": "None",
 "description": "A No-Op Function.",
 "help": ""
}]}
Mensuration Capabilities: None
Inspection Capabilities: 
Has Histograms:  true
Has Colormap:  false
Has Multi Dimensions :  false
Rendering Rule: 
Min Scale:  0
Max Scale:  0
Resampling:  false
Copyright Text:  Maine GeoLibrary, Digital Globe, IAGT.
Service Data Type:  esriImageServiceDataTypeProcessed
Min Values:  0, 0, 0, 0
Max Values:  255, 255, 255, 255
Mean Values:  92.28414808262592, 111.07040743426711, 114.28054564514619, 114.28054564514619
Standard Deviation Values:  28.07863368990848, 28.999212139939946, 28.401389637384028, 28.401389637384028
Object ID Field:  OBJECTID
Fields: 
- 
OBJECTID
(
type: esriFieldTypeOID, alias: OBJECTID
)
- 
Shape
(
type: esriFieldTypeGeometry, alias: Shape
)
- 
Name
(
type: esriFieldTypeString, alias: Name, length: 200
)
- 
MinPS
(
type: esriFieldTypeDouble, alias: MinPS
)
- 
MaxPS
(
type: esriFieldTypeDouble, alias: MaxPS
)
- 
LowPS
(
type: esriFieldTypeDouble, alias: LowPS
)
- 
HighPS
(
type: esriFieldTypeDouble, alias: HighPS
)
- 
Category
(
type: esriFieldTypeInteger, alias: Category
, Coded Values: 
[0: Unknown]
, [1: Primary]
, [2: Overview]
, ...6 more...
)
- 
Tag
(
type: esriFieldTypeString, alias: Tag, length: 100
)
- 
GroupName
(
type: esriFieldTypeString, alias: GroupName, length: 100
)
- 
ProductName
(
type: esriFieldTypeString, alias: ProductName, length: 100
)
- 
CenterX
(
type: esriFieldTypeDouble, alias: CenterX
)
- 
CenterY
(
type: esriFieldTypeDouble, alias: CenterY
)
- 
ZOrder
(
type: esriFieldTypeInteger, alias: ZOrder
)
- 
Shape_Length
(
type: esriFieldTypeDouble, alias: Shape_Length
)
- 
Shape_Area
(
type: esriFieldTypeDouble, alias: Shape_Area
)
- 
Date
(
type: esriFieldTypeDate, alias: Date, length: 8
)
- 
DateInt
(
type: esriFieldTypeSmallInteger, alias: DateInt
)
Default Mosaic Method: Northwest
Allowed Mosaic Methods:  NorthWest,Center,ByAttribute,Nadir,Viewpoint,None
SortField:  
SortValue:  null
Mosaic Operator:  First
Default Compression Quality:  87
Default Resampling Method:  Bilinear
Max Record Count:  1000
Max Image Height:  4100
Max Image Width:  15000
Max Download Image Count:  20
Max Mosaic Image Count:  20
Allow Raster Function:  true
Allow Copy:  true
Allow Analysis:  true
Allow Compute TiePoints:  false
Supports Statistics:  true
Supports Advanced Queries:  true
Use StandardizedQueries:  true
Raster Type Infos: 
Name: Raster Dataset
Description: Supports all ArcGIS Raster Datasets
Help: 
Has Raster Attribute Table: false
Edit Fields Info:  null
Ownership Based AccessControl For Rasters:  null
Child Resources:
  
Info
  Histograms
  Statistics
  Key Properties
  Legend
  Raster Function Infos
Supported Operations:
  
Export Image
  Query
  Identify
  Compute Histograms
  Compute Statistics Histograms
  Get Samples
  Compute Class Statistics
  Query GPS Info
  Find Images
  Image to Map
  Map to Image
  Measure from Image
  Image to Map Multiray
  Query Boundary
  Compute Pixel Location
  Compute Angles
  Validate
  Project