View In:
  ArcGIS JavaScript
  ArcGIS Online Map Viewer
  ArcGIS Earth
Service Description:  Maine Orthoimagery Municipal aggregate 1991 - 2018. Auburn, Augusta, Bangor, Bar Harbor, Bath, Brunswick, Fort Fairfield, Hampden, Houlton, Kittery, Lewiston, Manchester, Ogunquit, Poland, Portland, Rockland, Skowhegan, South Portland, Topsham, Waterville, York
Name:  imageryBaseMapsEarthCover/orthoMunicipal
Description:  Maine Orthoimagery Municipal aggregate 1991 - 2018. Auburn, Augusta, Bangor, Bar Harbor, Bath, Brunswick, Fort Fairfield, Hampden, Houlton, Kittery, Lewiston, Manchester, Ogunquit, Poland, Portland, Rockland, Skowhegan, South Portland, Topsham, Waterville, York
Single Fused Map Cache:  false
Extent: 
XMin: 348375.0
YMin: 4768999.985300421
XMax: 594445.124999756
YMax: 5192299.010300001
Spatial Reference: 26919
 (26919)
 VCSWkid(5703)
 LatestVCSWkid(5703)
Initial Extent: 
XMin: 348375.0
YMin: 4768999.985300421
XMax: 594445.124999756
YMax: 5192299.010300001
Spatial Reference: 26919
 (26919)
 VCSWkid(5703)
 LatestVCSWkid(5703)
Full Extent: 
XMin: 348375.0
YMin: 4768999.985300421
XMax: 594445.124999756
YMax: 5192299.010300001
Spatial Reference: 26919
 (26919)
 VCSWkid(5703)
 LatestVCSWkid(5703)
Time Info: 
Start Time Field: DateBegin
End Time Field: DateEnd
Time Extent:
[1991/05/22 00:00:00 UTC, 2018/05/11 00:00:00 UTC]
Time Reference:
N/A
Pixel Size X:  0.07499999999992563
Pixel Size Y:  0.07499999999992564
Band Count: 4
Pixel Type: U8
RasterFunction Infos:  {"rasterFunctionInfos": [{
 "name": "None",
 "description": "A No-Op Function.",
 "help": ""
}]}
Mensuration Capabilities: 
Inspection Capabilities: 
Has Histograms:  true
Has Colormap:  false
Has Multi Dimensions :  false
Rendering Rule: 
Min Scale:  0
Max Scale:  0
Resampling:  false
Copyright Text:  Maine GeoLibrary
Service Data Type:  esriImageServiceDataTypeProcessed
Min Values:  0, 0, 0, 0
Max Values:  255, 255, 255, 255
Mean Values:  101.78471150361585, 103.55962365515062, 91.73592626922773, 101.79271817945424
Standard Deviation Values:  54.43879543714191, 51.48049315890018, 41.20996963376934, 54.43798479327278
Object ID Field:  OBJECTID
Fields: 
- 
OBJECTID
(
type: esriFieldTypeOID, alias: OBJECTID
)
 
- 
Shape
(
type: esriFieldTypeGeometry, alias: Shape
)
 
- 
Name
(
type: esriFieldTypeString, alias: Name, length: 200
)
 
- 
MinPS
(
type: esriFieldTypeDouble, alias: MinPS
)
 
- 
MaxPS
(
type: esriFieldTypeDouble, alias: MaxPS
)
 
- 
LowPS
(
type: esriFieldTypeDouble, alias: LowPS
)
 
- 
HighPS
(
type: esriFieldTypeDouble, alias: HighPS
)
 
- 
Category
(
type: esriFieldTypeInteger, alias: Category
, Coded Values: 
[0: Unknown]
, [1: Primary]
, [2: Overview]
, ...6 more...
)
 
- 
Tag
(
type: esriFieldTypeString, alias: Tag, length: 100
)
 
- 
GroupName
(
type: esriFieldTypeString, alias: GroupName, length: 100
)
 
- 
ProductName
(
type: esriFieldTypeString, alias: ProductName, length: 100
)
 
- 
CenterX
(
type: esriFieldTypeDouble, alias: CenterX
)
 
- 
CenterY
(
type: esriFieldTypeDouble, alias: CenterY
)
 
- 
ZOrder
(
type: esriFieldTypeInteger, alias: ZOrder
)
 
- 
Shape_Length
(
type: esriFieldTypeDouble, alias: Shape_Length
)
 
- 
Shape_Area
(
type: esriFieldTypeDouble, alias: Shape_Area
)
 
- 
DateBegin
(
type: esriFieldTypeDate, alias: DateBegin, length: 8
)
 
- 
DateEnd
(
type: esriFieldTypeDate, alias: DateEnd, length: 8
)
 
- 
DatIntBegin
(
type: esriFieldTypeSmallInteger, alias: DatIntBegin
)
 
- 
DateIntEnd
(
type: esriFieldTypeSmallInteger, alias: DateIntEnd
)
 
Default Mosaic Method:  Northwest
Allowed Mosaic Methods:  NorthWest,Center,ByAttribute,Nadir,Viewpoint
SortField:  
SortValue:  null
Mosaic Operator:  First
Default Compression Quality:  87
Default Resampling Method:  Bilinear
Max Record Count:  1000
Max Image Height:  4100
Max Image Width:  15000
Max Download Image Count:  20
Max Mosaic Image Count:  20
Allow Raster Function:  true
Allow Copy:  true
Allow Analysis:  true
Allow Compute TiePoints:  false
Supports Statistics:  true
Supports Advanced Queries:  true
Use StandardizedQueries:  true
Raster Type Infos: 
Name: Raster Dataset
Description: Supports all ArcGIS Raster Datasets
Help: 
Has Raster Attribute Table:  false
Edit Fields Info:  null
Ownership Based AccessControl For Rasters:  null
Child Resources:
  
Info
  Histograms
  Statistics
  Key Properties
  Legend
  Raster Function Infos
Supported Operations:
  
Export Image
  Query
  Identify
  Compute Histograms
  Compute Statistics Histograms
  Get Samples
  Compute Class Statistics
  Query GPS Info
  Find Images
  Image to Map
  Map to Image
  Measure from Image
  Image to Map Multiray
  Query Boundary
  Compute Pixel Location
  Compute Angles
  Validate
  Project