{ "currentVersion": 11.3, "serviceDescription": "
Orthoimagery at 1' and 6\" resolution encompassing all of Augusta, Manchester, Hallowell, Farmingdale, and Garinder, Maine. Portions of other adjacent towns are covered including Belgrade, Chelsea, Dresden, Litchfield, Pittston, Randolph, Readfield, Richmond, Sidney, Vassalboro, West Gardiner, Windsor, and Winthrop. The data were collected in a single session on May 6, 2008. LiDAR data were also collected and are available elsewhere. The 6\" imagery is available for the northern part of the area, Augusta and Manchester principally. 1' imagery is for the southern area of the collect. The data were collected and processed by James W. Sewall Co of Old Town, Maine. The LiDAR data were collected and processed by Photo Science, Inc., of Lexington, KY. The scale of 1:7920 was used to produce a mapping scale of 1\" = 660'.<\/span><\/p><\/div><\/div>",
"name": "imageryBaseMapsEarthCover/orthoMunicipalAugustaManchester2008",
"description": " Orthoimagery at 1' and 6\" resolution encompassing all of Augusta, Manchester, Hallowell, Farmingdale, and Garinder, Maine. Portions of other adjacent towns are covered including Belgrade, Chelsea, Dresden, Litchfield, Pittston, Randolph, Readfield, Richmond, Sidney, Vassalboro, West Gardiner, Windsor, and Winthrop. The data were collected in a single session on May 6, 2008. LiDAR data were also collected and are available elsewhere. The 6\" imagery is available for the northern part of the area, Augusta and Manchester principally. 1' imagery is for the southern area of the collect. The data were collected and processed by James W. Sewall Co of Old Town, Maine. The LiDAR data were collected and processed by Photo Science, Inc., of Lexington, KY. The scale of 1:7920 was used to produce a mapping scale of 1\" = 660'.<\/span><\/p><\/div><\/div>",
"extent": {
"xmin": 426000.00000000146,
"ymin": 4885500.000000001,
"xmax": 451499.9999999983,
"ymax": 4916999.999999997,
"spatialReference": {
"wkid": 26919,
"latestWkid": 26919
}
},
"initialExtent": {
"xmin": 426000.00000000146,
"ymin": 4885500.000000001,
"xmax": 451499.9999999983,
"ymax": 4916999.999999997,
"spatialReference": {
"wkid": 26919,
"latestWkid": 26919
}
},
"fullExtent": {
"xmin": 426000.00000000146,
"ymin": 4885500.000000001,
"xmax": 451499.9999999983,
"ymax": 4916999.999999997,
"spatialReference": {
"wkid": 26919,
"latestWkid": 26919
}
},
"sortableFields": "",
"bandCount": 3,
"pixelType": "U8",
"minValues": [
0,
1,
11
],
"maxValues": [
255,
255,
255
],
"meanValues": [
84.89346798134883,
92.95259085040419,
77.2994547742206
],
"stdvValues": [
26.70847312633267,
24.2050485060564,
23.146795247254357
],
"hasMultidimensions": false,
"pixelSizeX": 0.1499999999999815,
"pixelSizeY": 0.14999999999998226,
"meanPixelSize": 0.14999999999998187,
"datasetFormat": "AMD",
"uncompressedSize": 107100000000,
"blockWidth": 2048,
"blockHeight": 256,
"compressionType": "None",
"bandNames": [
"Band_1",
"Band_2",
"Band_3"
],
"allowCopy": true,
"allowAnalysis": true,
"itemAccess": false,
"inspectionCapabilities": "",
"minPixelSize": 0,
"maxPixelSize": 0,
"copyrightText": "Maine GeoLibrary",
"serviceDataType": "esriImageServiceDataTypeRGB",
"serviceSourceType": "esriImageServiceSourceTypeMosaicDataset",
"objectIdField": "OBJECTID",
"fields": [
{
"name": "OBJECTID",
"type": "esriFieldTypeOID",
"alias": "OBJECTID",
"domain": null
},
{
"name": "Shape",
"type": "esriFieldTypeGeometry",
"alias": "Shape",
"domain": null
},
{
"name": "Name",
"type": "esriFieldTypeString",
"alias": "Name",
"domain": null,
"length": 200
},
{
"name": "MinPS",
"type": "esriFieldTypeDouble",
"alias": "MinPS",
"domain": null
},
{
"name": "MaxPS",
"type": "esriFieldTypeDouble",
"alias": "MaxPS",
"domain": null
},
{
"name": "LowPS",
"type": "esriFieldTypeDouble",
"alias": "LowPS",
"domain": null
},
{
"name": "HighPS",
"type": "esriFieldTypeDouble",
"alias": "HighPS",
"domain": null
},
{
"name": "Category",
"type": "esriFieldTypeInteger",
"alias": "Category",
"domain": {
"type": "codedValue",
"name": "MosaicCatalogItemCategoryDomain",
"description": "Catalog item categories.",
"codedValues": [
{
"name": "Unknown",
"code": 0
},
{
"name": "Primary",
"code": 1
},
{
"name": "Overview",
"code": 2
},
{
"name": "Unprocessed Overview",
"code": 3
},
{
"name": "Partial Overview",
"code": 4
},
{
"name": "Inactive",
"code": 5
},
{
"name": "Uploaded",
"code": 253
},
{
"name": "Incomplete",
"code": 254
},
{
"name": "Custom",
"code": 255
}
],
"mergePolicy": "esriMPTDefaultValue",
"splitPolicy": "esriSPTDefaultValue"
}
},
{
"name": "Tag",
"type": "esriFieldTypeString",
"alias": "Tag",
"domain": null,
"length": 100
},
{
"name": "GroupName",
"type": "esriFieldTypeString",
"alias": "GroupName",
"domain": null,
"length": 100
},
{
"name": "ProductName",
"type": "esriFieldTypeString",
"alias": "ProductName",
"domain": null,
"length": 100
},
{
"name": "CenterX",
"type": "esriFieldTypeDouble",
"alias": "CenterX",
"domain": null
},
{
"name": "CenterY",
"type": "esriFieldTypeDouble",
"alias": "CenterY",
"domain": null
},
{
"name": "ZOrder",
"type": "esriFieldTypeInteger",
"alias": "ZOrder",
"domain": null
},
{
"name": "Shape_Length",
"type": "esriFieldTypeDouble",
"alias": "Shape_Length",
"domain": null
},
{
"name": "Shape_Area",
"type": "esriFieldTypeDouble",
"alias": "Shape_Area",
"domain": null
},
{
"name": "Date",
"type": "esriFieldTypeDate",
"alias": "Date",
"domain": null,
"length": 8
},
{
"name": "DateInt",
"type": "esriFieldTypeSmallInteger",
"alias": "DateInt",
"domain": null
}
],
"capabilities": "Catalog,Pixels,Download,Image,Metadata",
"defaultMosaicMethod": "Northwest",
"allowedMosaicMethods": "NorthWest,Center,ByAttribute,Nadir,Viewpoint,Seamline,None",
"sortField": "",
"sortValue": null,
"sortAscending": true,
"mosaicOperator": "First",
"maxDownloadSizeLimit": 2048,
"defaultCompressionQuality": 87,
"defaultResamplingMethod": "Bilinear",
"maxImageHeight": 4100,
"maxImageWidth": 15000,
"maxRecordCount": 1000,
"maxDownloadImageCount": 20,
"maxMosaicImageCount": 20,
"allowRasterFunction": true,
"rasterFunctionInfos": [
{
"name": "None",
"description": "A No-Op Function.",
"help": ""
}
],
"rasterTypeInfos": [
{
"name": "Raster Dataset",
"description": "Supports all ArcGIS Raster Datasets",
"help": ""
}
],
"mensurationCapabilities": "",
"hasHistograms": true,
"hasColormap": false,
"hasRasterAttributeTable": false,
"minScale": 0,
"maxScale": 0,
"exportTilesAllowed": false,
"supportsStatistics": true,
"supportsAdvancedQueries": true,
"editFieldsInfo": null,
"ownershipBasedAccessControlForRasters": null,
"allowComputeTiePoints": false,
"useStandardizedQueries": true,
"advancedQueryCapabilities": {
"useStandardizedQueries": true,
"supportsStatistics": true,
"supportsOrderBy": true,
"supportsDistinct": true,
"supportsPagination": true
},
"spatialReference": {
"wkid": 26919,
"latestWkid": 26919
},
"resampling": false
}