{ "currentVersion": 11.3, "serviceDescription": "
These are 1m black-and-white DOQQs for a large area centered on Bangor, ME from 1991-2. The DOQQs are 1m pixel resolution. Dates range from May 22, 1991 to Sept 13 1992.<\/span><\/p><\/div><\/div>",
"name": "imageryBaseMapsEarthCover/orthoMunicipalBangor1991",
"description": " These are 1m black-and-white DOQQs for a large area centered on Bangor, ME from 1991-2. The DOQQs are 1m pixel resolution. Dates range from May 22, 1991 to Sept 13 1992.<\/span><\/p><\/div><\/div>",
"extent": {
"xmin": 469951,
"ymin": 4940992,
"xmax": 549817,
"ymax": 5011151,
"spatialReference": {
"wkid": 26919,
"latestWkid": 26919,
"vcsWkid": 5703,
"latestVcsWkid": 5703
}
},
"initialExtent": {
"xmin": 469951,
"ymin": 4940992,
"xmax": 549817,
"ymax": 5011151,
"spatialReference": {
"wkid": 26919,
"latestWkid": 26919,
"vcsWkid": 5703,
"latestVcsWkid": 5703
}
},
"fullExtent": {
"xmin": 469951,
"ymin": 4940992,
"xmax": 549817,
"ymax": 5011151,
"spatialReference": {
"wkid": 26919,
"latestWkid": 26919,
"vcsWkid": 5703,
"latestVcsWkid": 5703
}
},
"sortableFields": "",
"heightModelInfo": {
"heightModel": "gravity_related_height",
"vertCRS": "NAVD_1988",
"heightUnit": "meter"
},
"bandCount": 1,
"pixelType": "U8",
"minValues": [
0
],
"maxValues": [
255
],
"meanValues": [
131.29413353410055
],
"stdvValues": [
32.307810496464164
],
"hasMultidimensions": false,
"timeInfo": {
"startTimeField": "Date",
"endTimeField": "Date",
"timeExtent": [
674870400000,
674870400000
],
"timeReference": null,
"defaultTimeInterval": 2,
"defaultTimeIntervalUnits": "esriTimeUnitsDays"
},
"pixelSizeX": 1,
"pixelSizeY": 1,
"meanPixelSize": 1,
"datasetFormat": "AMD",
"uncompressedSize": 5603318694,
"blockWidth": 2048,
"blockHeight": 256,
"compressionType": "None",
"bandNames": [
"Band_1"
],
"allowCopy": true,
"allowAnalysis": true,
"itemAccess": false,
"inspectionCapabilities": "",
"minPixelSize": 0,
"maxPixelSize": 0,
"copyrightText": "Maine GeoLibrary",
"serviceDataType": "esriImageServiceDataTypeGeneric",
"serviceSourceType": "esriImageServiceSourceTypeMosaicDataset",
"objectIdField": "OBJECTID",
"fields": [
{
"name": "OBJECTID",
"type": "esriFieldTypeOID",
"alias": "OBJECTID",
"domain": null
},
{
"name": "Shape",
"type": "esriFieldTypeGeometry",
"alias": "Shape",
"domain": null
},
{
"name": "Name",
"type": "esriFieldTypeString",
"alias": "Name",
"domain": null,
"length": 200
},
{
"name": "MinPS",
"type": "esriFieldTypeDouble",
"alias": "MinPS",
"domain": null
},
{
"name": "MaxPS",
"type": "esriFieldTypeDouble",
"alias": "MaxPS",
"domain": null
},
{
"name": "LowPS",
"type": "esriFieldTypeDouble",
"alias": "LowPS",
"domain": null
},
{
"name": "HighPS",
"type": "esriFieldTypeDouble",
"alias": "HighPS",
"domain": null
},
{
"name": "Category",
"type": "esriFieldTypeInteger",
"alias": "Category",
"domain": {
"type": "codedValue",
"name": "MosaicCatalogItemCategoryDomain",
"description": "Catalog item categories.",
"codedValues": [
{
"name": "Unknown",
"code": 0
},
{
"name": "Primary",
"code": 1
},
{
"name": "Overview",
"code": 2
},
{
"name": "Unprocessed Overview",
"code": 3
},
{
"name": "Partial Overview",
"code": 4
},
{
"name": "Inactive",
"code": 5
},
{
"name": "Uploaded",
"code": 253
},
{
"name": "Incomplete",
"code": 254
},
{
"name": "Custom",
"code": 255
}
],
"mergePolicy": "esriMPTDefaultValue",
"splitPolicy": "esriSPTDefaultValue"
}
},
{
"name": "Tag",
"type": "esriFieldTypeString",
"alias": "Tag",
"domain": null,
"length": 100
},
{
"name": "GroupName",
"type": "esriFieldTypeString",
"alias": "GroupName",
"domain": null,
"length": 100
},
{
"name": "ProductName",
"type": "esriFieldTypeString",
"alias": "ProductName",
"domain": null,
"length": 100
},
{
"name": "CenterX",
"type": "esriFieldTypeDouble",
"alias": "CenterX",
"domain": null
},
{
"name": "CenterY",
"type": "esriFieldTypeDouble",
"alias": "CenterY",
"domain": null
},
{
"name": "ZOrder",
"type": "esriFieldTypeInteger",
"alias": "ZOrder",
"domain": null
},
{
"name": "Shape_Length",
"type": "esriFieldTypeDouble",
"alias": "Shape_Length",
"domain": null
},
{
"name": "Shape_Area",
"type": "esriFieldTypeDouble",
"alias": "Shape_Area",
"domain": null
},
{
"name": "Date",
"type": "esriFieldTypeDate",
"alias": "Date",
"domain": null,
"length": 8
},
{
"name": "DateInt",
"type": "esriFieldTypeSmallInteger",
"alias": "DateInt",
"domain": null
}
],
"capabilities": "Catalog,Pixels,Download,Image,Metadata",
"defaultMosaicMethod": "Northwest",
"allowedMosaicMethods": "NorthWest,Center,ByAttribute,Nadir,Viewpoint,Seamline,None",
"sortField": "",
"sortValue": null,
"sortAscending": true,
"mosaicOperator": "First",
"maxDownloadSizeLimit": 2048,
"defaultCompressionQuality": 87,
"defaultResamplingMethod": "Bilinear",
"maxImageHeight": 4100,
"maxImageWidth": 15000,
"maxRecordCount": 1000,
"maxDownloadImageCount": 20,
"maxMosaicImageCount": 20,
"allowRasterFunction": true,
"rasterFunctionInfos": [
{
"name": "None",
"description": "A No-Op Function.",
"help": ""
}
],
"rasterTypeInfos": [
{
"name": "Raster Dataset",
"description": "Supports all ArcGIS Raster Datasets",
"help": ""
}
],
"mensurationCapabilities": "",
"hasHistograms": true,
"hasColormap": false,
"hasRasterAttributeTable": false,
"minScale": 0,
"maxScale": 0,
"exportTilesAllowed": false,
"supportsStatistics": true,
"supportsAdvancedQueries": true,
"editFieldsInfo": null,
"ownershipBasedAccessControlForRasters": null,
"allowComputeTiePoints": false,
"useStandardizedQueries": true,
"advancedQueryCapabilities": {
"useStandardizedQueries": true,
"supportsStatistics": true,
"supportsOrderBy": true,
"supportsDistinct": true,
"supportsPagination": true
},
"spatialReference": {
"wkid": 26919,
"latestWkid": 26919,
"vcsWkid": 5703,
"latestVcsWkid": 5703
},
"resampling": false
}