{ "currentVersion": 11.3, "serviceDescription": "

This is a leaf-off spring orthoimagery collection for Houlton from 2004. Pixel size is 0.5 ft. Flight Scales: 1\u201d = 660\u2019 and 1\u201d = 1200\u2019 Date of Photography: 5/8/2004 Camera: Serial Number: 144126, Focal Length: 153.330mm Control Accuracies: 1\u201d = 100\u2019 and 1\u201d = 200\u2019 Mapping Accuracies: 1\u201d = 100\u2019 and 1\u201d = 200\u2019 Flight Accuracies: 1\u201d = 200\u2019<\/span><\/p><\/div><\/div><\/div>", "name": "imageryBaseMapsEarthCover/orthoMunicipalHoulton2004", "description": "

This is a leaf-off spring orthoimagery collection for Houlton from 2004. Pixel size is 0.5 ft. Flight Scales: 1\u201d = 660\u2019 and 1\u201d = 1200\u2019 Date of Photography: 5/8/2004 Camera: Serial Number: 144126, Focal Length: 153.330mm Control Accuracies: 1\u201d = 100\u2019 and 1\u201d = 200\u2019 Mapping Accuracies: 1\u201d = 100\u2019 and 1\u201d = 200\u2019 Flight Accuracies: 1\u201d = 200\u2019<\/span><\/p><\/div><\/div><\/div>", "extent": { "xmin": 345713.98197866423, "ymin": 269807.9814833646, "xmax": 355810.48197866336, "ymax": 280408.9314833637, "spatialReference": { "wkid": 26983, "latestWkid": 26983, "vcsWkid": 5703, "latestVcsWkid": 5703 } }, "initialExtent": { "xmin": 345713.98197866423, "ymin": 269807.9814833646, "xmax": 355810.48197866336, "ymax": 280408.9314833637, "spatialReference": { "wkid": 26983, "latestWkid": 26983, "vcsWkid": 5703, "latestVcsWkid": 5703 } }, "fullExtent": { "xmin": 345713.98197866423, "ymin": 269807.9814833646, "xmax": 355810.48197866336, "ymax": 280408.9314833637, "spatialReference": { "wkid": 26983, "latestWkid": 26983, "vcsWkid": 5703, "latestVcsWkid": 5703 } }, "sortableFields": "", "heightModelInfo": { "heightModel": "gravity_related_height", "vertCRS": "NAVD_1988", "heightUnit": "meter" }, "bandCount": 3, "pixelType": "U8", "minValues": [ 0, 0, 0 ], "maxValues": [ 248, 255, 252 ], "meanValues": [ 106.31039239246401, 110.01725647236081, 83.55997836759516 ], "stdvValues": [ 46.97176487105782, 45.576900025120544, 37.44436860363444 ], "hasMultidimensions": false, "timeInfo": { "startTimeField": "Date", "endTimeField": "Date", "timeExtent": [ 1083974400000, 1083974400000 ], "timeReference": null, "defaultTimeInterval": 2, "defaultTimeIntervalUnits": "esriTimeUnitsDays" }, "pixelSizeX": 0.14999999999998703, "pixelSizeY": 0.14999999999998698, "meanPixelSize": 0.149999999999987, "datasetFormat": "AMD", "uncompressedSize": 14270998890, "blockWidth": 2048, "blockHeight": 256, "compressionType": "None", "bandNames": [ "Red", "Green", "Blue" ], "allowCopy": true, "allowAnalysis": true, "itemAccess": false, "inspectionCapabilities": "", "minPixelSize": 0, "maxPixelSize": 0, "copyrightText": "Maine GeoLibrary", "serviceDataType": "esriImageServiceDataTypeRGB", "serviceSourceType": "esriImageServiceSourceTypeMosaicDataset", "objectIdField": "OBJECTID", "fields": [ { "name": "OBJECTID", "type": "esriFieldTypeOID", "alias": "OBJECTID", "domain": null }, { "name": "Shape", "type": "esriFieldTypeGeometry", "alias": "Shape", "domain": null }, { "name": "Name", "type": "esriFieldTypeString", "alias": "Name", "domain": null, "length": 200 }, { "name": "MinPS", "type": "esriFieldTypeDouble", "alias": "MinPS", "domain": null }, { "name": "MaxPS", "type": "esriFieldTypeDouble", "alias": "MaxPS", "domain": null }, { "name": "LowPS", "type": "esriFieldTypeDouble", "alias": "LowPS", "domain": null }, { "name": "HighPS", "type": "esriFieldTypeDouble", "alias": "HighPS", "domain": null }, { "name": "Category", "type": "esriFieldTypeInteger", "alias": "Category", "domain": { "type": "codedValue", "name": "MosaicCatalogItemCategoryDomain", "description": "Catalog item categories.", "codedValues": [ { "name": "Unknown", "code": 0 }, { "name": "Primary", "code": 1 }, { "name": "Overview", "code": 2 }, { "name": "Unprocessed Overview", "code": 3 }, { "name": "Partial Overview", "code": 4 }, { "name": "Inactive", "code": 5 }, { "name": "Uploaded", "code": 253 }, { "name": "Incomplete", "code": 254 }, { "name": "Custom", "code": 255 } ], "mergePolicy": "esriMPTDefaultValue", "splitPolicy": "esriSPTDefaultValue" } }, { "name": "Tag", "type": "esriFieldTypeString", "alias": "Tag", "domain": null, "length": 100 }, { "name": "GroupName", "type": "esriFieldTypeString", "alias": "GroupName", "domain": null, "length": 100 }, { "name": "ProductName", "type": "esriFieldTypeString", "alias": "ProductName", "domain": null, "length": 100 }, { "name": "CenterX", "type": "esriFieldTypeDouble", "alias": "CenterX", "domain": null }, { "name": "CenterY", "type": "esriFieldTypeDouble", "alias": "CenterY", "domain": null }, { "name": "ZOrder", "type": "esriFieldTypeInteger", "alias": "ZOrder", "domain": null }, { "name": "Shape_Length", "type": "esriFieldTypeDouble", "alias": "Shape_Length", "domain": null }, { "name": "Shape_Area", "type": "esriFieldTypeDouble", "alias": "Shape_Area", "domain": null }, { "name": "Date", "type": "esriFieldTypeDate", "alias": "Date", "domain": null, "length": 8 }, { "name": "DateInt", "type": "esriFieldTypeSmallInteger", "alias": "DateInt", "domain": null } ], "capabilities": "Catalog,Pixels,Download,Image,Metadata", "defaultMosaicMethod": "Northwest", "allowedMosaicMethods": "NorthWest,Center,ByAttribute,Nadir,Viewpoint,None", "sortField": "", "sortValue": null, "sortAscending": true, "mosaicOperator": "First", "maxDownloadSizeLimit": 2048, "defaultCompressionQuality": 87, "defaultResamplingMethod": "Bilinear", "maxImageHeight": 4100, "maxImageWidth": 15000, "maxRecordCount": 1000, "maxDownloadImageCount": 20, "maxMosaicImageCount": 20, "allowRasterFunction": true, "rasterFunctionInfos": [ { "name": "None", "description": "A No-Op Function.", "help": "" } ], "rasterTypeInfos": [ { "name": "Raster Dataset", "description": "Supports all ArcGIS Raster Datasets", "help": "" } ], "mensurationCapabilities": "", "hasHistograms": true, "hasColormap": false, "hasRasterAttributeTable": false, "minScale": 0, "maxScale": 0, "exportTilesAllowed": false, "supportsStatistics": true, "supportsAdvancedQueries": true, "editFieldsInfo": null, "ownershipBasedAccessControlForRasters": null, "allowComputeTiePoints": false, "useStandardizedQueries": true, "advancedQueryCapabilities": { "useStandardizedQueries": true, "supportsStatistics": true, "supportsOrderBy": true, "supportsDistinct": true, "supportsPagination": true }, "spatialReference": { "wkid": 26983, "latestWkid": 26983, "vcsWkid": 5703, "latestVcsWkid": 5703 } }