{ "currentVersion": 11.3, "serviceDescription": "
2006 3\" pixel resolution orthoimagery of the cities of Lewiston/Auburn ME. Provided by the Maine Office of GIS and the Maine GeoLibrary Board. Lewiston/Auburn 2006 3\" orthoimagery - As the prime contractor, James W. Sewall Company. used the aerial photography flown in one session on April 9th, 2006. Data were collected at an altitude of 7200' using a 6\" Zeiss RMK camera with FMC. The film scale was 1\" = 600', scanned at a resolution of 2540dpi (10 microns). Orthophotos were produced to meet ASPRS class 1 specifications for 1\"=100' (1:1200) mapping, or a horizontal accuracy of about 1 foot with a 3-inch ground pixel resolution.<\/span><\/p><\/div><\/div>",
"name": "imageryBaseMapsEarthCover/orthoMunicipalLewistonAuburn2006",
"description": " 2006 3\" pixel resolution orthoimagery of the cities of Lewiston/Auburn ME. Provided by the Maine Office of GIS and the Maine GeoLibrary Board. Lewiston/Auburn 2006 3\" orthoimagery - As the prime contractor, James W. Sewall Company. used the aerial photography flown in one session on April 9th, 2006. Data were collected at an altitude of 7200' using a 6\" Zeiss RMK camera with FMC. The film scale was 1\" = 600', scanned at a resolution of 2540dpi (10 microns). Orthophotos were produced to meet ASPRS class 1 specifications for 1\"=100' (1:1200) mapping, or a horizontal accuracy of about 1 foot with a 3-inch ground pixel resolution.<\/span><\/p><\/div><\/div>",
"extent": {
"xmin": 885000.0000000069,
"ymin": 126430.20000000515,
"xmax": 904220.549999997,
"ymax": 157734.14999998917,
"spatialReference": {
"wkid": 26984,
"latestWkid": 26984,
"vcsWkid": 5703,
"latestVcsWkid": 5703
}
},
"initialExtent": {
"xmin": 885000.0000000069,
"ymin": 126430.20000000515,
"xmax": 904220.549999997,
"ymax": 157734.14999998917,
"spatialReference": {
"wkid": 26984,
"latestWkid": 26984,
"vcsWkid": 5703,
"latestVcsWkid": 5703
}
},
"fullExtent": {
"xmin": 885000.0000000069,
"ymin": 126430.20000000515,
"xmax": 904220.549999997,
"ymax": 157734.14999998917,
"spatialReference": {
"wkid": 26984,
"latestWkid": 26984,
"vcsWkid": 5703,
"latestVcsWkid": 5703
}
},
"sortableFields": "",
"heightModelInfo": {
"heightModel": "gravity_related_height",
"vertCRS": "NAVD_1988",
"heightUnit": "meter"
},
"bandCount": 3,
"pixelType": "U8",
"minValues": [
0,
0,
0
],
"maxValues": [
255,
255,
255
],
"meanValues": [
77.03427750331964,
85.40794916635734,
75.22190545799643
],
"stdvValues": [
41.789326090554,
40.363965020971435,
36.541113769698235
],
"hasMultidimensions": false,
"timeInfo": {
"startTimeField": "Date",
"endTimeField": "Date",
"timeExtent": [
1144540800000,
1144540800000
],
"timeReference": null,
"defaultTimeInterval": 2,
"defaultTimeIntervalUnits": "esriTimeUnitsDays"
},
"pixelSizeX": 0.07499999999996157,
"pixelSizeY": 0.07499999999996171,
"meanPixelSize": 0.07499999999996164,
"datasetFormat": "AMD",
"uncompressedSize": 320895539292,
"blockWidth": 2048,
"blockHeight": 256,
"compressionType": "None",
"bandNames": [
"Red",
"Green",
"Blue"
],
"allowCopy": true,
"allowAnalysis": true,
"itemAccess": false,
"inspectionCapabilities": "",
"minPixelSize": 0,
"maxPixelSize": 0,
"copyrightText": "Maine GeoLibrary",
"serviceDataType": "esriImageServiceDataTypeRGB",
"serviceSourceType": "esriImageServiceSourceTypeMosaicDataset",
"objectIdField": "OBJECTID",
"fields": [
{
"name": "OBJECTID",
"type": "esriFieldTypeOID",
"alias": "OBJECTID",
"domain": null
},
{
"name": "Shape",
"type": "esriFieldTypeGeometry",
"alias": "Shape",
"domain": null
},
{
"name": "Name",
"type": "esriFieldTypeString",
"alias": "Name",
"domain": null,
"length": 200
},
{
"name": "MinPS",
"type": "esriFieldTypeDouble",
"alias": "MinPS",
"domain": null
},
{
"name": "MaxPS",
"type": "esriFieldTypeDouble",
"alias": "MaxPS",
"domain": null
},
{
"name": "LowPS",
"type": "esriFieldTypeDouble",
"alias": "LowPS",
"domain": null
},
{
"name": "HighPS",
"type": "esriFieldTypeDouble",
"alias": "HighPS",
"domain": null
},
{
"name": "Category",
"type": "esriFieldTypeInteger",
"alias": "Category",
"domain": {
"type": "codedValue",
"name": "MosaicCatalogItemCategoryDomain",
"description": "Catalog item categories.",
"codedValues": [
{
"name": "Unknown",
"code": 0
},
{
"name": "Primary",
"code": 1
},
{
"name": "Overview",
"code": 2
},
{
"name": "Unprocessed Overview",
"code": 3
},
{
"name": "Partial Overview",
"code": 4
},
{
"name": "Inactive",
"code": 5
},
{
"name": "Uploaded",
"code": 253
},
{
"name": "Incomplete",
"code": 254
},
{
"name": "Custom",
"code": 255
}
],
"mergePolicy": "esriMPTDefaultValue",
"splitPolicy": "esriSPTDefaultValue"
}
},
{
"name": "Tag",
"type": "esriFieldTypeString",
"alias": "Tag",
"domain": null,
"length": 100
},
{
"name": "GroupName",
"type": "esriFieldTypeString",
"alias": "GroupName",
"domain": null,
"length": 100
},
{
"name": "ProductName",
"type": "esriFieldTypeString",
"alias": "ProductName",
"domain": null,
"length": 100
},
{
"name": "CenterX",
"type": "esriFieldTypeDouble",
"alias": "CenterX",
"domain": null
},
{
"name": "CenterY",
"type": "esriFieldTypeDouble",
"alias": "CenterY",
"domain": null
},
{
"name": "ZOrder",
"type": "esriFieldTypeInteger",
"alias": "ZOrder",
"domain": null
},
{
"name": "Shape_Length",
"type": "esriFieldTypeDouble",
"alias": "Shape_Length",
"domain": null
},
{
"name": "Shape_Area",
"type": "esriFieldTypeDouble",
"alias": "Shape_Area",
"domain": null
},
{
"name": "Date",
"type": "esriFieldTypeDate",
"alias": "Date",
"domain": null,
"length": 8
},
{
"name": "DateInt",
"type": "esriFieldTypeSmallInteger",
"alias": "DateInt",
"domain": null
}
],
"capabilities": "Catalog,Pixels,Download,Image,Metadata",
"defaultMosaicMethod": "Northwest",
"allowedMosaicMethods": "NorthWest,Center,ByAttribute,Nadir,Viewpoint,None",
"sortField": "",
"sortValue": null,
"sortAscending": true,
"mosaicOperator": "First",
"maxDownloadSizeLimit": 2048,
"defaultCompressionQuality": 87,
"defaultResamplingMethod": "Bilinear",
"maxImageHeight": 4100,
"maxImageWidth": 15000,
"maxRecordCount": 1000,
"maxDownloadImageCount": 20,
"maxMosaicImageCount": 20,
"allowRasterFunction": true,
"rasterFunctionInfos": [
{
"name": "None",
"description": "A No-Op Function.",
"help": ""
}
],
"rasterTypeInfos": [
{
"name": "Raster Dataset",
"description": "Supports all ArcGIS Raster Datasets",
"help": ""
}
],
"mensurationCapabilities": "",
"hasHistograms": true,
"hasColormap": false,
"hasRasterAttributeTable": false,
"minScale": 0,
"maxScale": 0,
"exportTilesAllowed": false,
"supportsStatistics": true,
"supportsAdvancedQueries": true,
"editFieldsInfo": null,
"ownershipBasedAccessControlForRasters": null,
"allowComputeTiePoints": false,
"useStandardizedQueries": true,
"advancedQueryCapabilities": {
"useStandardizedQueries": true,
"supportsStatistics": true,
"supportsOrderBy": true,
"supportsDistinct": true,
"supportsPagination": true
},
"spatialReference": {
"wkid": 26984,
"latestWkid": 26984,
"vcsWkid": 5703,
"latestVcsWkid": 5703
},
"resampling": false
}