View In:
ArcGIS JavaScript
ArcGIS Online Map Viewer
ArcGIS Earth
Service Description: 2007 orthoimagery collection for Rockland, Maine. The data were acquired 4/21/2007 under leaf-off, no-snow conditions. Photo scale is 1"=660', and was collected with 60% overlap and 30% sidelap, and scanned at 14 microns with a photgrammetric-grade scanner. The orthoimagery was created from the scanned aerials, the aerial camera calibration report, ground control and aerotriangulation data, and a digital terrain model. Imagery was delivered in MrSID format.
Name: imageryBaseMapsEarthCover/orthoMunicipalRockland2007
Description: 2007 orthoimagery collection for Rockland, Maine. The data were acquired 4/21/2007 under leaf-off, no-snow conditions. Photo scale is 1"=660', and was collected with 60% overlap and 30% sidelap, and scanned at 14 microns with a photgrammetric-grade scanner. The orthoimagery was created from the scanned aerials, the aerial camera calibration report, ground control and aerotriangulation data, and a digital terrain model. Imagery was delivered in MrSID format.
Single Fused Map Cache: false
Extent:
XMin: 245993.9500000002
YMin: 46176.900000000045
XMax: 254204.04999999987
YMax: 56540.99999999965
Spatial Reference: 26983
(26983)
VCSWkid(5703)
LatestVCSWkid(5703)
Initial Extent:
XMin: 245993.9500000002
YMin: 46176.900000000045
XMax: 254204.04999999987
YMax: 56540.99999999965
Spatial Reference: 26983
(26983)
VCSWkid(5703)
LatestVCSWkid(5703)
Full Extent:
XMin: 245993.9500000002
YMin: 46176.900000000045
XMax: 254204.04999999987
YMax: 56540.99999999965
Spatial Reference: 26983
(26983)
VCSWkid(5703)
LatestVCSWkid(5703)
Time Info:
Start Time Field: Date
End Time Field: Date
Time Extent:
[2007/04/21 00:00:00 UTC, 2007/04/21 00:00:00 UTC]
Time Reference:
N/A
Pixel Size X: 0.14999999999999425
Pixel Size Y: 0.1499999999999943
Band Count: 3
Pixel Type: U8
RasterFunction Infos: {"rasterFunctionInfos": [{
"name": "None",
"description": "A No-Op Function.",
"help": ""
}]}
Mensuration Capabilities:
Inspection Capabilities:
Has Histograms: true
Has Colormap: false
Has Multi Dimensions : false
Rendering Rule:
Min Scale: 0
Max Scale: 0
Copyright Text: Maine GeoLibrary
Service Data Type: esriImageServiceDataTypeRGB
Min Values: 0, 0, 0
Max Values: 255, 255, 255
Mean Values: 99.67108245040096, 105.74572220950739, 88.18627292595036
Standard Deviation Values: 50.63685349711103, 46.76987876971176, 47.26613981463726
Object ID Field: OBJECTID
Fields:
-
OBJECTID
(
type: esriFieldTypeOID, alias: OBJECTID
)
-
Shape
(
type: esriFieldTypeGeometry, alias: Shape
)
-
Name
(
type: esriFieldTypeString, alias: Name, length: 200
)
-
MinPS
(
type: esriFieldTypeDouble, alias: MinPS
)
-
MaxPS
(
type: esriFieldTypeDouble, alias: MaxPS
)
-
LowPS
(
type: esriFieldTypeDouble, alias: LowPS
)
-
HighPS
(
type: esriFieldTypeDouble, alias: HighPS
)
-
Category
(
type: esriFieldTypeInteger, alias: Category
, Coded Values:
[0: Unknown]
, [1: Primary]
, [2: Overview]
, ...6 more...
)
-
Tag
(
type: esriFieldTypeString, alias: Tag, length: 100
)
-
GroupName
(
type: esriFieldTypeString, alias: GroupName, length: 100
)
-
ProductName
(
type: esriFieldTypeString, alias: ProductName, length: 100
)
-
CenterX
(
type: esriFieldTypeDouble, alias: CenterX
)
-
CenterY
(
type: esriFieldTypeDouble, alias: CenterY
)
-
ZOrder
(
type: esriFieldTypeInteger, alias: ZOrder
)
-
Shape_Length
(
type: esriFieldTypeDouble, alias: Shape_Length
)
-
Shape_Area
(
type: esriFieldTypeDouble, alias: Shape_Area
)
-
Date
(
type: esriFieldTypeDate, alias: Date, length: 8
)
-
DateInt
(
type: esriFieldTypeSmallInteger, alias: DateInt
)
Default Mosaic Method: Northwest
Allowed Mosaic Methods: NorthWest,Center,ByAttribute,Nadir,Viewpoint,None
SortField:
SortValue: null
Mosaic Operator: First
Default Compression Quality: 87
Default Resampling Method: Bilinear
Max Record Count: 1000
Max Image Height: 4100
Max Image Width: 15000
Max Download Image Count: 20
Max Mosaic Image Count: 20
Allow Raster Function: true
Allow Copy: true
Allow Analysis: true
Allow Compute TiePoints: false
Supports Statistics: true
Supports Advanced Queries: true
Use StandardizedQueries: true
Raster Type Infos:
Name: Raster Dataset
Description: Supports all ArcGIS Raster Datasets
Help:
Has Raster Attribute Table: false
Edit Fields Info: null
Ownership Based AccessControl For Rasters: null
Child Resources:
Info
Histograms
Statistics
Key Properties
Legend
Raster Function Infos
Supported Operations:
Export Image
Query
Identify
Download Rasters
Get Image Url
Compute Histograms
Compute Statistics Histograms
Get Samples
Compute Class Statistics
Query GPS Info
Find Images
Image to Map
Map to Image
Measure from Image
Image to Map Multiray
Query Boundary
Compute Pixel Location
Compute Angles
Validate
Project