View In:
ArcGIS JavaScript
ArcGIS Online Map Viewer
ArcGIS Earth
Service Description: 2005 6" pixel resolution orthoimagery of South Portland from May 6, 2005. Provided by the Maine Office of GIS and the Maine GeoLibrary Board. As the prime contractor, Bradstreet Consultants, Inc. used the aerial photography flown in one session on May 6, 2005, by Richard Crouse & Associates, Inc. of Frederick, MD who acquired approximately 1335 photos @ 1"=600' with airborne GPS using a Wild RC-30 (#13261) aerial camera. Bradstreet Consultants, Inc. painted and repainted ground targets for photo survey control points (~200) to support full analytical aerotriangulation. The aerotriangulation solution was used to set up each stereopair of photos for orthorectification and DTM compilation. The ortho imagery was created by scanning (14 microns (um) per pixel or 1815 dpi) the original 1"=600' scale film and employing a digital terrain model (DTM) from updating some town's original DTM and some town's from scratch using the 1"=600' scale negatives or diapositives using both analytical and softcopy (digital) stereoplotter in the Kork KDMS format.
Name: imageryBaseMapsEarthCover/orthoMunicipalSouthPortland2005
Description: 2005 6" pixel resolution orthoimagery of South Portland from May 6, 2005. Provided by the Maine Office of GIS and the Maine GeoLibrary Board. As the prime contractor, Bradstreet Consultants, Inc. used the aerial photography flown in one session on May 6, 2005, by Richard Crouse & Associates, Inc. of Frederick, MD who acquired approximately 1335 photos @ 1"=600' with airborne GPS using a Wild RC-30 (#13261) aerial camera. Bradstreet Consultants, Inc. painted and repainted ground targets for photo survey control points (~200) to support full analytical aerotriangulation. The aerotriangulation solution was used to set up each stereopair of photos for orthorectification and DTM compilation. The ortho imagery was created by scanning (14 microns (um) per pixel or 1815 dpi) the original 1"=600' scale film and employing a digital terrain model (DTM) from updating some town's original DTM and some town's from scratch using the 1"=600' scale negatives or diapositives using both analytical and softcopy (digital) stereoplotter in the Kork KDMS format.
Single Fused Map Cache: false
Extent:
XMin: 883407.4500000105
YMin: 84749.55000000521
XMax: 895639.9499999984
YMax: 91440.07499999857
Spatial Reference: 26984
(26984)
VCSWkid(5703)
LatestVCSWkid(5703)
Initial Extent:
XMin: 883407.4500000105
YMin: 84749.55000000521
XMax: 895639.9499999984
YMax: 91440.07499999857
Spatial Reference: 26984
(26984)
VCSWkid(5703)
LatestVCSWkid(5703)
Full Extent:
XMin: 883407.4500000105
YMin: 84749.55000000521
XMax: 895639.9499999984
YMax: 91440.07499999857
Spatial Reference: 26984
(26984)
VCSWkid(5703)
LatestVCSWkid(5703)
Time Info:
Start Time Field: Date
End Time Field: Date
Time Extent:
[2005/05/06 00:00:00 UTC, 2005/05/06 00:00:00 UTC]
Time Reference:
N/A
Pixel Size X: 0.07499999999992576
Pixel Size Y: 0.07499999999992554
Band Count: 3
Pixel Type: U8
RasterFunction Infos: {"rasterFunctionInfos": [{
"name": "None",
"description": "A No-Op Function.",
"help": ""
}]}
Mensuration Capabilities: None
Inspection Capabilities:
Has Histograms: true
Has Colormap: false
Has Multi Dimensions : false
Rendering Rule:
Min Scale: 0
Max Scale: 0
Copyright Text: Maine GeoLibrary
Service Data Type: esriImageServiceDataTypeRGB
Min Values: 0, 0, 0
Max Values: 255, 255, 255
Mean Values: 122.47802587953325, 120.54289431064014, 91.53925261339302
Standard Deviation Values: 48.01527791023296, 47.606407475850204, 43.16937109219372
Object ID Field: OBJECTID
Fields:
-
OBJECTID
(
type: esriFieldTypeOID, alias: OBJECTID
)
-
Shape
(
type: esriFieldTypeGeometry, alias: Shape
)
-
Name
(
type: esriFieldTypeString, alias: Name, length: 200
)
-
MinPS
(
type: esriFieldTypeDouble, alias: MinPS
)
-
MaxPS
(
type: esriFieldTypeDouble, alias: MaxPS
)
-
LowPS
(
type: esriFieldTypeDouble, alias: LowPS
)
-
HighPS
(
type: esriFieldTypeDouble, alias: HighPS
)
-
Category
(
type: esriFieldTypeInteger, alias: Category
, Coded Values:
[0: Unknown]
, [1: Primary]
, [2: Overview]
, ...6 more...
)
-
Tag
(
type: esriFieldTypeString, alias: Tag, length: 100
)
-
GroupName
(
type: esriFieldTypeString, alias: GroupName, length: 100
)
-
ProductName
(
type: esriFieldTypeString, alias: ProductName, length: 100
)
-
CenterX
(
type: esriFieldTypeDouble, alias: CenterX
)
-
CenterY
(
type: esriFieldTypeDouble, alias: CenterY
)
-
ZOrder
(
type: esriFieldTypeInteger, alias: ZOrder
)
-
Shape_Length
(
type: esriFieldTypeDouble, alias: Shape_Length
)
-
Shape_Area
(
type: esriFieldTypeDouble, alias: Shape_Area
)
-
Date
(
type: esriFieldTypeDate, alias: Date, length: 8
)
-
DateInt
(
type: esriFieldTypeSmallInteger, alias: DateInt
)
Default Mosaic Method: Northwest
Allowed Mosaic Methods: NorthWest,Center,ByAttribute,Nadir,Viewpoint,None
SortField:
SortValue: null
Mosaic Operator: First
Default Compression Quality: 87
Default Resampling Method: Bilinear
Max Record Count: 1000
Max Image Height: 4100
Max Image Width: 15000
Max Download Image Count: 20
Max Mosaic Image Count: 20
Allow Raster Function: true
Allow Copy: true
Allow Analysis: true
Allow Compute TiePoints: false
Supports Statistics: true
Supports Advanced Queries: true
Use StandardizedQueries: true
Raster Type Infos:
Name: Raster Dataset
Description: Supports all ArcGIS Raster Datasets
Help:
Has Raster Attribute Table: false
Edit Fields Info: null
Ownership Based AccessControl For Rasters: null
Child Resources:
Info
Histograms
Statistics
Key Properties
Legend
Raster Function Infos
Supported Operations:
Export Image
Query
Identify
Download Rasters
Get Image Url
Compute Histograms
Compute Statistics Histograms
Get Samples
Compute Class Statistics
Query GPS Info
Find Images
Image to Map
Map to Image
Measure from Image
Image to Map Multiray
Query Boundary
Compute Pixel Location
Compute Angles
Validate
Project