{ "currentVersion": 11.3, "serviceDescription": "
Maine Statewide Orthoimagery Project - During the spring of 2022 the Woolpert team acquired new 4-band (R, G, B, and NIR). The imagery was acquired covering the entire project area using UltraCam Eagle digital camera systems. All imagery was collected during the 2022 spring flying season during leaf-off conditions for deciduous vegetation in the State of Maine. The sun angle shall be 25-degrees or greater, and streams should be within their normal banks, unless otherwise negotiated. During flight planning and acquisition, a significant effort is made to limit clouds, snow (please note: small amounts of snow such as piles in parking lots, extreme shaded areas, within dense evergreens or unpopulated northern facing slopes may be acceptable), fog, haze, smoke, or other ground obscuring conditions in the imagery. In no case will the maximum cloud cover exceed 5% per image. Within the immediate areas of power plants, factories, or controlled agricultural burns some steam or smoke and/or shadows may be visible on imagery. Woolpert produced new 8-bit, 4-band stacked color digital orthoimagery files in GeoTIFF format with TFW \u201cworld file\u201d at a 7.5cm (3-inch) and 15cm (6-inch).<\/span><\/p><\/div><\/div><\/div>",
"name": "imageryBaseMapsEarthCover/orthoMunicipalWeston2022",
"description": " Maine Statewide Orthoimagery Project - During the spring of 2022 the Woolpert team acquired new 4-band (R, G, B, and NIR). The imagery was acquired covering the entire project area using UltraCam Eagle digital camera systems. All imagery was collected during the 2022 spring flying season during leaf-off conditions for deciduous vegetation in the State of Maine. The sun angle shall be 25-degrees or greater, and streams should be within their normal banks, unless otherwise negotiated. During flight planning and acquisition, a significant effort is made to limit clouds, snow (please note: small amounts of snow such as piles in parking lots, extreme shaded areas, within dense evergreens or unpopulated northern facing slopes may be acceptable), fog, haze, smoke, or other ground obscuring conditions in the imagery. In no case will the maximum cloud cover exceed 5% per image. Within the immediate areas of power plants, factories, or controlled agricultural burns some steam or smoke and/or shadows may be visible on imagery. Woolpert produced new 8-bit, 4-band stacked color digital orthoimagery files in GeoTIFF format with TFW \u201cworld file\u201d at a 7.5cm (3-inch) and 15cm (6-inch).<\/span><\/p><\/div><\/div><\/div>",
"extent": {
"xmin": 582000,
"ymin": 5057250,
"xmax": 595500,
"ymax": 5071500,
"spatialReference": {
"wkid": 26919,
"latestWkid": 26919
}
},
"initialExtent": {
"xmin": 582000,
"ymin": 5057250,
"xmax": 595500,
"ymax": 5071500,
"spatialReference": {
"wkid": 26919,
"latestWkid": 26919
}
},
"fullExtent": {
"xmin": 582000,
"ymin": 5057250,
"xmax": 595500,
"ymax": 5071500,
"spatialReference": {
"wkid": 26919,
"latestWkid": 26919
}
},
"sortableFields": "MinPS,MaxPS,LowPS,HighPS,CenterX,CenterY,ZOrder,Shape_Length,Shape_Area,DateBegin,DateEnd,DateIntBegin,DateIntEnd",
"bandCount": 4,
"pixelType": "U8",
"minValues": [
0,
0,
0,
0
],
"maxValues": [
246,
244,
250,
255
],
"meanValues": [
129.21495900000545,
123.903754000001,
131.13314600000513,
210.496594999997
],
"stdvValues": [
39.82466398642902,
30.01040941627043,
24.614718605480277,
23.701600034003917
],
"hasMultidimensions": false,
"pixelSizeX": 0.15,
"pixelSizeY": 0.15,
"meanPixelSize": 0.15,
"datasetFormat": "AMD",
"uncompressedSize": 34200000000,
"blockWidth": 2048,
"blockHeight": 256,
"compressionType": "None",
"bandNames": [
"Band_1",
"Band_2",
"Band_3",
"Band_4"
],
"allowCopy": true,
"allowAnalysis": true,
"itemAccess": false,
"inspectionCapabilities": "",
"minPixelSize": 0,
"maxPixelSize": 0,
"copyrightText": "Maine GeoLibrary",
"serviceDataType": "esriImageServiceDataTypeGeneric",
"serviceSourceType": "esriImageServiceSourceTypeMosaicDataset",
"objectIdField": "OBJECTID",
"fields": [
{
"name": "OBJECTID",
"type": "esriFieldTypeOID",
"alias": "OBJECTID",
"domain": null
},
{
"name": "Shape",
"type": "esriFieldTypeGeometry",
"alias": "Shape",
"domain": null
},
{
"name": "Name",
"type": "esriFieldTypeString",
"alias": "Name",
"domain": null,
"length": 200
},
{
"name": "MinPS",
"type": "esriFieldTypeDouble",
"alias": "MinPS",
"domain": null
},
{
"name": "MaxPS",
"type": "esriFieldTypeDouble",
"alias": "MaxPS",
"domain": null
},
{
"name": "LowPS",
"type": "esriFieldTypeDouble",
"alias": "LowPS",
"domain": null
},
{
"name": "HighPS",
"type": "esriFieldTypeDouble",
"alias": "HighPS",
"domain": null
},
{
"name": "Category",
"type": "esriFieldTypeInteger",
"alias": "Category",
"domain": {
"type": "codedValue",
"name": "MosaicCatalogItemCategoryDomain",
"description": "Catalog item categories.",
"codedValues": [
{
"name": "Unknown",
"code": 0
},
{
"name": "Primary",
"code": 1
},
{
"name": "Overview",
"code": 2
},
{
"name": "Unprocessed Overview",
"code": 3
},
{
"name": "Partial Overview",
"code": 4
},
{
"name": "Inactive",
"code": 5
},
{
"name": "Uploaded",
"code": 253
},
{
"name": "Incomplete",
"code": 254
},
{
"name": "Custom",
"code": 255
}
],
"mergePolicy": "esriMPTDefaultValue",
"splitPolicy": "esriSPTDefaultValue"
}
},
{
"name": "Tag",
"type": "esriFieldTypeString",
"alias": "Tag",
"domain": null,
"length": 100
},
{
"name": "GroupName",
"type": "esriFieldTypeString",
"alias": "GroupName",
"domain": null,
"length": 100
},
{
"name": "ProductName",
"type": "esriFieldTypeString",
"alias": "ProductName",
"domain": null,
"length": 100
},
{
"name": "CenterX",
"type": "esriFieldTypeDouble",
"alias": "CenterX",
"domain": null
},
{
"name": "CenterY",
"type": "esriFieldTypeDouble",
"alias": "CenterY",
"domain": null
},
{
"name": "ZOrder",
"type": "esriFieldTypeInteger",
"alias": "ZOrder",
"domain": null
},
{
"name": "Shape_Length",
"type": "esriFieldTypeDouble",
"alias": "Shape_Length",
"domain": null
},
{
"name": "Shape_Area",
"type": "esriFieldTypeDouble",
"alias": "Shape_Area",
"domain": null
},
{
"name": "DateBegin",
"type": "esriFieldTypeDate",
"alias": "DateBegin",
"domain": null,
"length": 8
},
{
"name": "DateEnd",
"type": "esriFieldTypeDate",
"alias": "DateEnd",
"domain": null,
"length": 8
},
{
"name": "DateIntBegin",
"type": "esriFieldTypeSmallInteger",
"alias": "DateIntBegin",
"domain": null
},
{
"name": "DateIntEnd",
"type": "esriFieldTypeSmallInteger",
"alias": "DateIntEnd",
"domain": null
}
],
"capabilities": "Catalog,Pixels,Download,Image,Metadata",
"defaultMosaicMethod": "Northwest",
"allowedMosaicMethods": "NorthWest,Center,ByAttribute,Nadir,Viewpoint,None",
"sortField": "",
"sortValue": null,
"sortAscending": true,
"mosaicOperator": "First",
"maxDownloadSizeLimit": 2048,
"defaultCompressionQuality": 87,
"defaultResamplingMethod": "Bilinear",
"maxImageHeight": 4100,
"maxImageWidth": 15000,
"maxRecordCount": 1000,
"maxDownloadImageCount": 20,
"maxMosaicImageCount": 20,
"allowRasterFunction": true,
"rasterFunctionInfos": [
{
"name": "None",
"description": "",
"help": ""
}
],
"rasterTypeInfos": [
{
"name": "Raster Dataset",
"description": "Supports all ArcGIS Raster Datasets",
"help": ""
}
],
"mensurationCapabilities": "None",
"hasHistograms": true,
"hasColormap": false,
"hasRasterAttributeTable": false,
"minScale": 0,
"maxScale": 0,
"exportTilesAllowed": false,
"supportsStatistics": true,
"supportsAdvancedQueries": true,
"editFieldsInfo": null,
"ownershipBasedAccessControlForRasters": null,
"allowComputeTiePoints": false,
"useStandardizedQueries": true,
"advancedQueryCapabilities": {
"useStandardizedQueries": true,
"supportsStatistics": true,
"supportsOrderBy": true,
"supportsDistinct": true,
"supportsPagination": true
},
"spatialReference": {
"wkid": 26919,
"latestWkid": 26919
},
"resampling": false
}