View In:
ArcGIS JavaScript
ArcGIS Online Map Viewer
ArcGIS Earth
Service Description: Maine Statewide Orthoimagery Project - During the spring of 2020 new 4-band (R, G, B, and NIR) aerial imagery was acquired covering the entire project area using Leica ADS digital camera systems. All imagery was collected during the 2020 spring flying season during leaf-off conditions for deciduous vegetation in the State of Maine. The sun angle shall be 25-degrees or greater, and streams should be within their normal banks, unless otherwise negotiated. During flight planning and acquisition, a significant effort is made to limit clouds, snow (please note: small amounts of snow such as piles in parking lots, extreme shaded areas, within dense evergreens or unpopulated northern facing slopes may be acceptable), fog, haze, smoke, or other ground obscuring conditions in the imagery. In no case will the maximum cloud cover exceed 5% per image. Within the immediate areas of power plants, factories, or controlled agricultural burns some steam or smoke and/or shadows may be visible on imagery. Woolpert produced new 8-bit, 4-band stacked color digital orthoimagery files in GeoTIFF format with TFW “world file” at a 45cm (18-inch), 30cm (12-inch), 15cm (6-inch) and 7.5cm (3-inch). The Maine GeoLibrary Board has developed a statewide, 5-year, rotating orthoimagery acquisition program for Maine to facilitate state, regional and local government GIS base mapping in an efficient and cost-effective program. The State of Maine will use digital orthoimagery for the development of various base map products in a computerized GIS that will support the needs of the state and multiple stakeholders through applications, such as, multi-jurisdictional homeland security mapping applications, state and county emergency management applications, regional and local planning, state and local public safety applications, economic development and other GIS business objectives.
Name: imageryBaseMapsEarthCover/orthoRegional2020
Description: Maine Statewide Orthoimagery Project - During the spring of 2020 new 4-band (R, G, B, and NIR) aerial imagery was acquired covering the entire project area using Leica ADS digital camera systems. All imagery was collected during the 2020 spring flying season during leaf-off conditions for deciduous vegetation in the State of Maine. The sun angle shall be 25-degrees or greater, and streams should be within their normal banks, unless otherwise negotiated. During flight planning and acquisition, a significant effort is made to limit clouds, snow (please note: small amounts of snow such as piles in parking lots, extreme shaded areas, within dense evergreens or unpopulated northern facing slopes may be acceptable), fog, haze, smoke, or other ground obscuring conditions in the imagery. In no case will the maximum cloud cover exceed 5% per image. Within the immediate areas of power plants, factories, or controlled agricultural burns some steam or smoke and/or shadows may be visible on imagery. Woolpert produced new 8-bit, 4-band stacked color digital orthoimagery files in GeoTIFF format with TFW “world file” at a 45cm (18-inch), 30cm (12-inch), 15cm (6-inch) and 7.5cm (3-inch). The Maine GeoLibrary Board has developed a statewide, 5-year, rotating orthoimagery acquisition program for Maine to facilitate state, regional and local government GIS base mapping in an efficient and cost-effective program. The State of Maine will use digital orthoimagery for the development of various base map products in a computerized GIS that will support the needs of the state and multiple stakeholders through applications, such as, multi-jurisdictional homeland security mapping applications, state and county emergency management applications, regional and local planning, state and local public safety applications, economic development and other GIS business objectives.
Single Fused Map Cache: false
Extent:
XMin: 350250.0
YMin: 4831375.0
XMax: 585000.0
YMax: 5012500.0
Spatial Reference: 102388
(6348)
LatestVCSWkid(0)
Initial Extent:
XMin: 350250.0
YMin: 4831375.0
XMax: 585000.0
YMax: 5012500.0
Spatial Reference: 102388
(6348)
LatestVCSWkid(0)
Full Extent:
XMin: 350250.0
YMin: 4831375.0
XMax: 585000.0
YMax: 5012500.0
Spatial Reference: 102388
(6348)
LatestVCSWkid(0)
Time Info:
Start Time Field: DateBegin
End Time Field: DateEnd
Time Extent:
[2020/04/23 00:00:00 UTC, 2020/04/29 00:00:00 UTC]
Time Reference:
N/A
Pixel Size X: 0.075
Pixel Size Y: 0.075
Band Count: 4
Pixel Type: U8
RasterFunction Infos: {"rasterFunctionInfos": [{
"name": "None",
"description": "",
"help": ""
}]}
Mensuration Capabilities:
Inspection Capabilities:
Has Histograms: true
Has Colormap: false
Has Multi Dimensions : false
Rendering Rule:
Min Scale: 0
Max Scale: 0
Resampling: false
Copyright Text: MaineGeoLibrary
Service Data Type: esriImageServiceDataTypeProcessed
Min Values: 2, 1, 3, 0
Max Values: 247, 247, 246, 250
Mean Values: 73.26883128057536, 77.92851611475682, 61.19363522383638, 116.57678171940117
Standard Deviation Values: 30.485802549881242, 25.991070616988072, 24.175860760967808, 52.879812924183206
Object ID Field: OBJECTID
Fields:
-
OBJECTID
(
type: esriFieldTypeOID, alias: OBJECTID
)
-
Shape
(
type: esriFieldTypeGeometry, alias: Shape
)
-
Name
(
type: esriFieldTypeString, alias: Name, length: 200
)
-
MinPS
(
type: esriFieldTypeDouble, alias: MinPS
)
-
MaxPS
(
type: esriFieldTypeDouble, alias: MaxPS
)
-
LowPS
(
type: esriFieldTypeDouble, alias: LowPS
)
-
HighPS
(
type: esriFieldTypeDouble, alias: HighPS
)
-
Category
(
type: esriFieldTypeInteger, alias: Category
, Coded Values:
[0: Unknown]
, [1: Primary]
, [2: Overview]
, ...6 more...
)
-
Tag
(
type: esriFieldTypeString, alias: Tag, length: 100
)
-
GroupName
(
type: esriFieldTypeString, alias: GroupName, length: 100
)
-
ProductName
(
type: esriFieldTypeString, alias: ProductName, length: 100
)
-
CenterX
(
type: esriFieldTypeDouble, alias: CenterX
)
-
CenterY
(
type: esriFieldTypeDouble, alias: CenterY
)
-
ZOrder
(
type: esriFieldTypeInteger, alias: ZOrder
)
-
Shape_Length
(
type: esriFieldTypeDouble, alias: Shape_Length
)
-
Shape_Area
(
type: esriFieldTypeDouble, alias: Shape_Area
)
-
DateBegin
(
type: esriFieldTypeDate, alias: DateBegin, length: 8
)
-
DateEnd
(
type: esriFieldTypeDate, alias: DateEnd, length: 8
)
-
DateIntBegin
(
type: esriFieldTypeSmallInteger, alias: DateInBegin
)
-
DateIntEnd
(
type: esriFieldTypeSmallInteger, alias: DateIntEnd
)
Default Mosaic Method: Northwest
Allowed Mosaic Methods: NorthWest,Center,ByAttribute,Nadir,Viewpoint,None
SortField:
SortValue: null
Mosaic Operator: First
Default Compression Quality: 87
Default Resampling Method: Bilinear
Max Record Count: 1000
Max Image Height: 4100
Max Image Width: 15000
Max Download Image Count: 20
Max Mosaic Image Count: 20
Allow Raster Function: true
Allow Copy: true
Allow Analysis: true
Allow Compute TiePoints: false
Supports Statistics: true
Supports Advanced Queries: true
Use StandardizedQueries: true
Raster Type Infos:
Name: Raster Dataset
Description: Supports all ArcGIS Raster Datasets
Help:
Has Raster Attribute Table: false
Edit Fields Info: null
Ownership Based AccessControl For Rasters: null
Child Resources:
Info
Histograms
Statistics
Key Properties
Legend
Raster Function Infos
Supported Operations:
Export Image
Query
Identify
Download Rasters
Get Image Url
Compute Histograms
Compute Statistics Histograms
Get Samples
Compute Class Statistics
Query GPS Info
Find Images
Image to Map
Map to Image
Measure from Image
Image to Map Multiray
Query Boundary
Compute Pixel Location
Compute Angles
Validate
Project