{ "currentVersion": 11.3, "serviceDescription": "
MEDOQ are digital orthorectified aerial imagery in gray-scale with 1-meter ground resolution. They are derived from the original US Geological Survey Digital Orthophoto Quarter Quads but cover one full 7.5 minute quadrangle. MEDOQs are compressed using the Lizardtech MrSid software (http://www.lizardtech.com) and are referred to as MrSid format ( .sid ) imagery. The MEDOQs are suitable for applications at a scale of 1\" = 1,000 ( 1:12,000 ). MEDOQs are now available for all of Maine on the Maine Office of GIS. MEDOQs are are suitable for applications at a scale of 1\" = 1,000 ( 1:12,000 ) or larger. According to National Map Accuracy Standards for maps at that scale 90% of well defined points tested must be within 1/30 of an inch or 33.33 feet of their true position on the ground. DOQs serve a variety of purposes, from interim maps to field references for earth science investigations and analysis. The DOQ is useful as a layer of a geographic information system and as a tool for revision of digital line graphs and topographic maps.Users must assume responsibility in determining the usability of this data for their purpose. Data at this scale may be useful for parcel level studies and detailed planning.<\/span><\/p><\/div><\/div><\/div>",
"name": "imageryBaseMapsEarthCover/orthoRegionalDoq1996_1998",
"description": " MEDOQ are digital orthorectified aerial imagery in gray-scale with 1-meter ground resolution. They are derived from the original US Geological Survey Digital Orthophoto Quarter Quads but cover one full 7.5 minute quadrangle. MEDOQs are compressed using the Lizardtech MrSid software (http://www.lizardtech.com) and are referred to as MrSid format ( .sid ) imagery. The MEDOQs are suitable for applications at a scale of 1\" = 1,000 ( 1:12,000 ). MEDOQs are now available for all of Maine on the Maine Office of GIS. MEDOQs are are suitable for applications at a scale of 1\" = 1,000 ( 1:12,000 ) or larger. According to National Map Accuracy Standards for maps at that scale 90% of well defined points tested must be within 1/30 of an inch or 33.33 feet of their true position on the ground. DOQs serve a variety of purposes, from interim maps to field references for earth science investigations and analysis. The DOQ is useful as a layer of a geographic information system and as a tool for revision of digital line graphs and topographic maps.Users must assume responsibility in determining the usability of this data for their purpose. Data at this scale may be useful for parcel level studies and detailed planning.<\/span><\/p><\/div><\/div><\/div>",
"extent": {
"xmin": 329509.4045720693,
"ymin": 4757646.166778924,
"xmax": 663430.4045720673,
"ymax": 5260763.166778921,
"spatialReference": {
"wkid": 26919,
"latestWkid": 26919
}
},
"initialExtent": {
"xmin": 329509.4045720693,
"ymin": 4757646.166778924,
"xmax": 663430.4045720673,
"ymax": 5260763.166778921,
"spatialReference": {
"wkid": 26919,
"latestWkid": 26919
}
},
"fullExtent": {
"xmin": 329509.4045720693,
"ymin": 4757646.166778924,
"xmax": 663430.4045720673,
"ymax": 5260763.166778921,
"spatialReference": {
"wkid": 26919,
"latestWkid": 26919
}
},
"sortableFields": "",
"bandCount": 1,
"pixelType": "U8",
"minValues": [
0.04935622317596566
],
"maxValues": [
254.95064377682402
],
"meanValues": [
94.04137959060958
],
"stdvValues": [
25.62797734770865
],
"hasMultidimensions": false,
"timeInfo": {
"startTimeField": "DateBegin",
"endTimeField": "DateEnd",
"timeExtent": [
820454400000,
883612800000
],
"timeReference": null,
"defaultTimeInterval": 1,
"defaultTimeIntervalUnits": "esriTimeUnitsDays"
},
"pixelSizeX": 0.9999999999999941,
"pixelSizeY": 0.9999999999999944,
"meanPixelSize": 0.9999999999999942,
"datasetFormat": "AMD",
"uncompressedSize": 168001331757,
"blockWidth": 2048,
"blockHeight": 256,
"compressionType": "None",
"bandNames": [
"Band_1"
],
"allowCopy": true,
"allowAnalysis": true,
"itemAccess": false,
"inspectionCapabilities": "",
"minPixelSize": 0,
"maxPixelSize": 0,
"copyrightText": "U.S. Geological Survey (USGS) EROS Data Center (EDC), Maine GeoLibrary",
"serviceDataType": "esriImageServiceDataTypeProcessed",
"serviceSourceType": "esriImageServiceSourceTypeMosaicDataset",
"objectIdField": "OBJECTID",
"fields": [
{
"name": "OBJECTID",
"type": "esriFieldTypeOID",
"alias": "OBJECTID",
"domain": null
},
{
"name": "Shape",
"type": "esriFieldTypeGeometry",
"alias": "Shape",
"domain": null
},
{
"name": "Name",
"type": "esriFieldTypeString",
"alias": "Name",
"domain": null,
"length": 200
},
{
"name": "MinPS",
"type": "esriFieldTypeDouble",
"alias": "MinPS",
"domain": null
},
{
"name": "MaxPS",
"type": "esriFieldTypeDouble",
"alias": "MaxPS",
"domain": null
},
{
"name": "LowPS",
"type": "esriFieldTypeDouble",
"alias": "LowPS",
"domain": null
},
{
"name": "HighPS",
"type": "esriFieldTypeDouble",
"alias": "HighPS",
"domain": null
},
{
"name": "Category",
"type": "esriFieldTypeInteger",
"alias": "Category",
"domain": {
"type": "codedValue",
"name": "MosaicCatalogItemCategoryDomain",
"description": "Catalog item categories.",
"codedValues": [
{
"name": "Unknown",
"code": 0
},
{
"name": "Primary",
"code": 1
},
{
"name": "Overview",
"code": 2
},
{
"name": "Unprocessed Overview",
"code": 3
},
{
"name": "Partial Overview",
"code": 4
},
{
"name": "Inactive",
"code": 5
},
{
"name": "Uploaded",
"code": 253
},
{
"name": "Incomplete",
"code": 254
},
{
"name": "Custom",
"code": 255
}
],
"mergePolicy": "esriMPTDefaultValue",
"splitPolicy": "esriSPTDefaultValue"
}
},
{
"name": "Tag",
"type": "esriFieldTypeString",
"alias": "Tag",
"domain": null,
"length": 100
},
{
"name": "GroupName",
"type": "esriFieldTypeString",
"alias": "GroupName",
"domain": null,
"length": 100
},
{
"name": "ProductName",
"type": "esriFieldTypeString",
"alias": "ProductName",
"domain": null,
"length": 100
},
{
"name": "CenterX",
"type": "esriFieldTypeDouble",
"alias": "CenterX",
"domain": null
},
{
"name": "CenterY",
"type": "esriFieldTypeDouble",
"alias": "CenterY",
"domain": null
},
{
"name": "ZOrder",
"type": "esriFieldTypeInteger",
"alias": "ZOrder",
"domain": null
},
{
"name": "Shape_Length",
"type": "esriFieldTypeDouble",
"alias": "Shape_Length",
"domain": null
},
{
"name": "Shape_Area",
"type": "esriFieldTypeDouble",
"alias": "Shape_Area",
"domain": null
},
{
"name": "DateBegin",
"type": "esriFieldTypeDate",
"alias": "DateBegin",
"domain": null,
"length": 8
},
{
"name": "DateEnd",
"type": "esriFieldTypeDate",
"alias": "DateEnd",
"domain": null,
"length": 8
},
{
"name": "DateIntBegin",
"type": "esriFieldTypeSmallInteger",
"alias": "DateIntBegin",
"domain": null
},
{
"name": "DateIntEnd",
"type": "esriFieldTypeSmallInteger",
"alias": "DateIntEnd",
"domain": null
}
],
"capabilities": "Catalog,Pixels,Image,Metadata",
"defaultMosaicMethod": "Northwest",
"allowedMosaicMethods": "NorthWest,Center,ByAttribute,Nadir,Viewpoint,None",
"sortField": "",
"sortValue": null,
"sortAscending": true,
"mosaicOperator": "First",
"maxDownloadSizeLimit": 2048,
"defaultCompressionQuality": 87,
"defaultResamplingMethod": "Bilinear",
"maxImageHeight": 4100,
"maxImageWidth": 15000,
"maxRecordCount": 1000,
"maxDownloadImageCount": 20,
"maxMosaicImageCount": 44,
"allowRasterFunction": true,
"rasterFunctionInfos": [
{
"name": "None",
"description": "Make a Raster or Raster Dataset into a Function Raster Dataset.",
"help": ""
}
],
"rasterTypeInfos": [
{
"name": "Raster Dataset",
"description": "Supports all ArcGIS Raster Datasets",
"help": ""
}
],
"mensurationCapabilities": "None",
"hasHistograms": true,
"hasColormap": false,
"hasRasterAttributeTable": false,
"minScale": 0,
"maxScale": 0,
"exportTilesAllowed": false,
"supportsStatistics": true,
"supportsAdvancedQueries": true,
"editFieldsInfo": null,
"ownershipBasedAccessControlForRasters": null,
"allowComputeTiePoints": false,
"useStandardizedQueries": true,
"advancedQueryCapabilities": {
"useStandardizedQueries": true,
"supportsStatistics": true,
"supportsOrderBy": true,
"supportsDistinct": true,
"supportsPagination": true
},
"spatialReference": {
"wkid": 26919,
"latestWkid": 26919
},
"resampling": false
}