{
 "currentVersion": 11.3,
 "serviceDescription": "These data are panchromatic satellite data from the French SPOT-5 satellite. They represent a black-and-white \"picture\" of Earth from the satellite using 5-meter pixels (5m x 5m squares) as the minimum unit for imaging. The collection dates are mostly during the leaf-on season in 2004. Two scenes are from winter collects and snow/ice can be seen. This dataset was created through orthorectification of SPOT imagery using USGS Digital Orthophoto Quadrangles and Maine DEMs in ERDAS OrthoBASE 8.7. The orthorectified imagery was then warped using Space Imaging's proprietary Autowarp software. Autowarp computes tie points between two images based on correlation between similar points in the images and then applies a locally varying warp based on the tiepoints. The program was given an initial set of ground control points to create a coarse quadratic warp which was then refined through the addition of more points selected by the program. This work was done by Space Imaging and Sanborn staff. Certain high-elevation areas were further orthorectified by i-cubed to reduce horizontal error. Color balancing for the mosaic was done using GIMP image processing software by Maine DEP GIS staff. Note that balancing was done to enhance vegetated areas. In most cases, this means loss of contrast in urban areas. The raw data are much darker, but would provide more detail in urban areas than these processed data (at the expense of loss of contrast in vegetated areas). These data are part of the MELCD 2004 landcover and impervious mapping project for Maine. The data are LICENSED to the following entities: -Federal Government organizations when working with Maine on joint projects -All State Government departments and agencies within Maine -Regional county and local governments within Maine -K-12 schools, State Colleges and Universities within Maine. These data were the base imagery for the MELCD 2004 project. They were merged with LandSat TM data to create sharpened multispectral data for landcover mapping. ",
 "name": "imageryBaseMapsEarthCover/orthoRegionalSpot2004",
 "description": "These data are panchromatic satellite data from the French SPOT-5 satellite. They represent a black-and-white \"picture\" of Earth from the satellite using 5-meter pixels (5m x 5m squares) as the minimum unit for imaging. The collection dates are mostly during the leaf-on season in 2004. Two scenes are from winter collects and snow/ice can be seen. This dataset was created through orthorectification of SPOT imagery using USGS Digital Orthophoto Quadrangles and Maine DEMs in ERDAS OrthoBASE 8.7. The orthorectified imagery was then warped using Space Imaging's proprietary Autowarp software. Autowarp computes tie points between two images based on correlation between similar points in the images and then applies a locally varying warp based on the tiepoints. The program was given an initial set of ground control points to create a coarse quadratic warp which was then refined through the addition of more points selected by the program. This work was done by Space Imaging and Sanborn staff. Certain high-elevation areas were further orthorectified by i-cubed to reduce horizontal error. Color balancing for the mosaic was done using GIMP image processing software by Maine DEP GIS staff. Note that balancing was done to enhance vegetated areas. In most cases, this means loss of contrast in urban areas. The raw data are much darker, but would provide more detail in urban areas than these processed data (at the expense of loss of contrast in vegetated areas). These data are part of the MELCD 2004 landcover and impervious mapping project for Maine. The data are LICENSED to the following entities: -Federal Government organizations when working with Maine on joint projects -All State Government departments and agencies within Maine -Regional county and local governments within Maine -K-12 schools, State Colleges and Universities within Maine. These data were the base imagery for the MELCD 2004 project. They were merged with LandSat TM data to create sharpened multispectral data for landcover mapping. ",
 "extent": {
  "xmin": 331051.5,
  "ymin": 4761082.5,
  "xmax": 670991.5,
  "ymax": 5261862.5,
  "spatialReference": {
   "wkid": 26919,
   "latestWkid": 26919
  }
 },
 "initialExtent": {
  "xmin": 331051.5,
  "ymin": 4761082.5,
  "xmax": 670991.5,
  "ymax": 5261862.5,
  "spatialReference": {
   "wkid": 26919,
   "latestWkid": 26919
  }
 },
 "fullExtent": {
  "xmin": 331051.5,
  "ymin": 4761082.5,
  "xmax": 670991.5,
  "ymax": 5261862.5,
  "spatialReference": {
   "wkid": 26919,
   "latestWkid": 26919
  }
 },
 "sortableFields": "",
 "bandCount": 1,
 "pixelType": "U8",
 "minValues": [
  0
 ],
 "maxValues": [
  255
 ],
 "meanValues": [
  83.40296752932183
 ],
 "stdvValues": [
  62.26850445696878
 ],
 "hasMultidimensions": false,
 "timeInfo": {
  "startTimeField": "DateBegin",
  "endTimeField": "DateEnd",
  "timeExtent": [
   1072915200000,
   1104451200000
  ],
  "timeReference": null
 },
 "pixelSizeX": 5,
 "pixelSizeY": 5,
 "meanPixelSize": 5,
 "datasetFormat": "AMD",
 "uncompressedSize": 6809406128,
 "blockWidth": 2048,
 "blockHeight": 256,
 "compressionType": "None",
 "bandNames": [
  "Band_1"
 ],
 "allowCopy": true,
 "allowAnalysis": true,
 "itemAccess": false,
 "inspectionCapabilities": "",
 "noDataValue": 0,
 "noDataValues": [
  0
 ],
 "minPixelSize": 0,
 "maxPixelSize": 0,
 "copyrightText": "SPOT Image Corp, MaineGeoLibrary, Space Imaging, Sanborn Mapping",
 "serviceDataType": "esriImageServiceDataTypeProcessed",
 "serviceSourceType": "esriImageServiceSourceTypeMosaicDataset",
 "objectIdField": "OBJECTID",
 "fields": [
  {
   "name": "OBJECTID",
   "type": "esriFieldTypeOID",
   "alias": "OBJECTID",
   "domain": null
  },
  {
   "name": "Shape",
   "type": "esriFieldTypeGeometry",
   "alias": "Shape",
   "domain": null
  },
  {
   "name": "Name",
   "type": "esriFieldTypeString",
   "alias": "Name",
   "domain": null,
   "length": 200
  },
  {
   "name": "MinPS",
   "type": "esriFieldTypeDouble",
   "alias": "MinPS",
   "domain": null
  },
  {
   "name": "MaxPS",
   "type": "esriFieldTypeDouble",
   "alias": "MaxPS",
   "domain": null
  },
  {
   "name": "LowPS",
   "type": "esriFieldTypeDouble",
   "alias": "LowPS",
   "domain": null
  },
  {
   "name": "HighPS",
   "type": "esriFieldTypeDouble",
   "alias": "HighPS",
   "domain": null
  },
  {
   "name": "Category",
   "type": "esriFieldTypeInteger",
   "alias": "Category",
   "domain": {
    "type": "codedValue",
    "name": "MosaicCatalogItemCategoryDomain",
    "description": "Catalog item categories.",
    "codedValues": [
     {
      "name": "Unknown",
      "code": 0
     },
     {
      "name": "Primary",
      "code": 1
     },
     {
      "name": "Overview",
      "code": 2
     },
     {
      "name": "Unprocessed Overview",
      "code": 3
     },
     {
      "name": "Partial Overview",
      "code": 4
     },
     {
      "name": "Inactive",
      "code": 5
     },
     {
      "name": "Uploaded",
      "code": 253
     },
     {
      "name": "Incomplete",
      "code": 254
     },
     {
      "name": "Custom",
      "code": 255
     }
    ],
    "mergePolicy": "esriMPTDefaultValue",
    "splitPolicy": "esriSPTDefaultValue"
   }
  },
  {
   "name": "Tag",
   "type": "esriFieldTypeString",
   "alias": "Tag",
   "domain": null,
   "length": 100
  },
  {
   "name": "GroupName",
   "type": "esriFieldTypeString",
   "alias": "GroupName",
   "domain": null,
   "length": 100
  },
  {
   "name": "ProductName",
   "type": "esriFieldTypeString",
   "alias": "ProductName",
   "domain": null,
   "length": 100
  },
  {
   "name": "CenterX",
   "type": "esriFieldTypeDouble",
   "alias": "CenterX",
   "domain": null
  },
  {
   "name": "CenterY",
   "type": "esriFieldTypeDouble",
   "alias": "CenterY",
   "domain": null
  },
  {
   "name": "ZOrder",
   "type": "esriFieldTypeInteger",
   "alias": "ZOrder",
   "domain": null
  },
  {
   "name": "Shape_Length",
   "type": "esriFieldTypeDouble",
   "alias": "Shape_Length",
   "domain": null
  },
  {
   "name": "Shape_Area",
   "type": "esriFieldTypeDouble",
   "alias": "Shape_Area",
   "domain": null
  },
  {
   "name": "DateBegin",
   "type": "esriFieldTypeDate",
   "alias": "DateBegin",
   "domain": null,
   "length": 8
  },
  {
   "name": "DateEnd",
   "type": "esriFieldTypeDate",
   "alias": "DateEnd",
   "domain": null,
   "length": 8
  },
  {
   "name": "DateIntBegin",
   "type": "esriFieldTypeSmallInteger",
   "alias": "DateIntBegin",
   "domain": null
  },
  {
   "name": "DateIntEnd",
   "type": "esriFieldTypeSmallInteger",
   "alias": "DateIntEnd",
   "domain": null
  }
 ],
 "capabilities": "Catalog,Pixels,Image,Metadata",
 "defaultMosaicMethod": "Northwest",
 "allowedMosaicMethods": "NorthWest,Center,ByAttribute,Nadir,Viewpoint,None",
 "sortField": "",
 "sortValue": null,
 "sortAscending": true,
 "mosaicOperator": "First",
 "maxDownloadSizeLimit": 2048,
 "defaultCompressionQuality": 87,
 "defaultResamplingMethod": "Bilinear",
 "maxImageHeight": 4100,
 "maxImageWidth": 15000,
 "maxRecordCount": 1000,
 "maxDownloadImageCount": 20,
 "maxMosaicImageCount": 20,
 "allowRasterFunction": true,
 "rasterFunctionInfos": [
  {
   "name": "None",
   "description": "Make a Raster or Raster Dataset into a Function Raster Dataset.",
   "help": ""
  }
 ],
 "rasterTypeInfos": [
  {
   "name": "Raster Dataset",
   "description": "Supports all ArcGIS Raster Datasets",
   "help": ""
  }
 ],
 "mensurationCapabilities": "None",
 "hasHistograms": true,
 "hasColormap": false,
 "hasRasterAttributeTable": false,
 "minScale": 0,
 "maxScale": 0,
 "exportTilesAllowed": false,
 "supportsStatistics": true,
 "supportsAdvancedQueries": true,
 "editFieldsInfo": null,
 "ownershipBasedAccessControlForRasters": null,
 "allowComputeTiePoints": false,
 "useStandardizedQueries": true,
 "advancedQueryCapabilities": {
  "useStandardizedQueries": true,
  "supportsStatistics": true,
  "supportsOrderBy": true,
  "supportsDistinct": true,
  "supportsPagination": true
 },
 "spatialReference": {
  "wkid": 26919,
  "latestWkid": 26919
 },
 "resampling": false
}
