View In:
ArcGIS JavaScript
ArcGIS Online Map Viewer
ArcGIS Earth
Service Description: Digital raster graphics (DRG) were produced from 1995 to 1998 by the U.S. Geological Survey (USGS) through an innovative partnership agreement with the Land Information Technology Company, Ltd., of Aurora, Colorado. The objective of the program was to scan all USGS standard quadrangle maps quickly and at low cost.
Most DRGs are made by scanning published paper maps on high-resolution scanners. The raster image is georeferenced and fit to the Universal Transverse Mercator (UTM) projection. Colors are usually standardized to duplicate the line-drawing character of the published map. The average data set size of a 7.5-minute DRG is about 8 megabytes in Tagged Image File Format (TIFF) with PackBits compression.
Name: imageryBaseMapsEarthCover/topoUsgs100kBW
Description: Digital raster graphics (DRG) were produced from 1995 to 1998 by the U.S. Geological Survey (USGS) through an innovative partnership agreement with the Land Information Technology Company, Ltd., of Aurora, Colorado. The objective of the program was to scan all USGS standard quadrangle maps quickly and at low cost.
Most DRGs are made by scanning published paper maps on high-resolution scanners. The raster image is georeferenced and fit to the Universal Transverse Mercator (UTM) projection. Colors are usually standardized to duplicate the line-drawing character of the published map. The average data set size of a 7.5-minute DRG is about 8 megabytes in Tagged Image File Format (TIFF) with PackBits compression.
Single Fused Map Cache: false
Extent:
XMin: 259466.4038563182
YMin: 4705740.778514802
XMax: 738551.8639553686
YMax: 5262680.800818052
Spatial Reference: 26919
(26919)
LatestVCSWkid(0)
Initial Extent:
XMin: 259466.4038563182
YMin: 4705740.778514802
XMax: 738551.8639553686
YMax: 5262680.800818052
Spatial Reference: 26919
(26919)
LatestVCSWkid(0)
Full Extent:
XMin: 259466.4038563182
YMin: 4705740.778514802
XMax: 738551.8639553686
YMax: 5262680.800818052
Spatial Reference: 26919
(26919)
LatestVCSWkid(0)
Pixel Size X: 10.159801931906488
Pixel Size Y: 10.159801931906484
Band Count: 1
Pixel Type: U8
RasterFunction Infos: {"rasterFunctionInfos": [{
"name": "None",
"description": "Make a Raster or Raster Dataset into a Function Raster Dataset.",
"help": ""
}]}
Mensuration Capabilities: None
Inspection Capabilities:
Has Histograms: true
Has Colormap: false
Has Multi Dimensions : false
Rendering Rule:
Min Scale: 0
Max Scale: 0
Resampling: false
Copyright Text: USGS
Service Data Type: esriImageServiceDataTypeThematic
Min Values: 0
Max Values: 1
Mean Values: 0.9182179489531517
Standard Deviation Values: 0.2740323835368014
Object ID Field: OBJECTID
Fields:
-
OBJECTID
(
type: esriFieldTypeOID, alias: OBJECTID
)
-
Shape
(
type: esriFieldTypeGeometry, alias: Shape
)
-
Name
(
type: esriFieldTypeString, alias: Name, length: 200
)
-
MinPS
(
type: esriFieldTypeDouble, alias: MinPS
)
-
MaxPS
(
type: esriFieldTypeDouble, alias: MaxPS
)
-
LowPS
(
type: esriFieldTypeDouble, alias: LowPS
)
-
HighPS
(
type: esriFieldTypeDouble, alias: HighPS
)
-
Category
(
type: esriFieldTypeInteger, alias: Category
, Coded Values:
[0: Unknown]
, [1: Primary]
, [2: Overview]
, ...6 more...
)
-
Tag
(
type: esriFieldTypeString, alias: Tag, length: 100
)
-
GroupName
(
type: esriFieldTypeString, alias: GroupName, length: 100
)
-
ProductName
(
type: esriFieldTypeString, alias: ProductName, length: 100
)
-
CenterX
(
type: esriFieldTypeDouble, alias: CenterX
)
-
CenterY
(
type: esriFieldTypeDouble, alias: CenterY
)
-
ZOrder
(
type: esriFieldTypeInteger, alias: ZOrder
)
-
Shape_Length
(
type: esriFieldTypeDouble, alias: Shape_Length
)
-
Shape_Area
(
type: esriFieldTypeDouble, alias: Shape_Area
)
Default Mosaic Method: Northwest
Allowed Mosaic Methods: NorthWest,Center,LockRaster,ByAttribute,Nadir,Viewpoint,Seamline,None
SortField:
SortValue: null
Mosaic Operator: First
Default Compression Quality: 87
Default Resampling Method: Bilinear
Max Record Count: 1000
Max Image Height: 4100
Max Image Width: 15000
Max Download Image Count: 20
Max Mosaic Image Count: 20
Allow Raster Function: true
Allow Copy: true
Allow Analysis: true
Allow Compute TiePoints: false
Supports Statistics: true
Supports Advanced Queries: true
Use StandardizedQueries: true
Raster Type Infos:
Name: Raster Dataset
Description: Supports all ArcGIS Raster Datasets
Help:
Has Raster Attribute Table: false
Edit Fields Info: null
Ownership Based AccessControl For Rasters: null
Child Resources:
Info
Histograms
Statistics
Key Properties
Legend
Raster Function Infos
Supported Operations:
Export Image
Query
Identify
Compute Histograms
Compute Statistics Histograms
Get Samples
Compute Class Statistics
Query GPS Info
Find Images
Image to Map
Map to Image
Measure from Image
Image to Map Multiray
Query Boundary
Compute Pixel Location
Compute Angles
Validate
Project