{ "currentVersion": 11.3, "serviceDescription": "
This layer includes the 15', 1:62500 USGS topographic maps for Maine from the mid 1900s, mostly ranging from 1920 to 1965. There are 190 quads in this layer, covering all of the state. Eight quads did not have maps from this era, so their earlier maps were used and are duplicates from the circa 1910 series for Maine as early as 1904. These are Petit Manan (1904) Monhegan (1906), Tenants Harbor (1906), Matinicus (1906), Belfast (1917), Cutler (1918), and Great Wass Island (1921). The maps were scanned from paper copies, georeferenced, and then had the collars clippled and the edges mosaicked. Most maps were scanned originally at 600dpi, either by MEGIS or USGS. All georeferencing of these was done by USGS. A few quads were not either in the collection of Maine or USGS, and in those cases quarter-quads were downloaded from the UNH library web site, those quarters were then georeferenced separately and if needed, rubber-sheeted along seamlines to make the quad. Most of these quads indicate land cover (green areas). Note that the source paper maps vary considerably in their paper color, ink contrast, fading, and so forth. The user will see great variation between quads which cannot be made more consistent at this time.<\/span><\/span><\/p> <\/p><\/div><\/div>",
"name": "imageryBaseMapsEarthCover/topoUsgs24k1945",
"description": " This layer includes the 15', 1:62500 USGS topographic maps for Maine from the mid 1900s, mostly ranging from 1920 to 1965. There are 190 quads in this layer, covering all of the state. Eight quads did not have maps from this era, so their earlier maps were used and are duplicates from the circa 1910 series for Maine as early as 1904. These are Petit Manan (1904) Monhegan (1906), Tenants Harbor (1906), Matinicus (1906), Belfast (1917), Cutler (1918), and Great Wass Island (1921). The maps were scanned from paper copies, georeferenced, and then had the collars clippled and the edges mosaicked. Most maps were scanned originally at 600dpi, either by MEGIS or USGS. All georeferencing of these was done by USGS. A few quads were not either in the collection of Maine or USGS, and in those cases quarter-quads were downloaded from the UNH library web site, those quarters were then georeferenced separately and if needed, rubber-sheeted along seamlines to make the quad. Most of these quads indicate land cover (green areas). Note that the source paper maps vary considerably in their paper color, ink contrast, fading, and so forth. The user will see great variation between quads which cannot be made more consistent at this time.<\/span><\/span><\/p> <\/p><\/div><\/div>",
"extent": {
"xmin": 319644,
"ymin": 4761920,
"xmax": 664959,
"ymax": 5261010,
"spatialReference": {
"wkid": 26919,
"latestWkid": 26919
}
},
"initialExtent": {
"xmin": 319644,
"ymin": 4761920,
"xmax": 664959,
"ymax": 5261010,
"spatialReference": {
"wkid": 26919,
"latestWkid": 26919
}
},
"fullExtent": {
"xmin": 319644,
"ymin": 4761920,
"xmax": 664959,
"ymax": 5261010,
"spatialReference": {
"wkid": 26919,
"latestWkid": 26919
}
},
"sortableFields": "",
"bandCount": 3,
"pixelType": "U8",
"minValues": [
0,
0,
0
],
"maxValues": [
255,
255,
255
],
"meanValues": [
193.14305840027174,
213.87576635085952,
159.0165357275152
],
"stdvValues": [
37.88275132572976,
36.462876439204685,
53.74831938765775
],
"hasMultidimensions": false,
"pixelSizeX": 5,
"pixelSizeY": 5,
"meanPixelSize": 5,
"datasetFormat": "AMD",
"uncompressedSize": 20681191602,
"blockWidth": 2048,
"blockHeight": 256,
"compressionType": "None",
"bandNames": [
"Band_1",
"Band_2",
"Band_3"
],
"allowCopy": true,
"allowAnalysis": true,
"itemAccess": false,
"inspectionCapabilities": "",
"minPixelSize": 0,
"maxPixelSize": 0,
"copyrightText": "USGS",
"serviceDataType": "esriImageServiceDataTypeRGB",
"serviceSourceType": "esriImageServiceSourceTypeMosaicDataset",
"objectIdField": "OBJECTID",
"fields": [
{
"name": "OBJECTID",
"type": "esriFieldTypeOID",
"alias": "OBJECTID",
"domain": null
},
{
"name": "Shape",
"type": "esriFieldTypeGeometry",
"alias": "Shape",
"domain": null
},
{
"name": "Name",
"type": "esriFieldTypeString",
"alias": "Name",
"domain": null,
"length": 200
},
{
"name": "MinPS",
"type": "esriFieldTypeDouble",
"alias": "MinPS",
"domain": null
},
{
"name": "MaxPS",
"type": "esriFieldTypeDouble",
"alias": "MaxPS",
"domain": null
},
{
"name": "LowPS",
"type": "esriFieldTypeDouble",
"alias": "LowPS",
"domain": null
},
{
"name": "HighPS",
"type": "esriFieldTypeDouble",
"alias": "HighPS",
"domain": null
},
{
"name": "Category",
"type": "esriFieldTypeInteger",
"alias": "Category",
"domain": {
"type": "codedValue",
"name": "MosaicCatalogItemCategoryDomain",
"description": "Catalog item categories.",
"codedValues": [
{
"name": "Unknown",
"code": 0
},
{
"name": "Primary",
"code": 1
},
{
"name": "Overview",
"code": 2
},
{
"name": "Unprocessed Overview",
"code": 3
},
{
"name": "Partial Overview",
"code": 4
},
{
"name": "Inactive",
"code": 5
},
{
"name": "Uploaded",
"code": 253
},
{
"name": "Incomplete",
"code": 254
},
{
"name": "Custom",
"code": 255
}
],
"mergePolicy": "esriMPTDefaultValue",
"splitPolicy": "esriSPTDefaultValue"
}
},
{
"name": "Tag",
"type": "esriFieldTypeString",
"alias": "Tag",
"domain": null,
"length": 100
},
{
"name": "GroupName",
"type": "esriFieldTypeString",
"alias": "GroupName",
"domain": null,
"length": 100
},
{
"name": "ProductName",
"type": "esriFieldTypeString",
"alias": "ProductName",
"domain": null,
"length": 100
},
{
"name": "CenterX",
"type": "esriFieldTypeDouble",
"alias": "CenterX",
"domain": null
},
{
"name": "CenterY",
"type": "esriFieldTypeDouble",
"alias": "CenterY",
"domain": null
},
{
"name": "ZOrder",
"type": "esriFieldTypeInteger",
"alias": "ZOrder",
"domain": null
},
{
"name": "Shape_Length",
"type": "esriFieldTypeDouble",
"alias": "Shape_Length",
"domain": null
},
{
"name": "Shape_Area",
"type": "esriFieldTypeDouble",
"alias": "Shape_Area",
"domain": null
},
{
"name": "Date",
"type": "esriFieldTypeDate",
"alias": "Date",
"domain": null,
"length": 8
},
{
"name": "DateInt",
"type": "esriFieldTypeSmallInteger",
"alias": "DateInt",
"domain": null
}
],
"capabilities": "Catalog,Pixels,Image,Metadata",
"defaultMosaicMethod": "Northwest",
"allowedMosaicMethods": "NorthWest,Center,LockRaster,ByAttribute,Nadir,Viewpoint,Seamline,None",
"sortField": "",
"sortValue": null,
"sortAscending": true,
"mosaicOperator": "First",
"maxDownloadSizeLimit": 2048,
"defaultCompressionQuality": 87,
"defaultResamplingMethod": "Nearest",
"maxImageHeight": 4100,
"maxImageWidth": 15000,
"maxRecordCount": 1000,
"maxDownloadImageCount": 20,
"maxMosaicImageCount": 20,
"allowRasterFunction": true,
"rasterFunctionInfos": [
{
"name": "None",
"description": "Make a Raster or Raster Dataset into a Function Raster Dataset.",
"help": ""
}
],
"rasterTypeInfos": [
{
"name": "Raster Dataset",
"description": "Supports all ArcGIS Raster Datasets",
"help": ""
}
],
"mensurationCapabilities": "",
"hasHistograms": true,
"hasColormap": false,
"hasRasterAttributeTable": false,
"minScale": 0,
"maxScale": 0,
"exportTilesAllowed": false,
"supportsStatistics": true,
"supportsAdvancedQueries": true,
"editFieldsInfo": null,
"ownershipBasedAccessControlForRasters": null,
"allowComputeTiePoints": false,
"useStandardizedQueries": true,
"advancedQueryCapabilities": {
"useStandardizedQueries": true,
"supportsStatistics": true,
"supportsOrderBy": true,
"supportsDistinct": true,
"supportsPagination": true
},
"spatialReference": {
"wkid": 26919,
"latestWkid": 26919
},
"resampling": false
}