{ "currentVersion": 11.5, "serviceDescription": "

This dataset consists of true color aerial imagery covering the coastline and islands of the greater Acadia region, from Brooklin, ME to Jonesport, ME. Imagery was captured at 15-cm GSD resolution and used to produce 6\u201d orthorectified imagery with one-foot horizontal accuracy. Imagery collection dates were 06/26/2025, 06/27/2025, 07/26/2026, 07/27/2025, 08/12/2025, and 08/13/2025 during low tide conditions within two hours of spring tides. Additional atmospheric considerations were complied with including sun angle between 25 degrees and 50 degrees, no more than 10% cloud cover, and less than 10 knots of a maximum predicted wind velocity. Additionally, flights were only dispatched after a precipitation-free period of at least 48 hours. The project flight plan consisted of approximately 2,670 images on 20 flight lines with 80% endlap and 30% sidelap, with sections re-collected as needed to meet image quality standards. Airborne GPS and IMU were utilized during the acquisition to improve the aerotriangulation solution. Raw imagery was acquired using the Vexcel Eagle 80-mm Mark 3 mounted on a fixed wing aircraft and flown at an elevation of approximately 9,500 feet. Digital ortho-rectified imagery was created using the raw digital aerial imagery, surveyed ground control points, aerotriangulation, and a digital elevation model. These aerial survey products were created under contract for the State of Maine Department of Environmental Protection. Bluesky Geospatial, subcontractor, captured the raw aerial imagery and produced the digital orthophotos and related products, while James W. Sewall, contractor, provided ground control and verified that project specifications were met.<\/span><\/p>", "serviceItemId": "7a6d477b55c64447bd1aa88db5bcbbe2", "name": "Coastal/Maine_Orthoimagery_Coastal_Acadia_2025", "description": "

This dataset consists of true color aerial imagery covering the coastline and islands of the greater Acadia region, from Brooklin, ME to Jonesport, ME. Imagery was captured at 15-cm GSD resolution and used to produce 6\u201d orthorectified imagery with one-foot horizontal accuracy. Imagery collection dates were 06/26/2025, 06/27/2025, 07/26/2026, 07/27/2025, 08/12/2025, and 08/13/2025 during low tide conditions within two hours of spring tides. Additional atmospheric considerations were complied with including sun angle between 25 degrees and 50 degrees, no more than 10% cloud cover, and less than 10 knots of a maximum predicted wind velocity. Additionally, flights were only dispatched after a precipitation-free period of at least 48 hours. The project flight plan consisted of approximately 2,670 images on 20 flight lines with 80% endlap and 30% sidelap, with sections re-collected as needed to meet image quality standards. Airborne GPS and IMU were utilized during the acquisition to improve the aerotriangulation solution. Raw imagery was acquired using the Vexcel Eagle 80-mm Mark 3 mounted on a fixed wing aircraft and flown at an elevation of approximately 9,500 feet. Digital ortho-rectified imagery was created using the raw digital aerial imagery, surveyed ground control points, aerotriangulation, and a digital elevation model. These aerial survey products were created under contract for the State of Maine Department of Environmental Protection. Bluesky Geospatial, subcontractor, captured the raw aerial imagery and produced the digital orthophotos and related products, while James W. Sewall, contractor, provided ground control and verified that project specifications were met.<\/span><\/p>", "extent": { "xmin": 529301.4000000004, "ymin": 4880253.75, "xmax": 620123.4000000004, "ymax": 4947000, "spatialReference": { "wkid": 26919, "latestWkid": 26919 } }, "initialExtent": { "xmin": 529301.4000000004, "ymin": 4880253.75, "xmax": 620123.4000000004, "ymax": 4947000, "spatialReference": { "wkid": 26919, "latestWkid": 26919 } }, "fullExtent": { "xmin": 529301.4000000004, "ymin": 4880253.75, "xmax": 620123.4000000004, "ymax": 4947000, "spatialReference": { "wkid": 26919, "latestWkid": 26919 } }, "sortableFields": "MinPS,MaxPS,LowPS,HighPS,CenterX,CenterY,ZOrder,Shape_Length,Shape_Area,DateBegin,DateEnd,DateIntBegin,DateIntEnd", "bandCount": 4, "pixelType": "U8", "minValues": [ 0, 0, 0, 0 ], "maxValues": [ 255, 255, 255, 255 ], "meanValues": [ 195.58499999998838, 195.58499999998838, 195.58499999998838, 195.58499999998838 ], "stdvValues": [ 107.79932465324099, 107.79932465324099, 107.79932465324099, 107.79932465324099 ], "serviceProperties": "NorthWest<\/MosaicMethod>First<\/MosaicOperator>true<\/SortAscending><\/LockImageID>Name<\/TileOrderField>0<\/TileOrderBase>600.000000<\/AvgImageSpacingX>300.000000<\/AvgImageSpacingY>0.0<\/ViewPointX>0.0<\/ViewPointY>0.0<\/ViewPointDefShiftX>0.0<\/ViewPointDefShiftY>LZ77<\/CompressionMethod>91<\/CompressionQuality>0.010000<\/CompressionTolerance>Bilinear<\/SamplingMethod><\/ImageServiceProperties><\/ImageServer>", "allowedFields": "Name,MinPS,MaxPS,LowPS,HighPS,Tag,GroupName,ProductName,CenterX,CenterY,ZOrder,Shape_Length,Shape_Area,DateBegin,DateEnd,DateIntBegin,DateIntEnd", "hasMultidimensions": false, "pixelSizeX": 0.15, "pixelSizeY": 0.15, "meanPixelSize": 0.15, "datasetFormat": "AMD", "uncompressedSize": 1077693852000, "blockWidth": 2048, "blockHeight": 256, "compressionType": "None", "bandNames": [ "Band_1", "Band_2", "Band_3", "Band_4" ], "allowCopy": true, "allowAnalysis": true, "itemAccess": false, "inspectionCapabilities": "", "noDataValue": 0, "noDataValues": [ 0, 0, 0, 0 ], "minPixelSize": 0, "maxPixelSize": 0, "copyrightText": "Orthophotos were produced for the State of Maine Department of Environmental Protection. James W. Sewall was the primary contractor and Bluesky Geospatial the subcontractor for aerial imagery acquisition and orthophoto production.", "serviceDataType": "esriImageServiceDataTypeThematic", "serviceSourceType": "esriImageServiceSourceTypeMosaicDataset", "objectIdField": "OBJECTID", "fields": [ { "name": "OBJECTID", "type": "esriFieldTypeOID", "alias": "OBJECTID", "domain": null }, { "name": "Shape", "type": "esriFieldTypeGeometry", "alias": "Shape", "domain": null }, { "name": "Name", "type": "esriFieldTypeString", "alias": "Name", "domain": null, "length": 200 }, { "name": "MinPS", "type": "esriFieldTypeDouble", "alias": "MinPS", "domain": null }, { "name": "MaxPS", "type": "esriFieldTypeDouble", "alias": "MaxPS", "domain": null }, { "name": "LowPS", "type": "esriFieldTypeDouble", "alias": "LowPS", "domain": null }, { "name": "HighPS", "type": "esriFieldTypeDouble", "alias": "HighPS", "domain": null }, { "name": "Category", "type": "esriFieldTypeInteger", "alias": "Category", "domain": { "type": "codedValue", "name": "MosaicCatalogItemCategoryDomain", "description": "Catalog item categories.", "codedValues": [ { "name": "Unknown", "code": 0 }, { "name": "Primary", "code": 1 }, { "name": "Overview", "code": 2 }, { "name": "Unprocessed Overview", "code": 3 }, { "name": "Partial Overview", "code": 4 }, { "name": "Inactive", "code": 5 }, { "name": "Uploaded", "code": 253 }, { "name": "Incomplete", "code": 254 }, { "name": "Custom", "code": 255 } ], "mergePolicy": "esriMPTDefaultValue", "splitPolicy": "esriSPTDefaultValue" } }, { "name": "Tag", "type": "esriFieldTypeString", "alias": "Tag", "domain": null, "length": 100 }, { "name": "GroupName", "type": "esriFieldTypeString", "alias": "GroupName", "domain": null, "length": 100 }, { "name": "ProductName", "type": "esriFieldTypeString", "alias": "ProductName", "domain": null, "length": 100 }, { "name": "CenterX", "type": "esriFieldTypeDouble", "alias": "CenterX", "domain": null }, { "name": "CenterY", "type": "esriFieldTypeDouble", "alias": "CenterY", "domain": null }, { "name": "ZOrder", "type": "esriFieldTypeInteger", "alias": "ZOrder", "domain": null }, { "name": "Shape_Length", "type": "esriFieldTypeDouble", "alias": "Shape_Length", "domain": null }, { "name": "Shape_Area", "type": "esriFieldTypeDouble", "alias": "Shape_Area", "domain": null }, { "name": "DateBegin", "type": "esriFieldTypeDate", "alias": "DateBegin", "domain": null, "length": 8 }, { "name": "DateEnd", "type": "esriFieldTypeDate", "alias": "DateEnd", "domain": null, "length": 8 }, { "name": "DateIntBegin", "type": "esriFieldTypeSmallInteger", "alias": "DateIntBegin", "domain": null }, { "name": "DateIntEnd", "type": "esriFieldTypeSmallInteger", "alias": "DateIntEnd", "domain": null } ], "capabilities": "Image,Metadata,Pixels,Catalog,Download", "defaultMosaicMethod": "Northwest", "allowedMosaicMethods": "NorthWest,Center,ByAttribute,Nadir,Viewpoint,None", "sortField": "", "sortValue": null, "sortAscending": true, "mosaicOperator": "First", "maxDownloadSizeLimit": 2048, "defaultCompressionQuality": 91, "defaultResamplingMethod": "Bilinear", "maxImageHeight": 4100, "maxImageWidth": 15000, "maxRecordCount": 1000, "maxDownloadImageCount": 20, "maxMosaicImageCount": 20, "allowRasterFunction": true, "rasterFunctionInfos": [ { "name": "None", "description": "", "help": "" } ], "rasterTypeInfos": [ { "name": "Raster Dataset", "description": "Supports all ArcGIS Raster Datasets", "help": "" } ], "mensurationCapabilities": "", "hasHistograms": true, "hasColormap": false, "hasRasterAttributeTable": false, "minScale": 0, "maxScale": 0, "exportTilesAllowed": false, "supportsStatistics": true, "supportsAdvancedQueries": true, "editFieldsInfo": null, "ownershipBasedAccessControlForRasters": null, "allowComputeTiePoints": false, "useStandardizedQueries": true, "advancedQueryCapabilities": { "useStandardizedQueries": true, "supportsStatistics": true, "supportsOrderBy": true, "supportsDistinct": true, "supportsPagination": true }, "spatialReference": { "wkid": 26919, "latestWkid": 26919 } }