<?xml version="1.0" encoding="UTF-8" standalone="no"?>
<metadata xml:lang="en">
<Esri>
<CreaDate>20181004</CreaDate>
<CreaTime>15030300</CreaTime>
<ArcGISFormat>1.0</ArcGISFormat>
<ArcGISstyle>FGDC CSDGM Metadata</ArcGISstyle>
<SyncOnce>FALSE</SyncOnce>
<DataProperties>
<lineage>
<Process Date="20181004" Name="" Time="150303" ToolSource="c:\program files (x86)\arcgis\desktop10.5\ArcToolbox\Toolboxes\Data Management Tools.tbx\CreateMosaicDataset" export="">CreateMosaicDataset \\w-a1ts-gisprd1.som.w2k.state.me.us\gisprd1gisdata\svcFgdb\megis\orthoCoastal.gdb orthoCoastalCascoBay2013 "PROJCS['NAD_1983_UTM_Zone_19N',GEOGCS['GCS_North_American_1983',DATUM['D_North_American_1983',SPHEROID['GRS_1980',6378137.0,298.257222101]],PRIMEM['Greenwich',0.0],UNIT['Degree',0.0174532925199433]],PROJECTION['Transverse_Mercator'],PARAMETER['False_Easting',500000.0],PARAMETER['False_Northing',0.0],PARAMETER['Central_Meridian',-69.0],PARAMETER['Scale_Factor',0.9996],PARAMETER['Latitude_Of_Origin',0.0],UNIT['Meter',1.0]];-5120900 -9998100 10000;-100000 10000;-100000 10000;0.001;0.001;0.001;IsHighPrecision" 4 8_BIT_UNSIGNED NATURAL_COLOR_RGBI "Red 630 690;Green 530 570;Blue 440 510;Infrared 770 830"</Process>
</lineage>
<itemProps>
<itemName Sync="TRUE">orthoCoastalCascoBay2013</itemName>
<itemLocation>
<linkage Sync="TRUE">file://\\w-a1ts-gisprd1.som.w2k.state.me.us\gisprd1gisdata\svcFgdb\megis\orthoCoastal.gdb</linkage>
<protocol Sync="TRUE">Local Area Network</protocol>
</itemLocation>
<nativeExtBox>
<westBL Sync="TRUE">390499.950000</westBL>
<eastBL Sync="TRUE">435500.100000</eastBL>
<southBL Sync="TRUE">4819999.950000</southBL>
<northBL Sync="TRUE">4868000.100000</northBL>
<exTypeCode Sync="TRUE">1</exTypeCode>
</nativeExtBox>
<imsContentType>003</imsContentType>
</itemProps>
<coordRef>
<type Sync="TRUE">Projected</type>
<geogcsn Sync="TRUE">GCS_North_American_1983</geogcsn>
<csUnits Sync="TRUE">Linear Unit: Meter (1.000000)</csUnits>
<projcsn Sync="TRUE">NAD_1983_UTM_Zone_19N</projcsn>
<peXml Sync="TRUE">&lt;ProjectedCoordinateSystem xsi:type='typens:ProjectedCoordinateSystem' xmlns:xsi='http://www.w3.org/2001/XMLSchema-instance' xmlns:xs='http://www.w3.org/2001/XMLSchema' xmlns:typens='http://www.esri.com/schemas/ArcGIS/10.5'&gt;&lt;WKT&gt;PROJCS[&amp;quot;NAD_1983_UTM_Zone_19N&amp;quot;,GEOGCS[&amp;quot;GCS_North_American_1983&amp;quot;,DATUM[&amp;quot;D_North_American_1983&amp;quot;,SPHEROID[&amp;quot;GRS_1980&amp;quot;,6378137.0,298.257222101]],PRIMEM[&amp;quot;Greenwich&amp;quot;,0.0],UNIT[&amp;quot;Degree&amp;quot;,0.0174532925199433]],PROJECTION[&amp;quot;Transverse_Mercator&amp;quot;],PARAMETER[&amp;quot;False_Easting&amp;quot;,500000.0],PARAMETER[&amp;quot;False_Northing&amp;quot;,0.0],PARAMETER[&amp;quot;Central_Meridian&amp;quot;,-69.0],PARAMETER[&amp;quot;Scale_Factor&amp;quot;,0.9996],PARAMETER[&amp;quot;Latitude_Of_Origin&amp;quot;,0.0],UNIT[&amp;quot;Meter&amp;quot;,1.0],AUTHORITY[&amp;quot;EPSG&amp;quot;,26919]]&lt;/WKT&gt;&lt;XOrigin&gt;-5120900&lt;/XOrigin&gt;&lt;YOrigin&gt;-9998100&lt;/YOrigin&gt;&lt;XYScale&gt;450445547.3910538&lt;/XYScale&gt;&lt;ZOrigin&gt;-100000&lt;/ZOrigin&gt;&lt;ZScale&gt;10000&lt;/ZScale&gt;&lt;MOrigin&gt;-100000&lt;/MOrigin&gt;&lt;MScale&gt;10000&lt;/MScale&gt;&lt;XYTolerance&gt;0.001&lt;/XYTolerance&gt;&lt;ZTolerance&gt;0.001&lt;/ZTolerance&gt;&lt;MTolerance&gt;0.001&lt;/MTolerance&gt;&lt;HighPrecision&gt;true&lt;/HighPrecision&gt;&lt;WKID&gt;26919&lt;/WKID&gt;&lt;LatestWKID&gt;26919&lt;/LatestWKID&gt;&lt;/ProjectedCoordinateSystem&gt;</peXml>
</coordRef>
<RasterProperties>
<General>
<PixelDepth Sync="TRUE">8</PixelDepth>
<HasColormap Sync="TRUE">FALSE</HasColormap>
<CompressionType Sync="TRUE">None</CompressionType>
<NumBands Sync="TRUE">4</NumBands>
<Format Sync="TRUE">AMD</Format>
<HasPyramids Sync="TRUE">TRUE</HasPyramids>
<SourceType Sync="TRUE">continuous</SourceType>
<PixelType Sync="TRUE">unsigned integer</PixelType>
<NoDataValue Sync="TRUE"/>
</General>
<Properties>
<MaxImageHeight Sync="TRUE">4100</MaxImageHeight>
<MaxImageWidth Sync="TRUE">15000</MaxImageWidth>
<MaxRecordCount Sync="TRUE">1000</MaxRecordCount>
<MaxDownloadImageCount Sync="TRUE">20</MaxDownloadImageCount>
<MaxDownloadSizeLimit Sync="TRUE">2048</MaxDownloadSizeLimit>
<MaxMosaicImageCount Sync="TRUE">20</MaxMosaicImageCount>
<DefaultCompressionQuality Sync="TRUE">75</DefaultCompressionQuality>
<DefaultCompressionTolerance Sync="TRUE">0.01</DefaultCompressionTolerance>
<BlendWidth Sync="TRUE">10</BlendWidth>
<ViewpointSpacingX Sync="TRUE">600</ViewpointSpacingX>
<ViewpointSpacingY Sync="TRUE">300</ViewpointSpacingY>
<AllowedItemMetadata Sync="TRUE">Basic</AllowedItemMetadata>
<DefaultResamplingMethod Sync="TRUE">1</DefaultResamplingMethod>
<AllowedMosaicMethods Sync="TRUE">NorthWest,Center,LockRaster,ByAttribute,Nadir,Viewpoint,Seamline,None</AllowedMosaicMethods>
<AllowedCompressions Sync="TRUE">None,JPEG,LZ77,LERC</AllowedCompressions>
<AllowedMensurationCapabilities Sync="TRUE">Basic</AllowedMensurationCapabilities>
<AvailableMensurationCapabilities Sync="TRUE">None,Basic,Base-Top Height,Top-Top Shadow Height,Base-Top Shadow Height,3D</AvailableMensurationCapabilities>
<ClipToBoundary Sync="TRUE">-1</ClipToBoundary>
<FootprintMayContainNoData Sync="TRUE">-1</FootprintMayContainNoData>
<CellSizeTolerance Sync="TRUE">0.8</CellSizeTolerance>
<MinimumPixelContribution Sync="TRUE">1</MinimumPixelContribution>
<AvailableMosaicMethods Sync="TRUE">NorthWest,Center,LockRaster,ByAttribute,Nadir,Viewpoint,Seamline,None</AvailableMosaicMethods>
<AvailableCompressionMethods Sync="TRUE">None,JPEG,LZ77,LERC</AvailableCompressionMethods>
<AvailableItemMetadataLevels Sync="TRUE">None,Basic,Full</AvailableItemMetadataLevels>
<BandDefinitionKeyword Sync="TRUE">NaturalColorRGBI</BandDefinitionKeyword>
<AllowedFields Sync="TRUE">Name,MinPS,MaxPS,LowPS,HighPS,Tag,GroupName,ProductName,CenterX,CenterY,ZOrder,Shape_Length,Shape_Area</AllowedFields>
<MaxCellSize Sync="TRUE">21870.0000000002</MaxCellSize>
<LowCellSize Sync="TRUE">0.150000000000002</LowCellSize>
<HighCellSize Sync="TRUE">437.400000000003</HighCellSize>
</Properties>
<Functions Sync="TRUE">
<Function Description="Performs on-the-fly mosaic on a raster catalog." Name="Mosaic Function"/>
</Functions>
</RasterProperties>
</DataProperties>
<SyncDate>20181004</SyncDate>
<SyncTime>15103700</SyncTime>
<ModDate>20181004</ModDate>
<ModTime>15143000</ModTime>
<scaleRange>
<minScale>150000000</minScale>
<maxScale>5000</maxScale>
</scaleRange>
<ArcGISProfile>FGDC</ArcGISProfile>
</Esri>
<mdLang>
<languageCode value="eng"/>
<countryCode Sync="TRUE" value="USA"/>
</mdLang>
<mdChar>
<CharSetCd value="004"/>
</mdChar>
<mdHrLv>
<ScopeCd value="005"/>
</mdHrLv>
<mdContact>
<rpIndName>Patrick Cowan</rpIndName>
<rpOrgName>Sewall Company</rpOrgName>
<rpPosName>Digital Imaging Analyst</rpPosName>
<rpCntInfo>
<cntPhone>
<voiceNum>207-817-5518</voiceNum>
<faxNum>207-827-3641</faxNum>
</cntPhone>
<cntAddress addressType="postal">
<delPoint>P.O. Box 433</delPoint>
<city>Old Town</city>
<adminArea>ME</adminArea>
<postCode>04468</postCode>
<country>US</country>
<eMailAdd>cowpa@sewall.com</eMailAdd>
</cntAddress>
<cntHours>8 to 5 (EST)</cntHours>
</rpCntInfo>
<role>
<RoleCd value="007"/>
</role>
</mdContact>
<mdDateSt Sync="TRUE">20181004</mdDateSt>
<mdStanName>ArcGIS Metadata</mdStanName>
<mdStanVer>1.0</mdStanVer>
<distInfo>
<distributor>
<distorCont>
<rpOrgName>Sewall Company</rpOrgName>
<rpCntInfo>
<cntPhone>
<voiceNum>207-827-4456</voiceNum>
<faxNum>207-827-3641</faxNum>
</cntPhone>
<cntAddress addressType="postal">
<delPoint>P.O. Box 433</delPoint>
<city>Old Town</city>
<adminArea>ME</adminArea>
<postCode>04468</postCode>
<country>US</country>
</cntAddress>
<cntHours>8 to 5 (EST)</cntHours>
</rpCntInfo>
<role>
<RoleCd value="005"/>
</role>
</distorCont>
<distorOrdPrc>
<resFees>To be determined by Casco Bay Estuary Partnership</resFees>
</distorOrdPrc>
<distorTran>
<offLineMed>
<medName>
<MedNameCd value="018"/>
</medName>
<medNote>To be determined by Casco Bay Estuary Partnership</medNote>
</offLineMed>
</distorTran>
</distributor>
<distTranOps>
<onLineSrc>
<linkage>None</linkage>
</onLineSrc>
</distTranOps>
</distInfo>
<dataIdInfo>
<idCitation>
<resTitle Sync="TRUE">orthoCoastalCascoBay2013</resTitle>
<date>
<pubDate>2013-09-18</pubDate>
</date>
<resEd>First</resEd>
<citRespParty>
<rpOrgName>Sewall Company</rpOrgName>
<role>
<RoleCd value="006"/>
</role>
</citRespParty>
<presForm>
<fgdcGeoform>Raster</fgdcGeoform>
<PresFormCd Sync="TRUE" value="005"/>
</presForm>
</idCitation>
<idAbs>&lt;div style='text-align:Left;'&gt;&lt;div&gt;&lt;p&gt;&lt;span&gt;0.15 meter ground sample distance (GSD), high resolution digital orthophotographs produced from aerial photos collected over the Casco Bay area of Maine on August 11 and 12, 2013. Each pixel represents a planimetric square 0.15 meter on a side on the ground. Aerial photography was flown at approximately 453 meters above mean ground level (mean ground level is approximately 8 meters). Source elevation data is 1/3 arc second data acquired from USGS. The digital orthorectified images are referenced to North American Datum 1983, UTM Zone 19 expressed in units of meters. 3 band tiled MG3 MrSid files were created. Imagery tiles provide complete coverage of the Casco Bay site in Maine.&lt;/span&gt;&lt;/p&gt;&lt;/div&gt;&lt;/div&gt;</idAbs>
<idPurp>Maine Orthoimagery Coastal Casco Bay 2013</idPurp>
<idCredit>MaineDEP, Maine GeoLibrary</idCredit>
<idStatus>
<ProgCd value="001"/>
</idStatus>
<idPoC>
<rpIndName>Nicole Cyr</rpIndName>
<rpOrgName>Sewall Company</rpOrgName>
<rpPosName>Imaging and Photogrammetry Production Manager</rpPosName>
<rpCntInfo>
<cntPhone>
<voiceNum>207-817-5464</voiceNum>
<faxNum>207-827-3641</faxNum>
</cntPhone>
<cntAddress addressType="postal">
<delPoint>P.O. Box 433</delPoint>
<city>Old Town</city>
<adminArea>ME</adminArea>
<postCode>04468</postCode>
<country>US</country>
<eMailAdd>cyrn@sewall.com</eMailAdd>
</cntAddress>
<cntHours>8 to 5 (EST)</cntHours>
</rpCntInfo>
<role>
<RoleCd value="007"/>
</role>
</idPoC>
<resMaint>
<maintFreq>
<MaintFreqCd value="009"/>
</maintFreq>
</resMaint>
<graphOver>
<bgFileName>None</bgFileName>
<bgFileDesc>None</bgFileDesc>
<bgFileType>None</bgFileType>
</graphOver>
<placeKeys>
<keyword>Harpswell</keyword>
<keyword>Freeport</keyword>
<keyword>Portland</keyword>
<keyword>Phippsburg</keyword>
<keyword>Yarmouth</keyword>
<keyword>North America</keyword>
<keyword>Cumberland County</keyword>
<keyword>United States</keyword>
<keyword>Maine</keyword>
</placeKeys>
<themeKeys>
<keyword>3 Band MG3 MrSids</keyword>
<keyword>Orthophotography</keyword>
<keyword>Planning</keyword>
<keyword>NIR</keyword>
<keyword>Digital Imagery</keyword>
<keyword>4 Band GeoTIFF</keyword>
<keyword>True Color</keyword>
</themeKeys>
<searchKeys>
<keyword>imageryBaseMapsEarthCover</keyword>
<keyword>ortho</keyword>
<keyword>orthoimagery</keyword>
<keyword>orthophotography</keyword>
<keyword>GeoLibrary</keyword>
<keyword>Maine</keyword>
<keyword>MaineGeoLibrary</keyword>
<keyword>MaineGIS</keyword>
<keyword>coastal</keyword>
<keyword>Casco Bay</keyword>
<keyword>2013</keyword>
</searchKeys>
<resConst>
<LegConsts>
<useLimit>To be determined by Casco Bay Estuary Partnership</useLimit>
<othConsts>Secondary distribution by permission only.</othConsts>
</LegConsts>
</resConst>
<resConst>
<Consts>
<useLimit>&lt;div style='text-align:Left;'&gt;&lt;div&gt;&lt;p&gt;&lt;span&gt;Access: Public Use: User assumes risk.&lt;/span&gt;&lt;/p&gt;&lt;/div&gt;&lt;/div&gt;</useLimit>
</Consts>
</resConst>
<dataLang>
<languageCode value="eng"/>
<countryCode Sync="TRUE" value="USA"/>
</dataLang>
<envirDesc Sync="TRUE"> Version 6.2 (Build 9200) ; Esri ArcGIS 10.5.1.7333</envirDesc>
<dataExt>
<geoEle>
<GeoBndBox>
<westBL>-70.365</westBL>
<eastBL>-69.798</eastBL>
<southBL>43.525</southBL>
<northBL>43.962</northBL>
</GeoBndBox>
</geoEle>
</dataExt>
<dataExt>
<exDesc>ground condition</exDesc>
<tempEle>
<TempExtent>
<exTemp>
<TM_Period>
<tmBegin>2013-08-11</tmBegin>
<tmEnd>2013-08-12</tmEnd>
</TM_Period>
</exTemp>
</TempExtent>
</tempEle>
</dataExt>
<spatRpType>
<SpatRepTypCd Sync="TRUE" value="002"/>
</spatRpType>
<dataExt>
<geoEle>
<GeoBndBox esriExtentType="search">
<exTypeCode Sync="TRUE">1</exTypeCode>
<westBL Sync="TRUE">-70.364788</westBL>
<eastBL Sync="TRUE">-69.798224</eastBL>
<northBL Sync="TRUE">43.962303</northBL>
<southBL Sync="TRUE">43.524913</southBL>
</GeoBndBox>
</geoEle>
</dataExt>
<tpCat>
<TopicCatCd value="015"/>
</tpCat>
<tpCat>
<TopicCatCd value="010"/>
</tpCat>
</dataIdInfo>
<dqInfo>
<dqScope>
<scpLvl>
<ScopeCd value="005"/>
</scpLvl>
</dqScope>
<report type="DQConcConsis">
<measDesc>Each tile is complete to the extents of the limits as defined by the Casco Bay Estuary Partnership project of 2013.</measDesc>
</report>
<report type="DQCompOm">
<measDesc>Complete digital orthorectified image mosaics, covering the Casco Bay site of Maine for August 11 and 12, 2013.</measDesc>
</report>
<dataLineage>
<prcStep>
<stepDesc>Aerial photography for Casco Bay site in Maine was flown at approximately 453 meters above mean ground level (mean ground level is approximately 8 meters). Imagery was captured using one DMC1 camera (serial number DMC131). Color aerial photography flown in a generally northeast-southwest direction, controlled by Airborne Global Positioning System (GPS). Inertial Measurement Unit (IMU) data was acquired and digitally processed over the Casco Bay project area. The photography was acquired only under conditions that minimize clouds and cloud shadows, smoke, haze, light streaks, snow, flooding, excessive soil moisture and during optimal shadow conditions. Casco Bay Estuary Partnership communicated the appropriate flight window to capture the imagery. Adequate stereo coverage over the project area was required with a minimum overlap of 60% forward and 30% side.</stepDesc>
<stepDateTm>2013-08-12</stepDateTm>
<stepProc>
<rpIndName>Nicole Cyr</rpIndName>
<rpOrgName>Sewall Company</rpOrgName>
<rpPosName>Imaging and Photogrammetry Production Manager</rpPosName>
<rpCntInfo>
<cntPhone>
<voiceNum>207-817-5464</voiceNum>
<faxNum>207-827-3641</faxNum>
</cntPhone>
<cntAddress addressType="physical">
<delPoint>136 Center St.</delPoint>
<city>Old Town</city>
<adminArea>ME</adminArea>
<postCode>04468</postCode>
<country>US</country>
<eMailAdd>cyrn@sewall.com</eMailAdd>
</cntAddress>
<cntHours>8 to 5 (EST)</cntHours>
</rpCntInfo>
<role>
<RoleCd value="009"/>
</role>
</stepProc>
</prcStep>
<prcStep>
<stepDesc>Imagery was orthorectified utilizing a 1/3 arc second acquired from USGS. The exterior orientations were obtained from the processing of the Airborne Global Positioning System (GPS) and Inertial Measurement Unit (IMU) data. Imagery was processed to achieve a 0.15 meter ground sample distance (GSD).</stepDesc>
<stepDateTm>2013-09-02</stepDateTm>
<stepProc>
<rpIndName>Nicole Cyr</rpIndName>
<rpOrgName>Sewall Company</rpOrgName>
<rpPosName>Imaging and Photogrammetry Production Manager</rpPosName>
<rpCntInfo>
<cntPhone>
<voiceNum>207-817-5464</voiceNum>
<faxNum>207-827-3641</faxNum>
</cntPhone>
<cntAddress addressType="postal">
<delPoint>136 Center St.</delPoint>
<city>Old Town</city>
<adminArea>ME</adminArea>
<postCode>04468</postCode>
<country>US</country>
<eMailAdd>cyrn@sewall.com</eMailAdd>
</cntAddress>
<cntHours>8 to 5 (EST)</cntHours>
</rpCntInfo>
<role>
<RoleCd value="009"/>
</role>
</stepProc>
</prcStep>
</dataLineage>
</dqInfo>
<refSysInfo>
<RefSystem>
<refSysID>
<identCode Sync="TRUE" code="26919"/>
<idCodeSpace Sync="TRUE">EPSG</idCodeSpace>
<idVersion Sync="TRUE">6.13(3.0.1)</idVersion>
</refSysID>
</RefSystem>
</refSysInfo>
<spatRepInfo>
<Georect>
<cellGeo>
<CellGeoCd Sync="TRUE" value="002"/>
</cellGeo>
<numDims Sync="TRUE">2</numDims>
<tranParaAv Sync="TRUE">1</tranParaAv>
<chkPtAv Sync="TRUE">0</chkPtAv>
<cornerPts>
<pos Sync="TRUE">390499.950000 4819999.950000</pos>
</cornerPts>
<cornerPts>
<pos Sync="TRUE">390499.950000 4868000.100000</pos>
</cornerPts>
<cornerPts>
<pos Sync="TRUE">435500.100000 4868000.100000</pos>
</cornerPts>
<cornerPts>
<pos Sync="TRUE">435500.100000 4819999.950000</pos>
</cornerPts>
<centerPt>
<pos Sync="TRUE">413000.025000 4844000.025000</pos>
</centerPt>
<axisDimension type="002">
<dimSize Sync="TRUE">300001</dimSize>
<dimResol>
<value Sync="TRUE" uom="m">0.150000</value>
</dimResol>
</axisDimension>
<axisDimension type="001">
<dimSize Sync="TRUE">320001</dimSize>
<dimResol>
<value Sync="TRUE" uom="m">0.150000</value>
</dimResol>
</axisDimension>
<ptInPixel>
<PixOrientCd Sync="TRUE" value="001"/>
</ptInPixel>
</Georect>
</spatRepInfo>
<contInfo>
<ImgDesc>
<contentTyp>
<ContentTypCd Sync="TRUE" value="001"/>
</contentTyp>
<covDim>
<Band>
<dimDescrp Sync="TRUE">Red</dimDescrp>
<maxVal Sync="TRUE">255.000000</maxVal>
<minVal Sync="TRUE">1.000000</minVal>
<bitsPerVal Sync="TRUE">8</bitsPerVal>
<valUnit>
<UOM type="length"/>
</valUnit>
</Band>
<Band>
<dimDescrp Sync="TRUE">Green</dimDescrp>
<maxVal Sync="TRUE">255.000000</maxVal>
<minVal Sync="TRUE">27.000000</minVal>
<bitsPerVal Sync="TRUE">8</bitsPerVal>
<valUnit>
<UOM type="length"/>
</valUnit>
</Band>
<Band>
<dimDescrp Sync="TRUE">Blue</dimDescrp>
<maxVal Sync="TRUE">255.000000</maxVal>
<minVal Sync="TRUE">36.000000</minVal>
<bitsPerVal Sync="TRUE">8</bitsPerVal>
<valUnit>
<UOM type="length"/>
</valUnit>
</Band>
<Band>
<dimDescrp Sync="TRUE">Infrared</dimDescrp>
<maxVal Sync="TRUE">255.000000</maxVal>
<minVal Sync="TRUE">36.000000</minVal>
<bitsPerVal Sync="TRUE">8</bitsPerVal>
<valUnit>
<UOM type="length"/>
</valUnit>
</Band>
</covDim>
</ImgDesc>
</contInfo>
</metadata>
