<?xml version="1.0" encoding="UTF-8" standalone="no"?>
<metadata xml:lang="en">
<Esri>
<CreaDate>20181004</CreaDate>
<CreaTime>11123900</CreaTime>
<ArcGISFormat>1.0</ArcGISFormat>
<ArcGISstyle>FGDC CSDGM Metadata</ArcGISstyle>
<SyncOnce>FALSE</SyncOnce>
<DataProperties>
<lineage>
<Process Date="20181004" Name="" Time="111239" ToolSource="c:\program files (x86)\arcgis\desktop10.5\ArcToolbox\Toolboxes\Data Management Tools.tbx\CreateMosaicDataset" export="">CreateMosaicDataset \\stgisdataprd001.file.core.windows.net\gisprd1gisdata\svcFgdb\megis\orthoCoastal.gdb orthoCoastalCentralCoast2001 "PROJCS['NAD_1983_UTM_Zone_19N',GEOGCS['GCS_North_American_1983',DATUM['D_North_American_1983',SPHEROID['GRS_1980',6378137.0,298.257222101]],PRIMEM['Greenwich',0.0],UNIT['Degree',0.0174532925199433]],PROJECTION['Transverse_Mercator'],PARAMETER['False_Easting',500000.0],PARAMETER['False_Northing',0.0],PARAMETER['Central_Meridian',-69.0],PARAMETER['Scale_Factor',0.9996],PARAMETER['Latitude_Of_Origin',0.0],UNIT['Meter',1.0]];-5120900 -9998100 10000;-100000 10000;-100000 10000;0.001;0.001;0.001;IsHighPrecision" 4 8_BIT_UNSIGNED NATURAL_COLOR_RGBI "Red 630 690;Green 530 570;Blue 440 510;Infrared 770 830"</Process>
</lineage>
<itemProps>
<itemName Sync="TRUE">orthoCoastalCentralCoast2001</itemName>
<itemLocation>
<linkage Sync="TRUE">file://\\stgisdataprd001.file.core.windows.net\gisprd1gisdata\svcFgdb\megis\orthoCoastal.gdb</linkage>
<protocol Sync="TRUE">Local Area Network</protocol>
</itemLocation>
<nativeExtBox>
<westBL Sync="TRUE">378607.800000</westBL>
<eastBL Sync="TRUE">437180.100000</eastBL>
<southBL Sync="TRUE">4806887.000000</southBL>
<northBL Sync="TRUE">4868791.100000</northBL>
<exTypeCode Sync="TRUE">1</exTypeCode>
</nativeExtBox>
<imsContentType>003</imsContentType>
</itemProps>
<coordRef>
<type Sync="TRUE">Projected</type>
<geogcsn Sync="TRUE">GCS_North_American_1983</geogcsn>
<csUnits Sync="TRUE">Linear Unit: Meter (1.000000)</csUnits>
<projcsn Sync="TRUE">NAD_1983_UTM_Zone_19N</projcsn>
<peXml Sync="TRUE">&lt;ProjectedCoordinateSystem xsi:type='typens:ProjectedCoordinateSystem' xmlns:xsi='http://www.w3.org/2001/XMLSchema-instance' xmlns:xs='http://www.w3.org/2001/XMLSchema' xmlns:typens='http://www.esri.com/schemas/ArcGIS/10.5'&gt;&lt;WKT&gt;PROJCS[&amp;quot;NAD_1983_UTM_Zone_19N&amp;quot;,GEOGCS[&amp;quot;GCS_North_American_1983&amp;quot;,DATUM[&amp;quot;D_North_American_1983&amp;quot;,SPHEROID[&amp;quot;GRS_1980&amp;quot;,6378137.0,298.257222101]],PRIMEM[&amp;quot;Greenwich&amp;quot;,0.0],UNIT[&amp;quot;Degree&amp;quot;,0.0174532925199433]],PROJECTION[&amp;quot;Transverse_Mercator&amp;quot;],PARAMETER[&amp;quot;False_Easting&amp;quot;,500000.0],PARAMETER[&amp;quot;False_Northing&amp;quot;,0.0],PARAMETER[&amp;quot;Central_Meridian&amp;quot;,-69.0],PARAMETER[&amp;quot;Scale_Factor&amp;quot;,0.9996],PARAMETER[&amp;quot;Latitude_Of_Origin&amp;quot;,0.0],UNIT[&amp;quot;Meter&amp;quot;,1.0],AUTHORITY[&amp;quot;EPSG&amp;quot;,26919]]&lt;/WKT&gt;&lt;XOrigin&gt;-5120900&lt;/XOrigin&gt;&lt;YOrigin&gt;-9998100&lt;/YOrigin&gt;&lt;XYScale&gt;450445547.3910538&lt;/XYScale&gt;&lt;ZOrigin&gt;-100000&lt;/ZOrigin&gt;&lt;ZScale&gt;10000&lt;/ZScale&gt;&lt;MOrigin&gt;-100000&lt;/MOrigin&gt;&lt;MScale&gt;10000&lt;/MScale&gt;&lt;XYTolerance&gt;0.001&lt;/XYTolerance&gt;&lt;ZTolerance&gt;0.001&lt;/ZTolerance&gt;&lt;MTolerance&gt;0.001&lt;/MTolerance&gt;&lt;HighPrecision&gt;true&lt;/HighPrecision&gt;&lt;WKID&gt;26919&lt;/WKID&gt;&lt;LatestWKID&gt;26919&lt;/LatestWKID&gt;&lt;/ProjectedCoordinateSystem&gt;</peXml>
</coordRef>
<RasterProperties>
<General>
<PixelDepth Sync="TRUE">8</PixelDepth>
<HasColormap Sync="TRUE">FALSE</HasColormap>
<CompressionType Sync="TRUE">None</CompressionType>
<NumBands Sync="TRUE">4</NumBands>
<Format Sync="TRUE">AMD</Format>
<HasPyramids Sync="TRUE">TRUE</HasPyramids>
<SourceType Sync="TRUE">continuous</SourceType>
<PixelType Sync="TRUE">unsigned integer</PixelType>
<NoDataValue Sync="TRUE">0</NoDataValue>
</General>
<Properties>
<MaxImageHeight Sync="TRUE">4100</MaxImageHeight>
<MaxImageWidth Sync="TRUE">15000</MaxImageWidth>
<MaxRecordCount Sync="TRUE">1000</MaxRecordCount>
<MaxDownloadImageCount Sync="TRUE">20</MaxDownloadImageCount>
<MaxDownloadSizeLimit Sync="TRUE">2048</MaxDownloadSizeLimit>
<MaxMosaicImageCount Sync="TRUE">20</MaxMosaicImageCount>
<DefaultCompressionQuality Sync="TRUE">87</DefaultCompressionQuality>
<DefaultCompressionTolerance Sync="TRUE">0.01</DefaultCompressionTolerance>
<BlendWidth Sync="TRUE">10</BlendWidth>
<ViewpointSpacingX Sync="TRUE">600</ViewpointSpacingX>
<ViewpointSpacingY Sync="TRUE">300</ViewpointSpacingY>
<AllowedItemMetadata Sync="TRUE">Basic</AllowedItemMetadata>
<DefaultResamplingMethod Sync="TRUE">1</DefaultResamplingMethod>
<AllowedMosaicMethods Sync="TRUE">NorthWest,Center,ByAttribute,Nadir,Viewpoint,None</AllowedMosaicMethods>
<AllowedCompressions Sync="TRUE">LZ77,None,JPEG,LERC</AllowedCompressions>
<AllowedMensurationCapabilities Sync="TRUE">None</AllowedMensurationCapabilities>
<AvailableMensurationCapabilities Sync="TRUE">None,Basic,Base-Top Height,Top-Top Shadow Height,Base-Top Shadow Height,3D</AvailableMensurationCapabilities>
<ClipToBoundary Sync="TRUE">-1</ClipToBoundary>
<FootprintMayContainNoData Sync="TRUE">-1</FootprintMayContainNoData>
<CellSizeTolerance Sync="TRUE">0.8</CellSizeTolerance>
<MinimumPixelContribution Sync="TRUE">1</MinimumPixelContribution>
<AvailableMosaicMethods Sync="TRUE">NorthWest,Center,LockRaster,ByAttribute,Nadir,Viewpoint,Seamline,None</AvailableMosaicMethods>
<AvailableCompressionMethods Sync="TRUE">None,JPEG,LZ77,LERC</AvailableCompressionMethods>
<AvailableItemMetadataLevels Sync="TRUE">None,Basic,Full</AvailableItemMetadataLevels>
<BandDefinitionKeyword Sync="TRUE">NaturalColorRGBI</BandDefinitionKeyword>
<AllowedFields Sync="TRUE">Name,MinPS,MaxPS,LowPS,HighPS,Tag,GroupName,ProductName,CenterX,CenterY,ZOrder,Shape_Length,Shape_Area,Date,DateInt</AllowedFields>
<ApplyColorCorrection Sync="TRUE">0</ApplyColorCorrection>
<MaxCellSize Sync="TRUE">14580.0000000001</MaxCellSize>
<LowCellSize Sync="TRUE">0.299999999999968</LowCellSize>
<HighCellSize Sync="TRUE">291.600000000003</HighCellSize>
<TimeValueFormat Sync="TRUE">YYYY-MM-DD</TimeValueFormat>
<EndTimeFieldName Sync="TRUE">Date</EndTimeFieldName>
<StartTimeFieldName Sync="TRUE">Date</StartTimeFieldName>
<TimeIntervalUnits Sync="TRUE">Days</TimeIntervalUnits>
<TimeInterval Sync="TRUE">2</TimeInterval>
<MosaicOperator Sync="TRUE">1</MosaicOperator>
<BlendWidthUnits Sync="TRUE">1</BlendWidthUnits>
<UseTime Sync="TRUE">-1</UseTime>
<SortAscending Sync="TRUE">-1</SortAscending>
<ClipToFootprint Sync="TRUE">0</ClipToFootprint>
<SortField Sync="TRUE">MinPS</SortField>
<SortValue Sync="TRUE">0</SortValue>
</Properties>
<Functions Sync="TRUE">
<Function Description="Performs on-the-fly mosaic on a raster catalog." Name="Mosaic Function"/>
</Functions>
</RasterProperties>
</DataProperties>
<SyncDate>20181004</SyncDate>
<SyncTime>11345800</SyncTime>
<ModDate>20181004</ModDate>
<ModTime>11345800</ModTime>
<scaleRange>
<minScale>150000000</minScale>
<maxScale>5000</maxScale>
</scaleRange>
<ArcGISProfile>FGDC</ArcGISProfile>
</Esri>
<mdLang>
<languageCode value="eng"/>
<countryCode Sync="TRUE" value="USA"/>
</mdLang>
<mdChar>
<CharSetCd value="004"/>
</mdChar>
<mdHrLv>
<ScopeCd value="005"/>
</mdHrLv>
<mdContact>
<rpIndName>Nicole Cyr</rpIndName>
<rpOrgName>Sewall Company</rpOrgName>
<rpPosName>Imaging Production Manager</rpPosName>
<rpCntInfo>
<cntPhone>
<voiceNum>207-827-4456 ext. 264</voiceNum>
<faxNum>207-827-3641</faxNum>
</cntPhone>
<cntAddress addressType="postal">
<delPoint>P.O. Box 433</delPoint>
<city>Old Town</city>
<adminArea>ME</adminArea>
<postCode>04468</postCode>
<country>US</country>
</cntAddress>
<cntHours>Monday through Friday 0800 - 1800 EST</cntHours>
</rpCntInfo>
<role>
<RoleCd value="007"/>
</role>
</mdContact>
<mdDateSt Sync="TRUE">20181004</mdDateSt>
<mdStanName>ArcGIS Metadata</mdStanName>
<mdStanVer>1.0</mdStanVer>
<distInfo>
<distributor>
<distorCont>
<rpOrgName>Sewall Company</rpOrgName>
<rpCntInfo>
<cntPhone>
<voiceNum>207-827-4456</voiceNum>
<faxNum>207-827-3641</faxNum>
</cntPhone>
<cntAddress addressType="physical">
<delPoint>147 Center St.</delPoint>
<city>Old Town</city>
<adminArea>ME</adminArea>
<postCode>04468</postCode>
<country>US</country>
</cntAddress>
<cntHours>Monday through Friday 0800 - 1800 EST</cntHours>
</rpCntInfo>
<role>
<RoleCd value="005"/>
</role>
</distorCont>
<distorOrdPrc>
<resFees>To Be Determined by The Maine Department of Marine Resources</resFees>
</distorOrdPrc>
<distorTran>
<offLineMed>
<medName>
<MedNameCd value="018"/>
</medName>
<medNote>To Be Determined by The Maine Department of Marine Resources</medNote>
</offLineMed>
</distorTran>
</distributor>
</distInfo>
<dataIdInfo>
<idCitation>
<resTitle Sync="TRUE">orthoCoastalCentralCoast2001</resTitle>
<date>
<pubDate time="unknown">2009-03-26</pubDate>
</date>
<resEd>First</resEd>
<citRespParty>
<rpOrgName>Sewall Company</rpOrgName>
<role>
<RoleCd value="006"/>
</role>
</citRespParty>
<presForm>
<PresFormCd value="005"/>
</presForm>
<presForm>
<fgdcGeoform>raster digital data</fgdcGeoform>
</presForm>
</idCitation>
<idAbs>&lt;DIV STYLE="text-align:Left;"&gt;&lt;DIV&gt;&lt;P&gt;&lt;SPAN&gt;Color infrared, 0.3 meter ground sample distance (GSD) , high resolution digital orthophotographs produced from aerial photos collected over the Maine coastline in the Fall of 2001 and 2002. Each pixel represents a planimetric square 0.3 meter on a side on the ground. Aerial photography was flown at 1,830 meters above mean ground level. The aerial imagery was georeferenced using 2D rectification methedology utilizing cubic convolution resampling and a minumum of 4 ground control points (GCP's). The digital orthorectified images are referenced to North American Datum 1983, UTM Zone 19, expressed in units of meters. The completed orthorectified TIFF and MG3 MrSid files represent Digital Ortho Quarter Quads (DOQQ) sized tiles. Imagery tiles provide complete coverage of the Maine Department of Marine Resources boundaries as defined by the project.&lt;/SPAN&gt;&lt;/P&gt;&lt;/DIV&gt;&lt;/DIV&gt;</idAbs>
<idPurp>Maine Orthoimagery Coastal Central Coast 2001</idPurp>
<idCredit>MaineDMR, MaineGeoLibrary</idCredit>
<idStatus>
<ProgCd value="001"/>
</idStatus>
<idPoC>
<rpIndName>Nicole Cyr</rpIndName>
<rpOrgName>Sewall Company</rpOrgName>
<rpPosName>Imaging Production Manager</rpPosName>
<rpCntInfo>
<cntPhone>
<voiceNum>207-827-4456 ext. 264</voiceNum>
<faxNum>207-827-3641</faxNum>
</cntPhone>
<cntAddress addressType="physical">
<delPoint>147 Center St.</delPoint>
<city>Old Town</city>
<adminArea>ME</adminArea>
<postCode>04468</postCode>
<country>US</country>
<eMailAdd>nicole.cyr@sewall.com</eMailAdd>
</cntAddress>
<cntHours>Monday through Friday 0800 - 1700 EST</cntHours>
</rpCntInfo>
<role>
<RoleCd value="007"/>
</role>
</idPoC>
<resMaint>
<maintFreq>
<MaintFreqCd value="012"/>
</maintFreq>
</resMaint>
<graphOver>
<bgFileName>None</bgFileName>
<bgFileDesc>None</bgFileDesc>
<bgFileType>None</bgFileType>
</graphOver>
<placeKeys>
<keyword>Maine</keyword>
<keyword>United States</keyword>
<keyword>Coast</keyword>
</placeKeys>
<themeKeys>
<keyword>Vegetation</keyword>
<keyword>Coastline</keyword>
<keyword>Color Imagery</keyword>
<keyword>Ocean</keyword>
<keyword>Ground Sample Distance 0.3 Meter</keyword>
<keyword>Ortho-rectified Digital Imagery</keyword>
</themeKeys>
<searchKeys>
<keyword>imageryBaseMapsEarthCover</keyword>
<keyword>ortho</keyword>
<keyword>orthoimagery</keyword>
<keyword>orthophotography</keyword>
<keyword>GeoLibrary</keyword>
<keyword>Maine</keyword>
<keyword>MaineGeoLibrary</keyword>
<keyword>MaineGIS</keyword>
<keyword>coastal</keyword>
<keyword>Central Coast</keyword>
<keyword>2001</keyword>
<keyword>raster</keyword>
</searchKeys>
<resConst>
<LegConsts>
<useLimit>To Be Determined by The Maine Department of Marine Resources</useLimit>
<othConsts>Secondary distribution by permission only.</othConsts>
</LegConsts>
</resConst>
<resConst>
<Consts>
<useLimit>&lt;DIV STYLE="text-align:Left;"&gt;&lt;DIV&gt;&lt;P&gt;&lt;SPAN&gt;Access: Public Use: User assumes risk.&lt;/SPAN&gt;&lt;/P&gt;&lt;/DIV&gt;&lt;/DIV&gt;</useLimit>
</Consts>
</resConst>
<dataLang>
<languageCode value="eng"/>
<countryCode Sync="TRUE" value="USA"/>
</dataLang>
<dataExt>
<exDesc>ground condition</exDesc>
<tempEle>
<TempExtent>
<exTemp>
<TM_Instant>
<tmPosition>2002-07-12</tmPosition>
</TM_Instant>
</exTemp>
</TempExtent>
</tempEle>
<tempEle>
<TempExtent>
<exTemp>
<TM_Instant>
<tmPosition>2001-09-07</tmPosition>
</TM_Instant>
</exTemp>
</TempExtent>
</tempEle>
</dataExt>
<dataExt>
<geoEle>
<GeoBndBox>
<westBL>-70.48</westBL>
<eastBL>-69.8</eastBL>
<southBL>43.4</southBL>
<northBL>44</northBL>
</GeoBndBox>
</geoEle>
</dataExt>
<envirDesc Sync="TRUE"> Version 6.2 (Build 9200) ; Esri ArcGIS 10.5.1.7333</envirDesc>
<spatRpType>
<SpatRepTypCd Sync="TRUE" value="002"/>
</spatRpType>
<dataExt>
<geoEle>
<GeoBndBox esriExtentType="search">
<exTypeCode Sync="TRUE">1</exTypeCode>
<westBL Sync="TRUE">-70.513141</westBL>
<eastBL Sync="TRUE">-69.775923</eastBL>
<northBL Sync="TRUE">43.969570</northBL>
<southBL Sync="TRUE">43.405041</southBL>
</GeoBndBox>
</geoEle>
</dataExt>
<tpCat>
<TopicCatCd value="010"/>
</tpCat>
</dataIdInfo>
<dqInfo>
<dqScope>
<scpLvl>
<ScopeCd value="005"/>
</scpLvl>
</dqScope>
<report type="DQConcConsis">
<measDesc>Each Digital Ortho Quarter Quad (DOQQ) tile is complete to the extents of the photography</measDesc>
</report>
<report type="DQCompOm">
<measDesc>Complete digital orthorectified image mosaics, covering the Maine coastline according to the boundarys specified in the Maine Department of Marine Resources area for Fall of 2001 and 2002.</measDesc>
</report>
<report type="DQQuanAttAcc">
<measDesc>Orthophotos were tonally balanced to produce a uniform contrast and tone across the image tiles of the entire project.</measDesc>
</report>
<dataLineage>
<prcStep>
<stepDesc>Aerial photography for the Maine coastline was flown at 1,830 meters above mean ground level. Imagery was captured using two cameras (Camera 1 serial number: 127756, focal length 152.731; Camera 2 serial number 144126, focal length 153.327). Color aerial photography, was acquired and processed to a positive image over the Maine Department of Marine Resources project area. The photography acquired only under conditions free from clouds and cloud shadows, smoke, haze, light streaks, snow, flooding, excessive soil moisture, during minimal shadow conditions, and with sun angle greater than 30%. The film specified was KODAK 2448 POSITIVE and KODAK 2427 POSITIVE color original film, processed to a positive image. The aerial imagery was georeferenced using 2D rectification methedology utilizing cubic convolution resampling and a minumum of 4 ground control points (GCP's).</stepDesc>
<stepDateTm>2009-03-26</stepDateTm>
<stepProc>
<rpOrgName>Sewall Company</rpOrgName>
<rpCntInfo>
<cntPhone>
<voiceNum>207-827-4456</voiceNum>
<faxNum>207-827-3641</faxNum>
</cntPhone>
<cntAddress addressType="physical">
<delPoint>147 Center St.</delPoint>
<city>Old Town</city>
<adminArea>ME</adminArea>
<postCode>04468</postCode>
<country>US</country>
</cntAddress>
<cntHours>Monday through Friday 0800 - 1800 EST</cntHours>
</rpCntInfo>
<role>
<RoleCd value="009"/>
</role>
</stepProc>
</prcStep>
</dataLineage>
</dqInfo>
<refSysInfo>
<RefSystem>
<refSysID>
<identCode Sync="TRUE" code="26919"/>
<idCodeSpace Sync="TRUE">EPSG</idCodeSpace>
<idVersion Sync="TRUE">6.13(3.0.1)</idVersion>
</refSysID>
</RefSystem>
</refSysInfo>
<spatRepInfo>
<Georect>
<cellGeo>
<CellGeoCd Sync="TRUE" value="002"/>
</cellGeo>
<numDims Sync="TRUE">2</numDims>
<tranParaAv Sync="TRUE">1</tranParaAv>
<chkPtAv Sync="TRUE">0</chkPtAv>
<cornerPts>
<pos Sync="TRUE">378607.800000 4806887.000000</pos>
</cornerPts>
<cornerPts>
<pos Sync="TRUE">378607.800000 4868791.100000</pos>
</cornerPts>
<cornerPts>
<pos Sync="TRUE">437180.100000 4868791.100000</pos>
</cornerPts>
<cornerPts>
<pos Sync="TRUE">437180.100000 4806887.000000</pos>
</cornerPts>
<centerPt>
<pos Sync="TRUE">407893.950000 4837839.050000</pos>
</centerPt>
<axisDimension type="002">
<dimSize Sync="TRUE">195241</dimSize>
<dimResol>
<value Sync="TRUE" uom="m">0.300000</value>
</dimResol>
</axisDimension>
<axisDimension type="001">
<dimSize Sync="TRUE">206347</dimSize>
<dimResol>
<value Sync="TRUE" uom="m">0.300000</value>
</dimResol>
</axisDimension>
<ptInPixel>
<PixOrientCd Sync="TRUE" value="001"/>
</ptInPixel>
</Georect>
</spatRepInfo>
<contInfo>
<ImgDesc>
<contentTyp>
<ContentTypCd Sync="TRUE" value="001"/>
</contentTyp>
<covDim>
<Band>
<dimDescrp Sync="TRUE">Red</dimDescrp>
<maxVal Sync="TRUE">252.000000</maxVal>
<minVal Sync="TRUE">0.000000</minVal>
<bitsPerVal Sync="TRUE">8</bitsPerVal>
<valUnit>
<UOM type="length"/>
</valUnit>
</Band>
<Band>
<dimDescrp Sync="TRUE">Green</dimDescrp>
<maxVal Sync="TRUE">254.000000</maxVal>
<minVal Sync="TRUE">0.000000</minVal>
<bitsPerVal Sync="TRUE">8</bitsPerVal>
<valUnit>
<UOM type="length"/>
</valUnit>
</Band>
<Band>
<dimDescrp Sync="TRUE">Blue</dimDescrp>
<maxVal Sync="TRUE">254.000000</maxVal>
<minVal Sync="TRUE">0.000000</minVal>
<bitsPerVal Sync="TRUE">8</bitsPerVal>
<valUnit>
<UOM type="length"/>
</valUnit>
</Band>
<Band>
<dimDescrp Sync="TRUE">Infrared</dimDescrp>
<maxVal Sync="TRUE">254.000000</maxVal>
<minVal Sync="TRUE">0.000000</minVal>
<bitsPerVal Sync="TRUE">8</bitsPerVal>
<valUnit>
<UOM type="length"/>
</valUnit>
</Band>
</covDim>
</ImgDesc>
</contInfo>
</metadata>
