<?xml version="1.0" encoding="UTF-8" standalone="no"?>
<metadata xml:lang="en">
<Esri>
<CreaDate>20181004</CreaDate>
<CreaTime>09473800</CreaTime>
<ArcGISFormat>1.0</ArcGISFormat>
<ArcGISstyle>FGDC CSDGM Metadata</ArcGISstyle>
<SyncOnce>FALSE</SyncOnce>
<DataProperties>
<lineage>
<Process Date="20181004" Name="" Time="094738" ToolSource="c:\program files (x86)\arcgis\desktop10.5\ArcToolbox\Toolboxes\Data Management Tools.tbx\CreateMosaicDataset" export="">CreateMosaicDataset \\w-a1ts-gisprd1.som.w2k.state.me.us\gisprd1gisdata\svcFgdb\megis\orthoCoastal.gdb orthoCoastalCentralCoast2006 "PROJCS['NAD_1983_StatePlane_Maine_West_FIPS_1802',GEOGCS['GCS_North_American_1983',DATUM['D_North_American_1983',SPHEROID['GRS_1980',6378137.0,298.257222101]],PRIMEM['Greenwich',0.0],UNIT['Degree',0.0174532925199433]],PROJECTION['Transverse_Mercator'],PARAMETER['False_Easting',900000.0],PARAMETER['False_Northing',0.0],PARAMETER['Central_Meridian',-70.16666666666667],PARAMETER['Scale_Factor',0.9999666666666667],PARAMETER['Latitude_Of_Origin',42.83333333333334],UNIT['Meter',1.0]];-4723000 -14745800 10000;-100000 10000;-100000 10000;0.001;0.001;0.001;IsHighPrecision" 4 8_BIT_UNSIGNED NATURAL_COLOR_RGBI "Red 630 690;Green 530 570;Blue 440 510;Infrared 770 830"</Process>
</lineage>
<itemProps>
<itemName Sync="TRUE">orthoCoastalCentralCoast2006</itemName>
<itemLocation>
<linkage Sync="TRUE">file://\\w-a1ts-gisprd1.som.w2k.state.me.us\gisprd1gisdata\svcFgdb\megis\orthoCoastal.gdb</linkage>
<protocol Sync="TRUE">Local Area Network</protocol>
</itemLocation>
<nativeExtBox>
<westBL Sync="TRUE">868986.400000</westBL>
<eastBL Sync="TRUE">928637.050000</eastBL>
<southBL Sync="TRUE">69494.500000</southBL>
<northBL Sync="TRUE">130587.400000</northBL>
<exTypeCode Sync="TRUE">1</exTypeCode>
</nativeExtBox>
</itemProps>
<coordRef>
<type Sync="TRUE">Projected</type>
<geogcsn Sync="TRUE">GCS_North_American_1983</geogcsn>
<csUnits Sync="TRUE">Linear Unit: Meter (1.000000)</csUnits>
<projcsn Sync="TRUE">NAD_1983_StatePlane_Maine_West_FIPS_1802</projcsn>
<peXml Sync="TRUE">&lt;ProjectedCoordinateSystem xsi:type='typens:ProjectedCoordinateSystem' xmlns:xsi='http://www.w3.org/2001/XMLSchema-instance' xmlns:xs='http://www.w3.org/2001/XMLSchema' xmlns:typens='http://www.esri.com/schemas/ArcGIS/10.6'&gt;&lt;WKT&gt;PROJCS[&amp;quot;NAD_1983_StatePlane_Maine_West_FIPS_1802&amp;quot;,GEOGCS[&amp;quot;GCS_North_American_1983&amp;quot;,DATUM[&amp;quot;D_North_American_1983&amp;quot;,SPHEROID[&amp;quot;GRS_1980&amp;quot;,6378137.0,298.257222101]],PRIMEM[&amp;quot;Greenwich&amp;quot;,0.0],UNIT[&amp;quot;Degree&amp;quot;,0.0174532925199433]],PROJECTION[&amp;quot;Transverse_Mercator&amp;quot;],PARAMETER[&amp;quot;False_Easting&amp;quot;,900000.0],PARAMETER[&amp;quot;False_Northing&amp;quot;,0.0],PARAMETER[&amp;quot;Central_Meridian&amp;quot;,-70.16666666666667],PARAMETER[&amp;quot;Scale_Factor&amp;quot;,0.9999666666666667],PARAMETER[&amp;quot;Latitude_Of_Origin&amp;quot;,42.83333333333334],UNIT[&amp;quot;Meter&amp;quot;,1.0],AUTHORITY[&amp;quot;EPSG&amp;quot;,26984]]&lt;/WKT&gt;&lt;XOrigin&gt;-4723000&lt;/XOrigin&gt;&lt;YOrigin&gt;-14745800&lt;/YOrigin&gt;&lt;XYScale&gt;450281163.53343117&lt;/XYScale&gt;&lt;ZOrigin&gt;-100000&lt;/ZOrigin&gt;&lt;ZScale&gt;10000&lt;/ZScale&gt;&lt;MOrigin&gt;-100000&lt;/MOrigin&gt;&lt;MScale&gt;10000&lt;/MScale&gt;&lt;XYTolerance&gt;0.001&lt;/XYTolerance&gt;&lt;ZTolerance&gt;0.001&lt;/ZTolerance&gt;&lt;MTolerance&gt;0.001&lt;/MTolerance&gt;&lt;HighPrecision&gt;true&lt;/HighPrecision&gt;&lt;WKID&gt;26984&lt;/WKID&gt;&lt;LatestWKID&gt;26984&lt;/LatestWKID&gt;&lt;/ProjectedCoordinateSystem&gt;</peXml>
</coordRef>
<RasterProperties>
<General>
<PixelDepth Sync="TRUE">8</PixelDepth>
<HasColormap Sync="TRUE">FALSE</HasColormap>
<CompressionType Sync="TRUE">None</CompressionType>
<NumBands Sync="TRUE">4</NumBands>
<Format Sync="TRUE">AMD</Format>
<HasPyramids Sync="TRUE">TRUE</HasPyramids>
<SourceType Sync="TRUE">continuous</SourceType>
<PixelType Sync="TRUE">unsigned integer</PixelType>
<NoDataValue Sync="TRUE">0</NoDataValue>
</General>
<Properties>
<MaxImageHeight Sync="TRUE">4100</MaxImageHeight>
<MaxImageWidth Sync="TRUE">15000</MaxImageWidth>
<MaxRecordCount Sync="TRUE">1000</MaxRecordCount>
<MaxDownloadImageCount Sync="TRUE">20</MaxDownloadImageCount>
<MaxDownloadSizeLimit Sync="TRUE">2048</MaxDownloadSizeLimit>
<MaxMosaicImageCount Sync="TRUE">20</MaxMosaicImageCount>
<DefaultCompressionQuality Sync="TRUE">87</DefaultCompressionQuality>
<DefaultCompressionTolerance Sync="TRUE">0.01</DefaultCompressionTolerance>
<BlendWidth Sync="TRUE">10</BlendWidth>
<ViewpointSpacingX Sync="TRUE">600</ViewpointSpacingX>
<ViewpointSpacingY Sync="TRUE">300</ViewpointSpacingY>
<AllowedItemMetadata Sync="TRUE">Basic</AllowedItemMetadata>
<DefaultResamplingMethod Sync="TRUE">1</DefaultResamplingMethod>
<AllowedMosaicMethods Sync="TRUE">NorthWest,Center,ByAttribute,Nadir,Viewpoint,None</AllowedMosaicMethods>
<AllowedCompressions Sync="TRUE">LZ77,None,JPEG,LERC</AllowedCompressions>
<AllowedMensurationCapabilities Sync="TRUE">None</AllowedMensurationCapabilities>
<AvailableMensurationCapabilities Sync="TRUE">None,Basic,Base-Top Height,Top-Top Shadow Height,Base-Top Shadow Height,3D</AvailableMensurationCapabilities>
<ClipToBoundary Sync="TRUE">-1</ClipToBoundary>
<FootprintMayContainNoData Sync="TRUE">-1</FootprintMayContainNoData>
<CellSizeTolerance Sync="TRUE">0.8</CellSizeTolerance>
<MinimumPixelContribution Sync="TRUE">1</MinimumPixelContribution>
<AvailableMosaicMethods Sync="TRUE">NorthWest,Center,LockRaster,ByAttribute,Nadir,Viewpoint,Seamline,None</AvailableMosaicMethods>
<AvailableCompressionMethods Sync="TRUE">None,JPEG,LZ77,LERC</AvailableCompressionMethods>
<AvailableItemMetadataLevels Sync="TRUE">None,Basic,Full</AvailableItemMetadataLevels>
<BandDefinitionKeyword Sync="TRUE">NaturalColorRGBI</BandDefinitionKeyword>
<AllowedFields Sync="TRUE">Name,MinPS,MaxPS,LowPS,HighPS,Tag,GroupName,ProductName,CenterX,CenterY,ZOrder,Shape_Length,Shape_Area,Date,DateInt</AllowedFields>
<MaxCellSize Sync="TRUE">10935.0000000001</MaxCellSize>
<LowCellSize Sync="TRUE">0.149999999999796</LowCellSize>
<HighCellSize Sync="TRUE">218.700000000003</HighCellSize>
<ApplyColorCorrection Sync="TRUE">0</ApplyColorCorrection>
<TimeValueFormat Sync="TRUE">YYYY-MM-DD</TimeValueFormat>
<EndTimeFieldName Sync="TRUE">Date</EndTimeFieldName>
<StartTimeFieldName Sync="TRUE">Date</StartTimeFieldName>
<TimeIntervalUnits Sync="TRUE">Days</TimeIntervalUnits>
<TimeInterval Sync="TRUE">2</TimeInterval>
<MosaicOperator Sync="TRUE">1</MosaicOperator>
<BlendWidthUnits Sync="TRUE">1</BlendWidthUnits>
<UseTime Sync="TRUE">-1</UseTime>
<SortAscending Sync="TRUE">-1</SortAscending>
<ClipToFootprint Sync="TRUE">0</ClipToFootprint>
<SortField Sync="TRUE">MinPS</SortField>
<SortValue Sync="TRUE">0</SortValue>
</Properties>
<Functions Sync="TRUE">
<Function Description="Performs on-the-fly mosaic on a raster catalog." Name="Mosaic Function"/>
</Functions>
</RasterProperties>
</DataProperties>
<SyncDate>20190215</SyncDate>
<SyncTime>15235100</SyncTime>
<ModDate>20220406</ModDate>
<ModTime>16013700</ModTime>
<scaleRange>
<minScale>50000</minScale>
<maxScale>5000</maxScale>
</scaleRange>
<ArcGISProfile>ItemDescription</ArcGISProfile>
</Esri>
<mdLang>
<languageCode value="eng"/>
<countryCode Sync="TRUE" value="USA"/>
</mdLang>
<mdChar>
<CharSetCd value="004"/>
</mdChar>
<mdHrLv>
<ScopeCd value="005"/>
</mdHrLv>
<mdContact>
<rpIndName>Mark Bradstreet</rpIndName>
<rpOrgName>Bradstreet Consultants</rpOrgName>
<rpPosName>President</rpPosName>
<rpCntInfo>
<cntPhone>
<voiceNum>207-621-8500</voiceNum>
</cntPhone>
<cntAddress addressType="both">
<delPoint>69 Peters Rd</delPoint>
<city>Searsmont</city>
<adminArea>Maine</adminArea>
<postCode>04973</postCode>
<country>US</country>
<eMailAdd>markb@bradstreet.com</eMailAdd>
</cntAddress>
</rpCntInfo>
<role>
<RoleCd value="007"/>
</role>
</mdContact>
<mdDateSt Sync="TRUE">20220406</mdDateSt>
<mdStanName>ArcGIS Metadata</mdStanName>
<mdStanVer>1.0</mdStanVer>
<distInfo>
<distributor>
<distorCont>
<rpIndName>Mark Bradstreet</rpIndName>
<rpOrgName>Bradstreet Consultants</rpOrgName>
<rpPosName>President</rpPosName>
<rpCntInfo>
<cntPhone>
<voiceNum>207-621-8500</voiceNum>
</cntPhone>
<cntAddress addressType="both">
<delPoint>69 Peters Rd</delPoint>
<city>Searsmont</city>
<adminArea>Maine</adminArea>
<postCode>04973</postCode>
<country>US</country>
<eMailAdd>markb@bradstreet.com</eMailAdd>
</cntAddress>
</rpCntInfo>
<role>
<RoleCd value="005"/>
</role>
</distorCont>
<distorTran>
<onLineSrc>
<linkage>http://www.maine.gov/geolib/wms.htm</linkage>
<orDesc>A WMS is not a web application which you can see in a web browser; rather, it requires you to add the service to a GIS software application.</orDesc>
</onLineSrc>
</distorTran>
<distorTran>
<onLineSrc>
<orDesc>Web Mapping Services (WMS)</orDesc>
</onLineSrc>
</distorTran>
</distributor>
</distInfo>
<dataIdInfo>
<idCitation>
<resTitle Sync="TRUE">orthoCoastalCentralCoast2006</resTitle>
<date>
<pubDate>2006-04-26</pubDate>
</date>
<citRespParty>
<rpOrgName>Cumberland County Area, Maine, GIS Coordinator</rpOrgName>
<role>
<RoleCd value="006"/>
</role>
</citRespParty>
<presForm>
<PresFormCd Sync="TRUE" value="005"/>
</presForm>
</idCitation>
<idAbs>&lt;div style='text-align:Left;'&gt;&lt;div&gt;&lt;div&gt;&lt;p&gt;&lt;span&gt;6-in pixel resolution orthoimagery of the central coastal Maine towns from Saco to Bath. This WMS is provided by the Maine Office of GIS and the Maine GeoLibrary Board. As the prime contractor, Bradstreet Consultants, Inc. used the aerial photography flown in two sessions on April 21st and 26th, 2006, by Richard Crouse and Associates, Inc. of Frederick, MD who acquired approximately 1335 photos at 1in=600ft with airborne GPS using a Wild RC-30 (13261) aerial camera. Bradstreet Consultants, Inc. painted and repainted ground targets for photo survey control points (~200) to support full analytical aerotriangulation. The aerotriangulation solution was used to set up each stereopair of photos for orthorectification and DTM compilation. The ortho imagery was created by scanning (14 microns (um) per pixel or 1815 dpi) the original 1in=600ft scale film and employing a digital terrain model (DTM) from updating some town's original DTM and some town's from scratch using the 1in=600ft scale negatives or diapositives using both analytical and softcopy (digital) stereoplotter in the Kork KDMS format.&lt;/span&gt;&lt;/p&gt;&lt;/div&gt;&lt;/div&gt;&lt;/div&gt;</idAbs>
<idPurp>Maine Orthoimagery Coastal Central Coast 2006</idPurp>
<idCredit>Maine GeoLibrary</idCredit>
<idStatus>
<ProgCd value="001"/>
</idStatus>
<idPoC>
<rpIndName>Mark Bradstreet</rpIndName>
<rpOrgName>Bradstreet Consultants</rpOrgName>
<rpPosName>President</rpPosName>
<rpCntInfo>
<cntPhone>
<voiceNum>207-621-8500</voiceNum>
</cntPhone>
<cntAddress addressType="both">
<delPoint>69 Peters Road</delPoint>
<city>Searsmont</city>
<adminArea>Maine</adminArea>
<postCode>04973</postCode>
<country>US</country>
<eMailAdd>markb@bradstreet.com</eMailAdd>
</cntAddress>
</rpCntInfo>
<role>
<RoleCd value="007"/>
</role>
</idPoC>
<resMaint>
<maintFreq>
<MaintFreqCd value="011"/>
</maintFreq>
</resMaint>
<themeKeys>
<keyword>ImageryBaseMapsEarthCover</keyword>
</themeKeys>
<searchKeys>
<keyword>imageryBaseMapsEarthCover</keyword>
<keyword>ortho</keyword>
<keyword>orthoimagery</keyword>
<keyword>orthophotography</keyword>
<keyword>GeoLibrary</keyword>
<keyword>Maine</keyword>
<keyword>MaineGeoLibrary</keyword>
<keyword>MaineGIS</keyword>
<keyword>coastal</keyword>
<keyword>Central Coast</keyword>
<keyword>2006</keyword>
</searchKeys>
<resConst>
<LegConsts>
<useLimit>These services have been successfully tested in ArcGIS, MapInfo, Google Earth, QGIS, gvSIG, Gaia and uDig.</useLimit>
</LegConsts>
</resConst>
<resConst>
<Consts>
<useLimit>&lt;div style='text-align:Left;'&gt;&lt;div&gt;&lt;div&gt;&lt;p&gt;&lt;span&gt;Access: Public Use: User assumes risk.&lt;/span&gt;&lt;/p&gt;&lt;/div&gt;&lt;/div&gt;&lt;/div&gt;</useLimit>
</Consts>
</resConst>
<dataLang>
<languageCode value="eng"/>
<countryCode Sync="TRUE" value="USA"/>
</dataLang>
<envirDesc Sync="TRUE">Microsoft Windows 7 Version 6.1 (Build 7601) Service Pack 1; Esri ArcGIS 10.6.1.9273</envirDesc>
<dataExt>
<exDesc>ground condition</exDesc>
<tempEle>
<TempExtent>
<exTemp>
<TM_Instant>
<tmPosition time="unknown">2006-04-22</tmPosition>
</TM_Instant>
</exTemp>
</TempExtent>
</tempEle>
</dataExt>
<dataExt>
<geoEle>
<GeoBndBox>
<westBL>-70.36</westBL>
<eastBL>-70.08</eastBL>
<southBL>43.63</southBL>
<northBL>43.73</northBL>
</GeoBndBox>
</geoEle>
</dataExt>
<spatRpType>
<SpatRepTypCd Sync="TRUE" value="002"/>
</spatRpType>
<dataExt>
<geoEle>
<GeoBndBox esriExtentType="search">
<exTypeCode Sync="TRUE">1</exTypeCode>
<westBL Sync="TRUE">-70.553406</westBL>
<eastBL Sync="TRUE">-69.809563</eastBL>
<northBL Sync="TRUE">44.008767</northBL>
<southBL Sync="TRUE">43.458250</southBL>
</GeoBndBox>
</geoEle>
</dataExt>
<tpCat>
<TopicCatCd value="010"/>
</tpCat>
</dataIdInfo>
<dqInfo>
<dqScope>
<scpLvl>
<ScopeCd value="005"/>
</scpLvl>
</dqScope>
<report type="DQCompOm">
<measDesc>Orthoimagery for Portland, Maine clipped to within about 100 feet beyond the town line.</measDesc>
</report>
<report dimension="horizontal" type="DQAbsExtPosAcc">
<measDesc>Horizontal_Positional_Accuracy_Report: Gound control used in aerotriangulation solution accurate to within 0.1 ft. Said solution was used to compile 1:1200 vector base mapping, which was subsequently used to control the orthorectification process. Vector data was compiled to meet ASPRS Class 1 accuracy standards. The orthorectification process was applied to the imagery and those features which are at ground level. No attempt was made to correctly rectify elevated structures as part of this project.</measDesc>
<evalMethDesc>Comparison to Source</evalMethDesc>
</report>
<report dimension="vertical" type="DQAbsExtPosAcc">
<measDesc>Gound control used in aerotriangulation solution accurate to within 0.1 ft. Said solution was used to compile terrain data to support generation of 2 foot contour data. This elevation data was subsequently used to control the orthorectification process. The elevation data was compiled to meet ASPRS Class 1 accuracy standards. The orthorectification process was applied to the imagery and those features which are at ground level. No attempt was made to correctly rectify elevated structures as part of this project.</measDesc>
</report>
<dataLineage>
<prcStep>
<stepDesc>Bradstreet Consultants, Inc. used the aerial photography flown in two sessions on April 21st and 26th, 2006, by Richard Crouse &amp; Associates, Inc. of Frederick, MD who acquired approximately 1335 photos @ 1"=600' with airborne GPS using a Wild RC-30 (#13261) aerial camera. Bradstreet Consultants, Inc. painted and repainted ground targets for photo survey control points (~200) to support full analytical aerotriangulation. The aerotriangulation solution was used to set up each stereopair of photos for orthorectification and DTM compilation. The ortho imagery was created by scanning (14 microns (um) per pixel or 1815 dpi) the original 1"=600' scale film and employing a digital terrain model (DTM) from updating some town's original DTM and some town's from scratch using the 1"=600' scale negatives or diapositives using both analytical and softcopy (digital) stereoplotter in the Kork KDMS format.</stepDesc>
<stepProc>
<rpIndName>Mark Bradstreet</rpIndName>
<rpOrgName>Bradstreet Consultants</rpOrgName>
<rpPosName>President</rpPosName>
<role>
<RoleCd value="009"/>
</role>
</stepProc>
</prcStep>
<dataSource>
<srcMedName>
<MedNameCd value="029"/>
</srcMedName>
<srcScale>
<rfDenom>6000</rfDenom>
</srcScale>
<srcExt>
<exDesc>ground condition</exDesc>
<tempEle>
<TempExtent>
<exTemp>
<TM_Instant>
<tmPosition time="unknown">2006-04-22</tmPosition>
</TM_Instant>
</exTemp>
</TempExtent>
</tempEle>
</srcExt>
</dataSource>
</dataLineage>
</dqInfo>
<spatRepInfo>
<Georect>
<numDims Sync="TRUE">2</numDims>
<cellGeo>
<CellGeoCd Sync="TRUE" value="002"/>
</cellGeo>
<tranParaAv Sync="TRUE">1</tranParaAv>
<chkPtAv Sync="TRUE">0</chkPtAv>
<cornerPts>
<pos Sync="TRUE">868986.400000 69494.500000</pos>
</cornerPts>
<cornerPts>
<pos Sync="TRUE">868986.400000 130587.400000</pos>
</cornerPts>
<cornerPts>
<pos Sync="TRUE">928637.050000 130587.400000</pos>
</cornerPts>
<cornerPts>
<pos Sync="TRUE">928637.050000 69494.500000</pos>
</cornerPts>
<centerPt>
<pos Sync="TRUE">898811.725000 100040.950000</pos>
</centerPt>
<axisDimension type="002">
<dimSize Sync="TRUE">397671</dimSize>
<dimResol>
<value Sync="TRUE" uom="m">0.150000</value>
</dimResol>
</axisDimension>
<axisDimension type="001">
<dimSize Sync="TRUE">407286</dimSize>
<dimResol>
<value Sync="TRUE" uom="m">0.150000</value>
</dimResol>
</axisDimension>
<ptInPixel>
<PixOrientCd Sync="TRUE" value="001"/>
</ptInPixel>
</Georect>
</spatRepInfo>
<refSysInfo>
<RefSystem>
<refSysID>
<identCode Sync="TRUE" code="26984"/>
<idCodeSpace Sync="TRUE">EPSG</idCodeSpace>
<idVersion Sync="TRUE">6.16(3.0.1)</idVersion>
</refSysID>
</RefSystem>
</refSysInfo>
<contInfo>
<ImgDesc>
<contentTyp>
<ContentTypCd Sync="TRUE" value="001"/>
</contentTyp>
<covDim>
<Band>
<dimDescrp Sync="TRUE">Red</dimDescrp>
<maxVal Sync="TRUE">254.000000</maxVal>
<minVal Sync="TRUE">0.000000</minVal>
<bitsPerVal Sync="TRUE">8</bitsPerVal>
<valUnit>
<UOM type="length"/>
</valUnit>
</Band>
<Band>
<dimDescrp Sync="TRUE">Green</dimDescrp>
<maxVal Sync="TRUE">254.000000</maxVal>
<minVal Sync="TRUE">0.000000</minVal>
<bitsPerVal Sync="TRUE">8</bitsPerVal>
<valUnit>
<UOM type="length"/>
</valUnit>
</Band>
<Band>
<dimDescrp Sync="TRUE">Blue</dimDescrp>
<maxVal Sync="TRUE">254.000000</maxVal>
<minVal Sync="TRUE">0.000000</minVal>
<bitsPerVal Sync="TRUE">8</bitsPerVal>
<valUnit>
<UOM type="length"/>
</valUnit>
</Band>
<Band>
<dimDescrp Sync="TRUE">Infrared</dimDescrp>
<maxVal Sync="TRUE">254.000000</maxVal>
<minVal Sync="TRUE">0.000000</minVal>
<bitsPerVal Sync="TRUE">8</bitsPerVal>
<valUnit>
<UOM type="length"/>
</valUnit>
</Band>
</covDim>
</ImgDesc>
</contInfo>
</metadata>
