6-in pixel resolution orthoimagery of the central coastal Maine towns from Saco to Bath. This WMS is provided by the Maine Office of GIS and the Maine GeoLibrary Board. As the prime contractor, Bradstreet Consultants, Inc. used the aerial photography flown in two sessions on April 21st and 26th, 2006, by Richard Crouse and Associates, Inc. of Frederick, MD who acquired approximately 1335 photos at 1in=600ft with airborne GPS using a Wild RC-30 (13261) aerial camera. Bradstreet Consultants, Inc. painted and repainted ground targets for photo survey control points (~200) to support full analytical aerotriangulation. The aerotriangulation solution was used to set up each stereopair of photos for orthorectification and DTM compilation. The ortho imagery was created by scanning (14 microns (um) per pixel or 1815 dpi) the original 1in=600ft scale film and employing a digital terrain model (DTM) from updating some town's original DTM and some town's from scratch using the 1in=600ft scale negatives or diapositives using both analytical and softcopy (digital) stereoplotter in the Kork KDMS format.<\/span><\/p><\/div><\/div><\/div>",
"serviceItemId": "3de1921dc2c14e72befaff7956d80736",
"name": "Coastal/orthoCoastalCentralCoast2006",
"description": "6-in pixel resolution orthoimagery of the central coastal Maine towns from Saco to Bath. This WMS is provided by the Maine Office of GIS and the Maine GeoLibrary Board. As the prime contractor, Bradstreet Consultants, Inc. used the aerial photography flown in two sessions on April 21st and 26th, 2006, by Richard Crouse and Associates, Inc. of Frederick, MD who acquired approximately 1335 photos at 1in=600ft with airborne GPS using a Wild RC-30 (13261) aerial camera. Bradstreet Consultants, Inc. painted and repainted ground targets for photo survey control points (~200) to support full analytical aerotriangulation. The aerotriangulation solution was used to set up each stereopair of photos for orthorectification and DTM compilation. The ortho imagery was created by scanning (14 microns (um) per pixel or 1815 dpi) the original 1in=600ft scale film and employing a digital terrain model (DTM) from updating some town's original DTM and some town's from scratch using the 1in=600ft scale negatives or diapositives using both analytical and softcopy (digital) stereoplotter in the Kork KDMS format.<\/span><\/p><\/div><\/div><\/div>",
"extent": {
"xmin": 868986.4000000273,
"ymin": 69494.5000000546,
"xmax": 928637.049999946,
"ymax": 130587.39999997141,
"spatialReference": {
"wkid": 26984,
"latestWkid": 26984
}
},
"initialExtent": {
"xmin": 868986.4000000273,
"ymin": 69494.5000000546,
"xmax": 928637.049999946,
"ymax": 130587.39999997141,
"spatialReference": {
"wkid": 26984,
"latestWkid": 26984
}
},
"fullExtent": {
"xmin": 868986.4000000273,
"ymin": 69494.5000000546,
"xmax": 928637.049999946,
"ymax": 130587.39999997141,
"spatialReference": {
"wkid": 26984,
"latestWkid": 26984
}
},
"sortableFields": "MinPS,MaxPS,LowPS,HighPS,CenterX,CenterY,ZOrder,Shape_Length,Shape_Area,Date,DateInt",
"bandCount": 4,
"pixelType": "U8",
"minValues": [
0,
0,
0,
0
],
"maxValues": [
254,
254,
254,
254
],
"meanValues": [
104.78995086822408,
107.9761047453753,
88.9168933290739,
88.9168933290739
],
"stdvValues": [
34.52546825882393,
31.99222611480133,
30.38544819786878,
30.38544819786878
],
"serviceProperties": "NorthWest<\/MosaicMethod>First<\/MosaicOperator>true<\/SortAscending><\/LockImageID>MinPS<\/TileOrderField>0<\/TileOrderBase>600.000000<\/AvgImageSpacingX>300.000000<\/AvgImageSpacingY>0.0<\/ViewPointX>0.0<\/ViewPointY>0.0<\/ViewPointDefShiftX>0.0<\/ViewPointDefShiftY>LZ77<\/CompressionMethod>87<\/CompressionQuality>0.010000<\/CompressionTolerance>Bilinear<\/SamplingMethod><\/ImageServiceProperties><\/ImageServer>",
"allowedFields": "Name,MinPS,MaxPS,LowPS,HighPS,Tag,GroupName,ProductName,CenterX,CenterY,ZOrder,Shape_Length,Shape_Area,Date,DateInt",
"hasMultidimensions": false,
"timeInfo": {
"startTimeField": "Date",
"endTimeField": "Date",
"timeExtent": [
1145577600000,
1145577600000
],
"timeReference": null,
"defaultTimeInterval": 2,
"defaultTimeIntervalUnits": "esriTimeUnitsDays"
},
"pixelSizeX": 0.1499999999997957,
"pixelSizeY": 0.14999999999979577,
"meanPixelSize": 0.14999999999979574,
"datasetFormat": "AMD",
"uncompressedSize": 647863323624,
"blockWidth": 2048,
"blockHeight": 256,
"compressionType": "None",
"bandNames": [
"Red",
"Green",
"Blue",
"Infrared"
],
"allowCopy": true,
"allowAnalysis": true,
"itemAccess": false,
"inspectionCapabilities": "",
"noDataValue": 0,
"noDataValues": [
0,
0,
0,
0
],
"minPixelSize": 0,
"maxPixelSize": 0,
"copyrightText": "Maine GeoLibrary",
"serviceDataType": "esriImageServiceDataTypeProcessed",
"serviceSourceType": "esriImageServiceSourceTypeMosaicDataset",
"objectIdField": "OBJECTID",
"fields": [
{
"name": "OBJECTID",
"type": "esriFieldTypeOID",
"alias": "OBJECTID",
"domain": null
},
{
"name": "Shape",
"type": "esriFieldTypeGeometry",
"alias": "Shape",
"domain": null
},
{
"name": "Name",
"type": "esriFieldTypeString",
"alias": "Name",
"domain": null,
"length": 200
},
{
"name": "MinPS",
"type": "esriFieldTypeDouble",
"alias": "MinPS",
"domain": null
},
{
"name": "MaxPS",
"type": "esriFieldTypeDouble",
"alias": "MaxPS",
"domain": null
},
{
"name": "LowPS",
"type": "esriFieldTypeDouble",
"alias": "LowPS",
"domain": null
},
{
"name": "HighPS",
"type": "esriFieldTypeDouble",
"alias": "HighPS",
"domain": null
},
{
"name": "Category",
"type": "esriFieldTypeInteger",
"alias": "Category",
"domain": {
"type": "codedValue",
"name": "MosaicCatalogItemCategoryDomain",
"description": "Catalog item categories.",
"codedValues": [
{
"name": "Unknown",
"code": 0
},
{
"name": "Primary",
"code": 1
},
{
"name": "Overview",
"code": 2
},
{
"name": "Unprocessed Overview",
"code": 3
},
{
"name": "Partial Overview",
"code": 4
},
{
"name": "Inactive",
"code": 5
},
{
"name": "Uploaded",
"code": 253
},
{
"name": "Incomplete",
"code": 254
},
{
"name": "Custom",
"code": 255
}
],
"mergePolicy": "esriMPTDefaultValue",
"splitPolicy": "esriSPTDefaultValue"
}
},
{
"name": "Tag",
"type": "esriFieldTypeString",
"alias": "Tag",
"domain": null,
"length": 100
},
{
"name": "GroupName",
"type": "esriFieldTypeString",
"alias": "GroupName",
"domain": null,
"length": 100
},
{
"name": "ProductName",
"type": "esriFieldTypeString",
"alias": "ProductName",
"domain": null,
"length": 100
},
{
"name": "CenterX",
"type": "esriFieldTypeDouble",
"alias": "CenterX",
"domain": null
},
{
"name": "CenterY",
"type": "esriFieldTypeDouble",
"alias": "CenterY",
"domain": null
},
{
"name": "ZOrder",
"type": "esriFieldTypeInteger",
"alias": "ZOrder",
"domain": null
},
{
"name": "Shape_Length",
"type": "esriFieldTypeDouble",
"alias": "Shape_Length",
"domain": null
},
{
"name": "Shape_Area",
"type": "esriFieldTypeDouble",
"alias": "Shape_Area",
"domain": null
},
{
"name": "Date",
"type": "esriFieldTypeDate",
"alias": "Date",
"domain": null,
"length": 8
},
{
"name": "DateInt",
"type": "esriFieldTypeSmallInteger",
"alias": "DateInt",
"domain": null
}
],
"capabilities": "Catalog,Download,Image,Metadata",
"defaultMosaicMethod": "Northwest",
"allowedMosaicMethods": "NorthWest,Center,ByAttribute,Nadir,Viewpoint,None",
"sortField": "",
"sortValue": null,
"sortAscending": true,
"mosaicOperator": "First",
"maxDownloadSizeLimit": 2048,
"defaultCompressionQuality": 87,
"defaultResamplingMethod": "Bilinear",
"maxImageHeight": 4100,
"maxImageWidth": 15000,
"maxRecordCount": 1000,
"maxDownloadImageCount": 20,
"maxMosaicImageCount": 20,
"allowRasterFunction": true,
"rasterFunctionInfos": [
{
"name": "None",
"description": "A No-Op Function.",
"help": ""
}
],
"rasterTypeInfos": [
{
"name": "Raster Dataset",
"description": "Supports all ArcGIS Raster Datasets",
"help": ""
}
],
"mensurationCapabilities": "None",
"hasHistograms": true,
"hasColormap": false,
"hasRasterAttributeTable": false,
"minScale": 0,
"maxScale": 0,
"exportTilesAllowed": false,
"supportsStatistics": true,
"supportsAdvancedQueries": true,
"editFieldsInfo": null,
"ownershipBasedAccessControlForRasters": null,
"allowComputeTiePoints": false,
"useStandardizedQueries": true,
"advancedQueryCapabilities": {
"useStandardizedQueries": true,
"supportsStatistics": true,
"supportsOrderBy": true,
"supportsDistinct": true,
"supportsPagination": true
},
"spatialReference": {
"wkid": 26984,
"latestWkid": 26984
},
"resampling": false
}