<?xml version="1.0" encoding="UTF-8" standalone="no"?>
<metadata xml:lang="en">
<Esri>
<CreaDate>20181009</CreaDate>
<CreaTime>11342700</CreaTime>
<ArcGISFormat>1.0</ArcGISFormat>
<ArcGISstyle>FGDC CSDGM Metadata</ArcGISstyle>
<SyncOnce>FALSE</SyncOnce>
<DataProperties>
<lineage>
<Process Date="20181009" Name="" Time="113427" ToolSource="c:\program files (x86)\arcgis\desktop10.5\ArcToolbox\Toolboxes\Data Management Tools.tbx\CreateMosaicDataset" export="">CreateMosaicDataset \\stgisdataprd001.file.core.windows.net\gisprd1gisdata\svcFgdb\megis\orthoCoastal.gdb orthoCoastalDownEastCoast2008 "PROJCS['NAD_1983_UTM_Zone_19N',GEOGCS['GCS_North_American_1983',DATUM['D_North_American_1983',SPHEROID['GRS_1980',6378137.0,298.257222101]],PRIMEM['Greenwich',0.0],UNIT['Degree',0.0174532925199433]],PROJECTION['Transverse_Mercator'],PARAMETER['False_Easting',500000.0],PARAMETER['False_Northing',0.0],PARAMETER['Central_Meridian',-69.0],PARAMETER['Scale_Factor',0.9996],PARAMETER['Latitude_Of_Origin',0.0],UNIT['Meter',1.0]];-5120900 -9998100 10000;-100000 10000;-100000 10000;0.001;0.001;0.001;IsHighPrecision" 4 8_BIT_UNSIGNED NATURAL_COLOR_RGBI "Red 630 690;Green 530 570;Blue 440 510;Infrared 770 830"</Process>
</lineage>
<itemProps>
<itemName Sync="TRUE">orthoCoastalDownEastCoast2008</itemName>
<itemLocation>
<linkage Sync="TRUE">file://\\stgisdataprd001.file.core.windows.net\gisprd1gisdata\svcFgdb\megis\orthoCoastal.gdb</linkage>
<protocol Sync="TRUE">Local Area Network</protocol>
</itemLocation>
<nativeExtBox>
<westBL Sync="TRUE">518074.000000</westBL>
<eastBL Sync="TRUE">575700.000000</eastBL>
<southBL Sync="TRUE">4871920.500120</southBL>
<northBL Sync="TRUE">4938283.500120</northBL>
<exTypeCode Sync="TRUE">1</exTypeCode>
</nativeExtBox>
<imsContentType export="False"/>
</itemProps>
<coordRef>
<type Sync="TRUE">Projected</type>
<geogcsn Sync="TRUE">GCS_North_American_1983</geogcsn>
<csUnits Sync="TRUE">Linear Unit: Meter (1.000000)</csUnits>
<projcsn Sync="TRUE">NAD_1983_UTM_Zone_19N</projcsn>
<peXml Sync="TRUE">&lt;ProjectedCoordinateSystem xsi:type='typens:ProjectedCoordinateSystem' xmlns:xsi='http://www.w3.org/2001/XMLSchema-instance' xmlns:xs='http://www.w3.org/2001/XMLSchema' xmlns:typens='http://www.esri.com/schemas/ArcGIS/10.5'&gt;&lt;WKT&gt;PROJCS[&amp;quot;NAD_1983_UTM_Zone_19N&amp;quot;,GEOGCS[&amp;quot;GCS_North_American_1983&amp;quot;,DATUM[&amp;quot;D_North_American_1983&amp;quot;,SPHEROID[&amp;quot;GRS_1980&amp;quot;,6378137.0,298.257222101]],PRIMEM[&amp;quot;Greenwich&amp;quot;,0.0],UNIT[&amp;quot;Degree&amp;quot;,0.0174532925199433]],PROJECTION[&amp;quot;Transverse_Mercator&amp;quot;],PARAMETER[&amp;quot;False_Easting&amp;quot;,500000.0],PARAMETER[&amp;quot;False_Northing&amp;quot;,0.0],PARAMETER[&amp;quot;Central_Meridian&amp;quot;,-69.0],PARAMETER[&amp;quot;Scale_Factor&amp;quot;,0.9996],PARAMETER[&amp;quot;Latitude_Of_Origin&amp;quot;,0.0],UNIT[&amp;quot;Meter&amp;quot;,1.0],AUTHORITY[&amp;quot;EPSG&amp;quot;,26919]]&lt;/WKT&gt;&lt;XOrigin&gt;-5120900&lt;/XOrigin&gt;&lt;YOrigin&gt;-9998100&lt;/YOrigin&gt;&lt;XYScale&gt;450445547.3910538&lt;/XYScale&gt;&lt;ZOrigin&gt;-100000&lt;/ZOrigin&gt;&lt;ZScale&gt;10000&lt;/ZScale&gt;&lt;MOrigin&gt;-100000&lt;/MOrigin&gt;&lt;MScale&gt;10000&lt;/MScale&gt;&lt;XYTolerance&gt;0.001&lt;/XYTolerance&gt;&lt;ZTolerance&gt;0.001&lt;/ZTolerance&gt;&lt;MTolerance&gt;0.001&lt;/MTolerance&gt;&lt;HighPrecision&gt;true&lt;/HighPrecision&gt;&lt;WKID&gt;26919&lt;/WKID&gt;&lt;LatestWKID&gt;26919&lt;/LatestWKID&gt;&lt;/ProjectedCoordinateSystem&gt;</peXml>
</coordRef>
<RasterProperties>
<General>
<PixelDepth Sync="TRUE">8</PixelDepth>
<HasColormap Sync="TRUE">FALSE</HasColormap>
<CompressionType Sync="TRUE">None</CompressionType>
<NumBands Sync="TRUE">4</NumBands>
<Format Sync="TRUE">AMD</Format>
<HasPyramids Sync="TRUE">TRUE</HasPyramids>
<SourceType Sync="TRUE">continuous</SourceType>
<PixelType Sync="TRUE">unsigned integer</PixelType>
<NoDataValue Sync="TRUE"/>
</General>
<Properties>
<MaxImageHeight Sync="TRUE">4100</MaxImageHeight>
<MaxImageWidth Sync="TRUE">15000</MaxImageWidth>
<MaxRecordCount Sync="TRUE">1000</MaxRecordCount>
<MaxDownloadImageCount Sync="TRUE">20</MaxDownloadImageCount>
<MaxDownloadSizeLimit Sync="TRUE">2048</MaxDownloadSizeLimit>
<MaxMosaicImageCount Sync="TRUE">20</MaxMosaicImageCount>
<DefaultCompressionQuality Sync="TRUE">75</DefaultCompressionQuality>
<DefaultCompressionTolerance Sync="TRUE">0.01</DefaultCompressionTolerance>
<BlendWidth Sync="TRUE">10</BlendWidth>
<ViewpointSpacingX Sync="TRUE">600</ViewpointSpacingX>
<ViewpointSpacingY Sync="TRUE">300</ViewpointSpacingY>
<AllowedItemMetadata Sync="TRUE">Basic</AllowedItemMetadata>
<DefaultResamplingMethod Sync="TRUE">1</DefaultResamplingMethod>
<AllowedMosaicMethods Sync="TRUE">NorthWest,Center,LockRaster,ByAttribute,Nadir,Viewpoint,Seamline,None</AllowedMosaicMethods>
<AllowedCompressions Sync="TRUE">None,JPEG,LZ77,LERC</AllowedCompressions>
<AllowedMensurationCapabilities Sync="TRUE">Basic</AllowedMensurationCapabilities>
<AvailableMensurationCapabilities Sync="TRUE">None,Basic,Base-Top Height,Top-Top Shadow Height,Base-Top Shadow Height,3D</AvailableMensurationCapabilities>
<ClipToBoundary Sync="TRUE">-1</ClipToBoundary>
<FootprintMayContainNoData Sync="TRUE">-1</FootprintMayContainNoData>
<CellSizeTolerance Sync="TRUE">0.8</CellSizeTolerance>
<MinimumPixelContribution Sync="TRUE">1</MinimumPixelContribution>
<AvailableMosaicMethods Sync="TRUE">NorthWest,Center,LockRaster,ByAttribute,Nadir,Viewpoint,Seamline,None</AvailableMosaicMethods>
<AvailableCompressionMethods Sync="TRUE">None,JPEG,LZ77,LERC</AvailableCompressionMethods>
<AvailableItemMetadataLevels Sync="TRUE">None,Basic,Full</AvailableItemMetadataLevels>
<BandDefinitionKeyword Sync="TRUE">NaturalColorRGBI</BandDefinitionKeyword>
<AllowedFields Sync="TRUE">Name,MinPS,MaxPS,LowPS,HighPS,Tag,GroupName,ProductName,CenterX,CenterY,ZOrder,Shape_Length,Shape_Area</AllowedFields>
<MaxCellSize Sync="TRUE">24300</MaxCellSize>
<LowCellSize Sync="TRUE">0.5</LowCellSize>
<HighCellSize Sync="TRUE">486</HighCellSize>
</Properties>
<Functions Sync="TRUE">
<Function Description="Performs on-the-fly mosaic on a raster catalog." Name="Mosaic Function"/>
</Functions>
</RasterProperties>
</DataProperties>
<SyncDate>20181009</SyncDate>
<SyncTime>11443700</SyncTime>
<ModDate>20181009</ModDate>
<ModTime>11485200</ModTime>
<scaleRange>
<minScale>150000000</minScale>
<maxScale>5000</maxScale>
</scaleRange>
<ArcGISProfile>FGDC</ArcGISProfile>
</Esri>
<mdLang>
<languageCode value="eng"/>
<countryCode Sync="TRUE" value="USA"/>
</mdLang>
<mdChar>
<CharSetCd value="004"/>
</mdChar>
<mdHrLv>
<ScopeCd value="005"/>
</mdHrLv>
<mdContact>
<rpOrgName>Maine Office of Geographic Information Systems</rpOrgName>
<rpPosName>GIS Coordinator</rpPosName>
<rpCntInfo>
<cntAddress addressType="postal">
<delPoint>State House Station #145</delPoint>
<city>Augusta</city>
<adminArea>Maine</adminArea>
<postCode>04333</postCode>
<eMailAdd>OIT.Customer-Support@maine.gov</eMailAdd>
<country>USA</country>
</cntAddress>
<cntPhone>
<voiceNum>207-624-7700</voiceNum>
</cntPhone>
<cntHours>9 am to 5 pm EST</cntHours>
<cntInstr>Monday through Friday</cntInstr>
</rpCntInfo>
<displayName>Maine Office of Geographic Information Systems</displayName>
<displayName>Maine Office of Geographic Information Systems</displayName>
</mdContact>
<mdDateSt Sync="TRUE">20181009</mdDateSt>
<mdStanName>ArcGIS Metadata</mdStanName>
<mdStanVer>1.0</mdStanVer>
<distInfo>
<distributor>
<distorOrdPrc>
<resFees>None</resFees>
<ordInstr>http://www.maine.gov/geolib/wms.htm</ordInstr>
</distorOrdPrc>
<distorFormat>
<formatName>WMS</formatName>
<formatVer>1.1</formatVer>
<formatSpec>OpenGIS (OGC) Web Map Service (WMS)</formatSpec>
</distorFormat>
<distorCont>
<rpOrgName>Maine Office of Geographic Information Systems</rpOrgName>
<rpPosName>GIS Coordinator</rpPosName>
<rpCntInfo>
<cntAddress addressType="postal">
<delPoint>State House Station #145</delPoint>
<city>Augusta</city>
<adminArea>Maine</adminArea>
<postCode>04333</postCode>
<eMailAdd>OIT.Customer-Support@maine.gov</eMailAdd>
<country>USA</country>
</cntAddress>
<cntPhone>
<voiceNum>207-624-7700</voiceNum>
</cntPhone>
<cntHours>9 am to 5 pm EST</cntHours>
<cntInstr>Monday through Friday</cntInstr>
</rpCntInfo>
<displayName>Maine Office of Geographic Information Systems</displayName>
<displayName>Maine Office of Geographic Information Systems</displayName>
</distorCont>
</distributor>
<distTranOps>
<onLineSrc>
<linkage>http://www.maine.gov/geolib/wms.htm</linkage>
</onLineSrc>
</distTranOps>
</distInfo>
<dataIdInfo>
<idCitation>
<resTitle Sync="TRUE">orthoCoastalDownEastCoast2008</resTitle>
<date>
<pubDate>2009-03-01</pubDate>
</date>
<resEd>2008</resEd>
<citRespParty>
<rpOrgName>J.W. Sewall Co., Maine Department of Marine Resources (MeDMR) Maine Office of Geographic Information Systems (MEGIS)(comp)</rpOrgName>
<role>
<RoleCd value="006"/>
</role>
</citRespParty>
<presForm>
<PresFormCd value="005"/>
<fgdcGeoform>raster digital data</fgdcGeoform>
</presForm>
<datasetSeries>
<seriesName>Maine Coastal Low Tide Ortho-rectified Digital Images (ODI)</seriesName>
<issId>2008</issId>
</datasetSeries>
<otherCitDet>Color aerial photography taken at low tide. These Sewall digital images have a pixel resolution (or ground sample distance) of 0.5 meters, are precision geo-referenced and ortho-rectified and can be used with 1"=200' mapping applications. These photographs were aquired in August, 2008.</otherCitDet>
<citRespParty>
<rpOrgName>Maine Office of Geographic Information Systems</rpOrgName>
<rpPosName>GIS Coordinator</rpPosName>
<rpCntInfo>
<cntAddress addressType="postal">
<delPoint>State House Station #145</delPoint>
<city>Augusta</city>
<adminArea>Maine</adminArea>
<postCode>04333</postCode>
<eMailAdd>OIT.Customer-Support@maine.gov</eMailAdd>
<country>USA</country>
</cntAddress>
<cntPhone>
<voiceNum>207-624-7700</voiceNum>
</cntPhone>
<cntHours>9 am to 5 pm EST</cntHours>
<cntInstr>Monday through Friday</cntInstr>
</rpCntInfo>
<displayName>Maine Office of Geographic Information Systems</displayName>
<displayName>Maine Office of Geographic Information Systems</displayName>
<role>
<RoleCd value="001"/>
</role>
</citRespParty>
</idCitation>
<idAbs>&lt;DIV STYLE="text-align:Left;"&gt;&lt;DIV&gt;&lt;DIV&gt;&lt;P&gt;&lt;SPAN&gt;Ortho-rectified Digital Images (ODIs) collected and processed by J. W. Sewall Co. These digital images result from ortho-rectification and mosaicking of digital color aerial photographs. Digital file features include high quality ground-level georeferencing, derived from accurate positioning and geometric corrections, and provide a digital photographic map suitable for applications requiring a 1:2400 National Map Accuracy Standard (NMAS). This service is available as a seamless mosaic. The imagery covers a portion of the Maine coastline at low tide (low water). Imagery created from scanned analog photography which was processed to for ortho-rectified mosaicks.&lt;/SPAN&gt;&lt;/P&gt;&lt;/DIV&gt;&lt;/DIV&gt;&lt;/DIV&gt;</idAbs>
<idPurp>Maine Orthoimagery Coastal DownEast Coast 2008</idPurp>
<idCredit>MaineDMR, Maine GeoLibrary</idCredit>
<idStatus>
<ProgCd value="001"/>
</idStatus>
<idPoC>
<rpOrgName>Maine Department of Marine Resources</rpOrgName>
<rpPosName>GIS Manager</rpPosName>
<rpCntInfo>
<cntPhone>
<voiceNum>(207) 633-9500</voiceNum>
</cntPhone>
<cntAddress addressType="postal">
<delPoint>State House Station 38</delPoint>
<city>Augusta</city>
<adminArea>ME</adminArea>
<postCode>04333-0038</postCode>
<country>US</country>
</cntAddress>
<cntHours>Monday through Friday 0800 - 1700 EST</cntHours>
</rpCntInfo>
<role>
<RoleCd value="007"/>
</role>
</idPoC>
<resMaint>
<maintFreq>
<MaintFreqCd value="010"/>
</maintFreq>
</resMaint>
<placeKeys>
<thesaName>
<resTitle>Maine GIS Thesaurus-Place</resTitle>
</thesaName>
<keyword>Maine</keyword>
</placeKeys>
<stratKeys>
<thesaName>
<resTitle>GCMD Parameter Keyword</resTitle>
</thesaName>
<keyword>land surface</keyword>
</stratKeys>
<themeKeys>
<thesaName>
<resTitle>Maine GIS Thesaurus-Theme</resTitle>
</thesaName>
<keyword>aerial photograph</keyword>
<keyword>ortho-rectified digital image</keyword>
</themeKeys>
<themeKeys>
<thesaName>
<resTitle>ISO Keyword Thesaurus</resTitle>
</thesaName>
<keyword>imageryBaseMapsEarthCover</keyword>
</themeKeys>
<searchKeys>
<keyword>imageryBaseMapsEarthCover</keyword>
<keyword>ortho</keyword>
<keyword>orthoimagery</keyword>
<keyword>orthophotography</keyword>
<keyword>GeoLibrary</keyword>
<keyword>Maine</keyword>
<keyword>MaineGeoLibrary</keyword>
<keyword>MaineGIS</keyword>
<keyword>coastal</keyword>
<keyword>DownEast Coast</keyword>
<keyword>2008</keyword>
</searchKeys>
<resConst>
<LegConsts>
<useLimit>Users must assume responsibility to determine the usability of this data for their purposes.</useLimit>
<othConsts>The seamless presentation is available to Maine GIS users through an OGC-compliant WMS service presented by the Maine Office of GIS and the Maine GeoLibrary Board.</othConsts>
</LegConsts>
</resConst>
<resConst>
<Consts>
<useLimit>&lt;DIV STYLE="text-align:Left;"&gt;&lt;DIV&gt;&lt;DIV&gt;&lt;P&gt;&lt;SPAN&gt;Access: Public Use: User assumes risk.&lt;/SPAN&gt;&lt;/P&gt;&lt;/DIV&gt;&lt;/DIV&gt;&lt;/DIV&gt;</useLimit>
</Consts>
</resConst>
<dataLang>
<languageCode value="eng"/>
<countryCode Sync="TRUE" value="USA"/>
</dataLang>
<envirDesc Sync="TRUE"> Version 6.2 (Build 9200) ; Esri ArcGIS 10.5.1.7333</envirDesc>
<dataExt>
<exDesc>flight date</exDesc>
<tempEle>
<TempExtent>
<exTemp>
<TM_Instant>
<tmPosition time="unknown">2008-08-21</tmPosition>
</TM_Instant>
</exTemp>
</TempExtent>
</tempEle>
</dataExt>
<dataExt>
<geoEle>
<GeoBndBox>
<westBL>-68.814148</westBL>
<eastBL>-67.994664</eastBL>
<southBL>43.973918</southBL>
<northBL>44.628199</northBL>
</GeoBndBox>
</geoEle>
</dataExt>
<spatRpType>
<SpatRepTypCd Sync="TRUE" value="002"/>
</spatRpType>
<dataExt>
<geoEle>
<GeoBndBox esriExtentType="search">
<exTypeCode Sync="TRUE">1</exTypeCode>
<westBL Sync="TRUE">-68.774565</westBL>
<eastBL Sync="TRUE">-68.046240</eastBL>
<northBL Sync="TRUE">44.597671</northBL>
<southBL Sync="TRUE">43.996528</southBL>
</GeoBndBox>
</geoEle>
</dataExt>
<tpCat>
<TopicCatCd value="010"/>
</tpCat>
</dataIdInfo>
<dqInfo>
<dqScope>
<scpLvl>
<ScopeCd value="005"/>
</scpLvl>
</dqScope>
<report type="DQConcConsis">
<measDesc>The Coastal Maine Low Water Ortho-rectified Digital Images (ODIs)presented in ORTHO_LW cover a portion of the Maine coast from Eastern Penobscot Bay to Schoodic Point. The aerial photography was flown in 2008. The orthoimages produced from the photography have a pixel resolution (or ground sample distance) of 0.5 meters.</measDesc>
</report>
<report dimension="horizontal" type="DQAbsExtPosAcc">
<measDesc>Digital file features provide a digital photographic map suitable for applications requiring a 1:2400 National Map Accuracy Standard (NMAS).</measDesc>
</report>
<dataLineage>
<prcStep>
<stepDesc>The individual tiles were converted to MrSID imagery using LizardTech software. The original tiles were then resampled to create overview images for WMS. The resulting data are served from a MapServer-based system over the Internet.</stepDesc>
<stepProc>
<rpIndName>Mike Smith</rpIndName>
<rpOrgName>(MEGIS) Maine Office of Geographic Information Systems</rpOrgName>
<rpPosName>GIS Manager</rpPosName>
<rpCntInfo>
<cntPhone>
<voiceNum>(207) 624-7700</voiceNum>
<faxNum>(207) 287-3842</faxNum>
</cntPhone>
<cntAddress addressType="postal">
<delPoint>State House Station 174</delPoint>
<city>Augusta</city>
<adminArea>ME</adminArea>
<postCode>04333-0174</postCode>
<country>US</country>
<eMailAdd>michael.smith@maine.gov</eMailAdd>
</cntAddress>
<cntHours>Monday through Friday 0800 - 1700 EST</cntHours>
</rpCntInfo>
<role>
<RoleCd value="009"/>
</role>
</stepProc>
</prcStep>
<prcStep>
<stepDesc>A proprietary software program from Space Imaging was used to re-calculate some pixel values in the images. Pixels in which 1 or 2 of the 3 bands had values of zero were re-calculated to one. If all 3 bands equaled zero than the zero values were left untouched. Before loading into the ArcSDE database, the pixels in the .tiff images were adjusted to each other so that the pixels overlapped, allowing mosaicking. To adjust the pixels, an ESRI program name world_file_adjuster was used. The sderaster command was used to load the images into the ArcSDE database to create the ORTHO_MCP mosaic. During the load, the sderaster -o option was used for values equaled to zero. This loaded the images with a mask for pixels with a value of zero (one, two, or three bands).</stepDesc>
<stepDateTm>2004-01-01</stepDateTm>
<stepProc>
<rpIndName>Mike Smith</rpIndName>
<rpOrgName>(MEGIS) Maine Office of Geographic Information Systems</rpOrgName>
<rpPosName>GIS Manager</rpPosName>
<rpCntInfo>
<cntPhone>
<voiceNum>(207) 624-7700</voiceNum>
<faxNum>(207) 287-3842</faxNum>
</cntPhone>
<cntAddress addressType="postal">
<delPoint>State House Station 174</delPoint>
<city>Augusta</city>
<adminArea>ME</adminArea>
<postCode>04333-0174</postCode>
<country>US</country>
<eMailAdd>michael.smith@maine.gov</eMailAdd>
</cntAddress>
<cntHours>Monday through Friday 0800 - 1700 EST</cntHours>
</rpCntInfo>
<role>
<RoleCd value="009"/>
</role>
</stepProc>
</prcStep>
<prcStep>
<stepDesc>Data captured.</stepDesc>
<stepDateTm>2008-08-21</stepDateTm>
<stepProc>
<rpIndName>Nicol Cyr</rpIndName>
<rpOrgName>J. W. Sewall Company</rpOrgName>
<rpPosName>Imaging Production Manager</rpPosName>
<rpCntInfo>
<cntPhone>
<voiceNum>207-827-4456 ext. 264</voiceNum>
<faxNum>207-827-3641</faxNum>
</cntPhone>
<cntAddress addressType="postal">
<delPoint>Two DeLorme Drive, P.O. Box 298</delPoint>
<city>Yarmouth</city>
<adminArea>ME</adminArea>
<postCode>04096</postCode>
<eMailAdd>nicole.cyr@sewall.com</eMailAdd>
</cntAddress>
</rpCntInfo>
<role>
<RoleCd value="009"/>
</role>
</stepProc>
</prcStep>
</dataLineage>
</dqInfo>
<spatRepInfo>
<Georect>
<numDims Sync="TRUE">2</numDims>
<axisDimension type="003">
<dimSize>1</dimSize>
</axisDimension>
<cellGeo>
<CellGeoCd Sync="TRUE" value="002"/>
</cellGeo>
<tranParaAv Sync="TRUE">1</tranParaAv>
<chkPtAv Sync="TRUE">0</chkPtAv>
<cornerPts>
<pos Sync="TRUE">518074.000000 4871920.500120</pos>
</cornerPts>
<cornerPts>
<pos Sync="TRUE">518074.000000 4938283.500120</pos>
</cornerPts>
<cornerPts>
<pos Sync="TRUE">575700.000000 4938283.500120</pos>
</cornerPts>
<cornerPts>
<pos Sync="TRUE">575700.000000 4871920.500120</pos>
</cornerPts>
<centerPt>
<pos Sync="TRUE">546887.000000 4905102.000120</pos>
</centerPt>
<axisDimension type="002">
<dimSize Sync="TRUE">115252</dimSize>
<dimResol>
<value Sync="TRUE" uom="m">0.500000</value>
</dimResol>
</axisDimension>
<axisDimension type="001">
<dimSize Sync="TRUE">132726</dimSize>
<dimResol>
<value Sync="TRUE" uom="m">0.500000</value>
</dimResol>
</axisDimension>
<ptInPixel>
<PixOrientCd Sync="TRUE" value="001"/>
</ptInPixel>
</Georect>
</spatRepInfo>
<refSysInfo>
<RefSystem>
<refSysID>
<identCode Sync="TRUE" code="26919"/>
<idCodeSpace Sync="TRUE">EPSG</idCodeSpace>
<idVersion Sync="TRUE">6.13(3.0.1)</idVersion>
</refSysID>
</RefSystem>
</refSysInfo>
<contInfo>
<ImgDesc>
<contentTyp>
<ContentTypCd Sync="TRUE" value="001"/>
</contentTyp>
<covDim>
<Band>
<dimDescrp Sync="TRUE">Red</dimDescrp>
<maxVal Sync="TRUE">254.000000</maxVal>
<minVal Sync="TRUE">0.000000</minVal>
<bitsPerVal Sync="TRUE">8</bitsPerVal>
<valUnit>
<UOM type="length"/>
</valUnit>
</Band>
<Band>
<dimDescrp Sync="TRUE">Green</dimDescrp>
<maxVal Sync="TRUE">254.000000</maxVal>
<minVal Sync="TRUE">0.000000</minVal>
<bitsPerVal Sync="TRUE">8</bitsPerVal>
<valUnit>
<UOM type="length"/>
</valUnit>
</Band>
<Band>
<dimDescrp Sync="TRUE">Blue</dimDescrp>
<maxVal Sync="TRUE">254.000000</maxVal>
<minVal Sync="TRUE">0.000000</minVal>
<bitsPerVal Sync="TRUE">8</bitsPerVal>
<valUnit>
<UOM type="length"/>
</valUnit>
</Band>
<Band>
<dimDescrp Sync="TRUE">Infrared</dimDescrp>
<maxVal Sync="TRUE">254.000000</maxVal>
<minVal Sync="TRUE">0.000000</minVal>
<bitsPerVal Sync="TRUE">8</bitsPerVal>
<valUnit>
<UOM type="length"/>
</valUnit>
</Band>
</covDim>
</ImgDesc>
</contInfo>
</metadata>
