<?xml version="1.0" encoding="UTF-8" standalone="no"?>
<metadata xml:lang="en">
<Esri>
<CreaDate>20181004</CreaDate>
<CreaTime>12292000</CreaTime>
<ArcGISFormat>1.0</ArcGISFormat>
<ArcGISstyle>FGDC CSDGM Metadata</ArcGISstyle>
<SyncOnce>FALSE</SyncOnce>
<DataProperties>
<lineage>
<Process Date="20181004" Name="" Time="122920" ToolSource="c:\program files (x86)\arcgis\desktop10.5\ArcToolbox\Toolboxes\Data Management Tools.tbx\CreateMosaicDataset" export="">CreateMosaicDataset \\stgisdataprd001.file.core.windows.net\gisprd1gisdata\svcFgdb\megis\orthoCoastal.gdb orthoCoastalDownEastCoast2009 "PROJCS['NAD_1983_UTM_Zone_19N',GEOGCS['GCS_North_American_1983',DATUM['D_North_American_1983',SPHEROID['GRS_1980',6378137.0,298.257222101]],PRIMEM['Greenwich',0.0],UNIT['Degree',0.0174532925199433]],PROJECTION['Transverse_Mercator'],PARAMETER['False_Easting',500000.0],PARAMETER['False_Northing',0.0],PARAMETER['Central_Meridian',-69.0],PARAMETER['Scale_Factor',0.9996],PARAMETER['Latitude_Of_Origin',0.0],UNIT['Meter',1.0]];-5120900 -9998100 10000;-100000 10000;-100000 10000;0.001;0.001;0.001;IsHighPrecision" 4 8_BIT_UNSIGNED NATURAL_COLOR_RGBI "Red 630 690;Green 530 570;Blue 440 510;Infrared 770 830"</Process>
</lineage>
<itemProps>
<itemName Sync="TRUE">orthoCoastalDownEastCoast2009</itemName>
<itemLocation>
<linkage Sync="TRUE">file://\\stgisdataprd001.file.core.windows.net\gisprd1gisdata\svcFgdb\megis\orthoCoastal.gdb</linkage>
<protocol Sync="TRUE">Local Area Network</protocol>
</itemLocation>
<nativeExtBox>
<westBL Sync="TRUE">572730.049085</westBL>
<eastBL Sync="TRUE">665154.394508</eastBL>
<southBL Sync="TRUE">4907009.794737</southBL>
<northBL Sync="TRUE">5004256.036499</northBL>
<exTypeCode Sync="TRUE">1</exTypeCode>
</nativeExtBox>
<imsContentType>003</imsContentType>
</itemProps>
<coordRef>
<type Sync="TRUE">Projected</type>
<geogcsn Sync="TRUE">GCS_North_American_1983</geogcsn>
<csUnits Sync="TRUE">Linear Unit: Meter (1.000000)</csUnits>
<projcsn Sync="TRUE">NAD_1983_UTM_Zone_19N</projcsn>
<peXml Sync="TRUE">&lt;ProjectedCoordinateSystem xsi:type='typens:ProjectedCoordinateSystem' xmlns:xsi='http://www.w3.org/2001/XMLSchema-instance' xmlns:xs='http://www.w3.org/2001/XMLSchema' xmlns:typens='http://www.esri.com/schemas/ArcGIS/10.5'&gt;&lt;WKT&gt;PROJCS[&amp;quot;NAD_1983_UTM_Zone_19N&amp;quot;,GEOGCS[&amp;quot;GCS_North_American_1983&amp;quot;,DATUM[&amp;quot;D_North_American_1983&amp;quot;,SPHEROID[&amp;quot;GRS_1980&amp;quot;,6378137.0,298.257222101]],PRIMEM[&amp;quot;Greenwich&amp;quot;,0.0],UNIT[&amp;quot;Degree&amp;quot;,0.0174532925199433]],PROJECTION[&amp;quot;Transverse_Mercator&amp;quot;],PARAMETER[&amp;quot;False_Easting&amp;quot;,500000.0],PARAMETER[&amp;quot;False_Northing&amp;quot;,0.0],PARAMETER[&amp;quot;Central_Meridian&amp;quot;,-69.0],PARAMETER[&amp;quot;Scale_Factor&amp;quot;,0.9996],PARAMETER[&amp;quot;Latitude_Of_Origin&amp;quot;,0.0],UNIT[&amp;quot;Meter&amp;quot;,1.0],AUTHORITY[&amp;quot;EPSG&amp;quot;,26919]]&lt;/WKT&gt;&lt;XOrigin&gt;-5120900&lt;/XOrigin&gt;&lt;YOrigin&gt;-9998100&lt;/YOrigin&gt;&lt;XYScale&gt;450445547.3910538&lt;/XYScale&gt;&lt;ZOrigin&gt;-100000&lt;/ZOrigin&gt;&lt;ZScale&gt;10000&lt;/ZScale&gt;&lt;MOrigin&gt;-100000&lt;/MOrigin&gt;&lt;MScale&gt;10000&lt;/MScale&gt;&lt;XYTolerance&gt;0.001&lt;/XYTolerance&gt;&lt;ZTolerance&gt;0.001&lt;/ZTolerance&gt;&lt;MTolerance&gt;0.001&lt;/MTolerance&gt;&lt;HighPrecision&gt;true&lt;/HighPrecision&gt;&lt;WKID&gt;26919&lt;/WKID&gt;&lt;LatestWKID&gt;26919&lt;/LatestWKID&gt;&lt;/ProjectedCoordinateSystem&gt;</peXml>
</coordRef>
<RasterProperties>
<General>
<PixelDepth Sync="TRUE">8</PixelDepth>
<HasColormap Sync="TRUE">FALSE</HasColormap>
<CompressionType Sync="TRUE">None</CompressionType>
<NumBands Sync="TRUE">4</NumBands>
<Format Sync="TRUE">AMD</Format>
<HasPyramids Sync="TRUE">TRUE</HasPyramids>
<SourceType Sync="TRUE">continuous</SourceType>
<PixelType Sync="TRUE">unsigned integer</PixelType>
<NoDataValue Sync="TRUE">0</NoDataValue>
</General>
<Properties>
<MaxImageHeight Sync="TRUE">4100</MaxImageHeight>
<MaxImageWidth Sync="TRUE">15000</MaxImageWidth>
<MaxRecordCount Sync="TRUE">1000</MaxRecordCount>
<MaxDownloadImageCount Sync="TRUE">20</MaxDownloadImageCount>
<MaxDownloadSizeLimit Sync="TRUE">2048</MaxDownloadSizeLimit>
<MaxMosaicImageCount Sync="TRUE">20</MaxMosaicImageCount>
<DefaultCompressionQuality Sync="TRUE">87</DefaultCompressionQuality>
<DefaultCompressionTolerance Sync="TRUE">0.01</DefaultCompressionTolerance>
<BlendWidth Sync="TRUE">10</BlendWidth>
<ViewpointSpacingX Sync="TRUE">600</ViewpointSpacingX>
<ViewpointSpacingY Sync="TRUE">300</ViewpointSpacingY>
<AllowedItemMetadata Sync="TRUE">Basic</AllowedItemMetadata>
<DefaultResamplingMethod Sync="TRUE">1</DefaultResamplingMethod>
<AllowedMosaicMethods Sync="TRUE">NorthWest,Center,ByAttribute,Nadir,Viewpoint,None</AllowedMosaicMethods>
<AllowedCompressions Sync="TRUE">LZ77,None,JPEG,LERC</AllowedCompressions>
<AllowedMensurationCapabilities Sync="TRUE">None</AllowedMensurationCapabilities>
<AvailableMensurationCapabilities Sync="TRUE">None,Basic,Base-Top Height,Top-Top Shadow Height,Base-Top Shadow Height,3D</AvailableMensurationCapabilities>
<ClipToBoundary Sync="TRUE">-1</ClipToBoundary>
<FootprintMayContainNoData Sync="TRUE">-1</FootprintMayContainNoData>
<CellSizeTolerance Sync="TRUE">0.8</CellSizeTolerance>
<MinimumPixelContribution Sync="TRUE">1</MinimumPixelContribution>
<AvailableMosaicMethods Sync="TRUE">NorthWest,Center,LockRaster,ByAttribute,Nadir,Viewpoint,Seamline,None</AvailableMosaicMethods>
<AvailableCompressionMethods Sync="TRUE">None,JPEG,LZ77,LERC</AvailableCompressionMethods>
<AvailableItemMetadataLevels Sync="TRUE">None,Basic,Full</AvailableItemMetadataLevels>
<BandDefinitionKeyword Sync="TRUE">NaturalColorRGBI</BandDefinitionKeyword>
<AllowedFields Sync="TRUE">Name,MinPS,MaxPS,LowPS,HighPS,Tag,GroupName,ProductName,CenterX,CenterY,ZOrder,Shape_Length,Shape_Area,Date,DateInt</AllowedFields>
<MaxCellSize Sync="TRUE">24300</MaxCellSize>
<LowCellSize Sync="TRUE">0.499885583524454</LowCellSize>
<HighCellSize Sync="TRUE">486</HighCellSize>
<ApplyColorCorrection Sync="TRUE">0</ApplyColorCorrection>
<TimeValueFormat Sync="TRUE">YYYY-MM-DD</TimeValueFormat>
<EndTimeFieldName Sync="TRUE">Date</EndTimeFieldName>
<StartTimeFieldName Sync="TRUE">Date</StartTimeFieldName>
<TimeIntervalUnits Sync="TRUE">Days</TimeIntervalUnits>
<TimeInterval Sync="TRUE">2</TimeInterval>
<VerticalDimension Sync="TRUE"/>
<FlowDirection Sync="TRUE"/>
<MosaicOperator Sync="TRUE">1</MosaicOperator>
<BlendWidthUnits Sync="TRUE">1</BlendWidthUnits>
<UseTime Sync="TRUE">-1</UseTime>
<SortAscending Sync="TRUE">-1</SortAscending>
<ClipToFootprint Sync="TRUE">0</ClipToFootprint>
<SortField Sync="TRUE">MinPS</SortField>
<SortValue Sync="TRUE">0</SortValue>
</Properties>
<Functions Sync="TRUE">
<Function Description="Performs on-the-fly mosaic on a raster catalog." Name="Mosaic Function"/>
</Functions>
</RasterProperties>
</DataProperties>
<SyncDate>20181009</SyncDate>
<SyncTime>15055500</SyncTime>
<ModDate>20181009</ModDate>
<ModTime>15055500</ModTime>
<scaleRange>
<minScale>150000000</minScale>
<maxScale>5000</maxScale>
</scaleRange>
<ArcGISProfile>FGDC</ArcGISProfile>
</Esri>
<mdLang>
<languageCode value="eng"/>
<countryCode Sync="TRUE" value="USA"/>
</mdLang>
<mdChar>
<CharSetCd value="004"/>
</mdChar>
<mdHrLv>
<ScopeCd value="005"/>
</mdHrLv>
<mdContact>
<rpIndName>Nicole Cyr</rpIndName>
<rpOrgName>Sewall Company</rpOrgName>
<rpPosName>Imaging Production Manager</rpPosName>
<rpCntInfo>
<cntPhone>
<voiceNum>207-827-4456 ext. 264</voiceNum>
<faxNum>207-827-3641</faxNum>
</cntPhone>
<cntAddress addressType="postal">
<delPoint>P.O. Box 433</delPoint>
<city>Old Town</city>
<adminArea>ME</adminArea>
<postCode>04468</postCode>
<country>US</country>
</cntAddress>
<cntHours>Monday through Friday 0800 - 1800 EST</cntHours>
</rpCntInfo>
<role>
<RoleCd value="007"/>
</role>
</mdContact>
<mdStanName>ArcGIS Metadata</mdStanName>
<mdStanVer>1.0</mdStanVer>
<distInfo>
<distributor>
<distorCont>
<rpOrgName>Sewall Company</rpOrgName>
<rpCntInfo>
<cntPhone>
<voiceNum>207-827-4456</voiceNum>
<faxNum>207-827-3641</faxNum>
</cntPhone>
<cntAddress addressType="postal">
<delPoint>P.O. Box 433</delPoint>
<city>Old Town</city>
<adminArea>ME</adminArea>
<postCode>04468</postCode>
<country>US</country>
</cntAddress>
<cntHours>Monday through Friday 0800 - 1800 EST</cntHours>
</rpCntInfo>
<role>
<RoleCd value="005"/>
</role>
</distorCont>
<distorOrdPrc>
<resFees>To Be Determined by Maine Department Of Marine Resources</resFees>
</distorOrdPrc>
<distorTran>
<offLineMed>
<medName>
<MedNameCd value="018"/>
</medName>
<medNote>To Be Determined by Maine Department Of Marine Resources</medNote>
</offLineMed>
</distorTran>
</distributor>
</distInfo>
<dataIdInfo>
<idCitation>
<resTitle Sync="TRUE">orthoCoastalDownEastCoast2009</resTitle>
<date>
<pubDate time="unknown">2009-10-19</pubDate>
</date>
<resEd>First</resEd>
<citRespParty>
<rpOrgName>Sewall Company</rpOrgName>
<role>
<RoleCd value="006"/>
</role>
</citRespParty>
<presForm>
<PresFormCd value="005"/>
</presForm>
<presForm>
<fgdcGeoform>raster digital data</fgdcGeoform>
</presForm>
</idCitation>
<idAbs>&lt;DIV STYLE="text-align:Left;"&gt;&lt;DIV&gt;&lt;P&gt;&lt;SPAN&gt;True color imagery, 0.50 meter ground sample distance (GSD), high resolution digital orthophotographs produced from aerial photos collected over the coast of Maine in the late summer of 2009. Each pixel represents a planimetric square 0.50 meter on a side on the ground. Aerial photography was flown at approximately 1,900 meters above mean ground level. Source elevation data were 30 meter Digital Elevation Models produced by the USGS from 1:24,000 scale elevation. The digital orthorectified images are referenced to North American Datum 1983, UTM Zone 19, expressed in units of meters. The completed orthorectified GeoTIFF files represent Digital Ortho Quarter Quad (DOQQ) sized sheets. Imagery tiles provide complete coverage of the Maine Department of Marine Resources (DMR) 2009 Eelgrass boundaries as defined by the project.&lt;/SPAN&gt;&lt;/P&gt;&lt;/DIV&gt;&lt;/DIV&gt;</idAbs>
<idPurp>Maine Orthoimagery Coastal DownEast Coast 2009</idPurp>
<idCredit>Aerial photography and ortho-rectification performed by Sewall Company in Old Town, ME</idCredit>
<idStatus>
<ProgCd value="001"/>
</idStatus>
<idPoC>
<rpIndName>Nicole Cyr</rpIndName>
<rpOrgName>Sewall Company</rpOrgName>
<rpPosName>Imaging Production Manager</rpPosName>
<rpCntInfo>
<cntPhone>
<voiceNum>207-827-4456 ext. 264</voiceNum>
<faxNum>207-827-3641</faxNum>
</cntPhone>
<cntAddress addressType="postal">
<delPoint>P.O. Box 433</delPoint>
<city>Old Town</city>
<adminArea>ME</adminArea>
<postCode>04468</postCode>
<country>US</country>
<eMailAdd>nicole.cyr@sewall.com</eMailAdd>
</cntAddress>
<cntHours>Monday through Friday 0800 - 1700 EST</cntHours>
</rpCntInfo>
<role>
<RoleCd value="007"/>
</role>
</idPoC>
<resMaint>
<maintFreq>
<MaintFreqCd value="012"/>
</maintFreq>
</resMaint>
<placeKeys>
<keyword>United States</keyword>
<keyword>Coast</keyword>
<keyword>Maine</keyword>
</placeKeys>
<themeKeys>
<keyword>Aerial Photography</keyword>
<keyword>True Color Imagery</keyword>
<keyword>Ocean</keyword>
<keyword>Vegetation</keyword>
<keyword>Coast</keyword>
<keyword>Eelgrass</keyword>
<keyword>Ortho-Rectified Digital Image</keyword>
<keyword>Ground Sample Distance 0.50 Meter</keyword>
</themeKeys>
<searchKeys>
<keyword>imageryBaseMapsEarthCover</keyword>
<keyword>ortho</keyword>
<keyword>orthoimagery</keyword>
<keyword>orthophotography</keyword>
<keyword>GeoLibrary</keyword>
<keyword>Maine</keyword>
<keyword>MaineGeoLibrary</keyword>
<keyword>MaineGIS</keyword>
<keyword>coastal</keyword>
<keyword>DownEast Coast</keyword>
<keyword>2009</keyword>
<keyword>raster</keyword>
</searchKeys>
<resConst>
<LegConsts>
<useLimit>To Be Determined by Maine Department Of Marine Resources</useLimit>
<othConsts>Secondary distribution by permission only.</othConsts>
</LegConsts>
</resConst>
<resConst>
<Consts>
<useLimit>&lt;DIV STYLE="text-align:Left;"&gt;&lt;DIV&gt;&lt;P&gt;&lt;SPAN&gt;Users must assume responsibility in determining the usability of this data for their purposes.&lt;/SPAN&gt;&lt;/P&gt;&lt;/DIV&gt;&lt;/DIV&gt;</useLimit>
</Consts>
</resConst>
<dataLang>
<languageCode value="eng"/>
<countryCode Sync="TRUE" value="USA"/>
</dataLang>
<dataExt>
<exDesc>ground condition</exDesc>
<tempEle>
<TempExtent>
<exTemp>
<TM_Period>
<tmBegin>2009-08-25</tmBegin>
<tmEnd>2009-09-21</tmEnd>
</TM_Period>
</exTemp>
</TempExtent>
</tempEle>
</dataExt>
<dataExt>
<geoEle>
<GeoBndBox>
<westBL>-68.12685</westBL>
<eastBL>-66.875744</eastBL>
<southBL>44.297188</southBL>
<northBL>45.19945</northBL>
</GeoBndBox>
</geoEle>
</dataExt>
<envirDesc Sync="TRUE"> Version 6.2 (Build 9200) ; Esri ArcGIS 10.5.1.7333</envirDesc>
<spatRpType>
<SpatRepTypCd Sync="TRUE" value="002"/>
</spatRpType>
<dataExt>
<geoEle>
<GeoBndBox esriExtentType="search">
<exTypeCode Sync="TRUE">1</exTypeCode>
<westBL Sync="TRUE">-68.088046</westBL>
<eastBL Sync="TRUE">-66.898223</eastBL>
<northBL Sync="TRUE">45.188036</northBL>
<southBL Sync="TRUE">44.297582</southBL>
</GeoBndBox>
</geoEle>
</dataExt>
<tpCat>
<TopicCatCd value="010"/>
</tpCat>
</dataIdInfo>
<dqInfo>
<dqScope>
<scpLvl>
<ScopeCd value="005"/>
</scpLvl>
</dqScope>
<report type="DQConcConsis">
<measDesc>None</measDesc>
</report>
<report type="DQCompOm">
<measDesc>Complete digital orthorectified image mosaics, covering the Eelgrass Maine coastal area for late summer 2009.</measDesc>
</report>
<report type="DQQuanAttAcc">
<measDesc>Orthophotos were tonally balanced to produce a uniform contrast and tone across the image tiles of the entire project.</measDesc>
</report>
<dataLineage>
<prcStep>
<stepDesc>Aerial photography for the Maine Department of Marine Resources (DMR) was flown at approximately 1900 meters above mean ground level. Imagery was captured using two cameras (Camera 1 serial number: 142826, focal length 153.541; Camera 2 serial number 144126, focal length 153.328). True color aerial photography flown east-west and north-south, controlled by Airborne Global Positioning System (GPS) and Inertial Measurement Unit (IMU) was acquired and processed to a positive image over the Maine DMR 2009 Eelgrass project area. The photography was acquired only under conditions that minimized clouds and cloud shadows, smoke, haze, light streaks, snow, flooding, excessive soil moisture, during minimal shadow conditions, and with sun angle between 15 and 30 degrees to minimize sun glint. Imagery was captured during periods of low water turbidity as determined by Maine DMR. The film specified was Kodak 2427 true color original film, processed to a positive image. Adequate stereo coverage over the project area was required with a minimum overlap of 60 percent forward and 30 percent side to provide full stereoscopic coverage appropriate for the production of digital orthos.</stepDesc>
<stepDateTm>2009-10-19</stepDateTm>
<stepProc>
<rpOrgName>Sewall Company</rpOrgName>
<rpCntInfo>
<cntPhone>
<voiceNum>207-827-4456</voiceNum>
<faxNum>207-827-3641</faxNum>
</cntPhone>
<cntAddress addressType="postal">
<delPoint>P.O. Box 433</delPoint>
<city>Old Town</city>
<adminArea>ME</adminArea>
<postCode>04468</postCode>
<country>US</country>
</cntAddress>
<cntHours>Monday through Friday 0800 - 1800 EST</cntHours>
</rpCntInfo>
<role>
<RoleCd value="009"/>
</role>
</stepProc>
</prcStep>
</dataLineage>
</dqInfo>
<refSysInfo>
<RefSystem>
<refSysID>
<identCode Sync="TRUE" code="26919"/>
<idCodeSpace Sync="TRUE">EPSG</idCodeSpace>
<idVersion Sync="TRUE">6.13(3.0.1)</idVersion>
</refSysID>
</RefSystem>
</refSysInfo>
<spatRepInfo>
<Georect>
<cellGeo>
<CellGeoCd Sync="TRUE" value="002"/>
</cellGeo>
<numDims Sync="TRUE">2</numDims>
<tranParaAv Sync="TRUE">1</tranParaAv>
<chkPtAv Sync="TRUE">0</chkPtAv>
<cornerPts>
<pos Sync="TRUE">572730.049085 4907009.794737</pos>
</cornerPts>
<cornerPts>
<pos Sync="TRUE">572730.049085 5004256.036499</pos>
</cornerPts>
<cornerPts>
<pos Sync="TRUE">665154.394508 5004256.036499</pos>
</cornerPts>
<cornerPts>
<pos Sync="TRUE">665154.394508 4907009.794737</pos>
</cornerPts>
<centerPt>
<pos Sync="TRUE">618942.221796 4955632.915618</pos>
</centerPt>
<axisDimension type="002">
<dimSize Sync="TRUE">184891</dimSize>
<dimResol>
<value Sync="TRUE" uom="m">0.499886</value>
</dimResol>
</axisDimension>
<axisDimension type="001">
<dimSize Sync="TRUE">194537</dimSize>
<dimResol>
<value Sync="TRUE" uom="m">0.499886</value>
</dimResol>
</axisDimension>
<ptInPixel>
<PixOrientCd Sync="TRUE" value="001"/>
</ptInPixel>
</Georect>
</spatRepInfo>
<contInfo>
<ImgDesc>
<contentTyp>
<ContentTypCd Sync="TRUE" value="001"/>
</contentTyp>
<covDim>
<Band>
<dimDescrp Sync="TRUE">Red</dimDescrp>
<maxVal Sync="TRUE">252.000000</maxVal>
<minVal Sync="TRUE">0.000000</minVal>
<bitsPerVal Sync="TRUE">8</bitsPerVal>
<valUnit>
<UOM type="length"/>
</valUnit>
</Band>
<Band>
<dimDescrp Sync="TRUE">Green</dimDescrp>
<maxVal Sync="TRUE">252.000000</maxVal>
<minVal Sync="TRUE">0.000000</minVal>
<bitsPerVal Sync="TRUE">8</bitsPerVal>
<valUnit>
<UOM type="length"/>
</valUnit>
</Band>
<Band>
<dimDescrp Sync="TRUE">Blue</dimDescrp>
<maxVal Sync="TRUE">252.000000</maxVal>
<minVal Sync="TRUE">0.000000</minVal>
<bitsPerVal Sync="TRUE">8</bitsPerVal>
<valUnit>
<UOM type="length"/>
</valUnit>
</Band>
<Band>
<dimDescrp Sync="TRUE">Infrared</dimDescrp>
<maxVal Sync="TRUE">252.000000</maxVal>
<minVal Sync="TRUE">0.000000</minVal>
<bitsPerVal Sync="TRUE">8</bitsPerVal>
<valUnit>
<UOM type="length"/>
</valUnit>
</Band>
</covDim>
</ImgDesc>
</contInfo>
<mdDateSt Sync="TRUE">20181009</mdDateSt>
</metadata>
