This dataset consists of true color aerial imagery of Midcoast coastal region between Small Point in Phippsburg, ME and Marshall Point in Port Clyde, ME and was captured at 14.5-cm GSD and used to produce high resolution 6\u201d orthorectified imagery with a one-foot accuracy. Imagery was collected over four flights on July 7, August 2, August 3, and August 6, 2023, during low tide conditions and within two hours of spring tides. Additional atmospheric considerations that were considered before each lift included flying in a sun angle between 20 degrees and 50 degrees, no more than 10% cloud cover, and less than 10 knots of a maximum predicted wind velocity. Additionally, flights were not dispatched after large precipitation events in the preceding 48 hours, although small precipitation events up to 0.1 inches were recorded on some occasions. The project area consisted of approximately 2,879 images on 28 flight lines with 60% forelap and 30% sidelap. Airborne GPS and IMU were utilized during the acquisition to improve the aerotriangulation solution. Raw imagery was acquired using the Vexcel Eagle 80-mm Mark 3 mounted on a fixed wing aircraft and flown at an elevation of approximately 9,500 feet. Digital ortho-rectified imagery was created using the raw digital aerial imagery, ground control, aerotriangulation, and a digital elevation model. Existing State of Maine ground control and new ground control points were utilized in the aerotriangulation solution for this project. These aerial survey products were under contract for the State of Maine Department of Environmental Protection. Bluesky Geospatial was subcontracted to capture the raw aerial imagery and process the raw imagery to develop the aerotriangulation solution and to create digital orthophotos and related products. James W. Sewall was contracted to verify that project specifications were met.<\/span><\/p><\/div><\/div><\/div>",
"serviceItemId": "c9fe604f7ec64c10abd7bc34bdd8c0b7",
"name": "Coastal/orthoCoastalMidcoast2023",
"description": "This dataset consists of true color aerial imagery of Midcoast coastal region between Small Point in Phippsburg, ME and Marshall Point in Port Clyde, ME and was captured at 14.5-cm GSD and used to produce high resolution 6\u201d orthorectified imagery with a one-foot accuracy. Imagery was collected over four flights on July 7, August 2, August 3, and August 6, 2023, during low tide conditions and within two hours of spring tides. Additional atmospheric considerations that were considered before each lift included flying in a sun angle between 20 degrees and 50 degrees, no more than 10% cloud cover, and less than 10 knots of a maximum predicted wind velocity. Additionally, flights were not dispatched after large precipitation events in the preceding 48 hours, although small precipitation events up to 0.1 inches were recorded on some occasions. The project area consisted of approximately 2,879 images on 28 flight lines with 60% forelap and 30% sidelap. Airborne GPS and IMU were utilized during the acquisition to improve the aerotriangulation solution. Raw imagery was acquired using the Vexcel Eagle 80-mm Mark 3 mounted on a fixed wing aircraft and flown at an elevation of approximately 9,500 feet. Digital ortho-rectified imagery was created using the raw digital aerial imagery, ground control, aerotriangulation, and a digital elevation model. Existing State of Maine ground control and new ground control points were utilized in the aerotriangulation solution for this project. These aerial survey products were under contract for the State of Maine Department of Environmental Protection. Bluesky Geospatial was subcontracted to capture the raw aerial imagery and process the raw imagery to develop the aerotriangulation solution and to create digital orthophotos and related products. James W. Sewall was contracted to verify that project specifications were met.<\/span><\/p><\/div><\/div><\/div>",
"extent": {
"xmin": 419000,
"ymin": 4836000,
"xmax": 491000,
"ymax": 4916000,
"spatialReference": {
"wkid": 26919,
"latestWkid": 26919
}
},
"initialExtent": {
"xmin": 419000,
"ymin": 4836000,
"xmax": 491000,
"ymax": 4916000,
"spatialReference": {
"wkid": 26919,
"latestWkid": 26919
}
},
"fullExtent": {
"xmin": 419000,
"ymin": 4836000,
"xmax": 491000,
"ymax": 4916000,
"spatialReference": {
"wkid": 26919,
"latestWkid": 26919
}
},
"sortableFields": "MinPS,MaxPS,LowPS,HighPS,CenterX,CenterY,ZOrder,Shape_Length,Shape_Area,DateBegin,DateEnd,DateIntBegin,DateIntEnd",
"bandCount": 4,
"pixelType": "U8",
"minValues": [
1,
1,
1,
0
],
"maxValues": [
254,
254,
254,
255
],
"meanValues": [
0,
0,
0,
0
],
"stdvValues": [
0,
0,
0,
0
],
"serviceProperties": "NorthWest<\/MosaicMethod>First<\/MosaicOperator>true<\/SortAscending><\/LockImageID>MinPS<\/TileOrderField><\/TileOrderBase>600.000000<\/AvgImageSpacingX>300.000000<\/AvgImageSpacingY>0.0<\/ViewPointX>0.0<\/ViewPointY>0.0<\/ViewPointDefShiftX>0.0<\/ViewPointDefShiftY>LZ77<\/CompressionMethod>87<\/CompressionQuality>0.010000<\/CompressionTolerance>Bilinear<\/SamplingMethod><\/ImageServiceProperties><\/ImageServer>",
"allowedFields": "Name,MinPS,MaxPS,LowPS,HighPS,Tag,GroupName,ProductName,CenterX,CenterY,ZOrder,Shape_Length,Shape_Area,DateBegin,DateEnd,DateIntBegin,DateIntEnd",
"hasMultidimensions": false,
"pixelSizeX": 0.125,
"pixelSizeY": 0.125,
"meanPixelSize": 0.125,
"datasetFormat": "AMD",
"uncompressedSize": 1474560000000,
"blockWidth": 2048,
"blockHeight": 256,
"compressionType": "None",
"bandNames": [
"Band_1",
"Band_2",
"Band_3",
"Band_4"
],
"allowCopy": true,
"allowAnalysis": true,
"itemAccess": false,
"inspectionCapabilities": "",
"minPixelSize": 0,
"maxPixelSize": 0,
"copyrightText": "Orthophotos were produced for the State of Maine Department of Environmental Protection. James W. Sewall was the primary contractor and Bluesky Geospatial was subcontracted for aerial imagery acquisition and orthophotography development.",
"serviceDataType": "esriImageServiceDataTypeGeneric",
"serviceSourceType": "esriImageServiceSourceTypeMosaicDataset",
"objectIdField": "OBJECTID",
"fields": [
{
"name": "OBJECTID",
"type": "esriFieldTypeOID",
"alias": "OBJECTID",
"domain": null
},
{
"name": "Shape",
"type": "esriFieldTypeGeometry",
"alias": "Shape",
"domain": null
},
{
"name": "Name",
"type": "esriFieldTypeString",
"alias": "Name",
"domain": null,
"length": 200
},
{
"name": "MinPS",
"type": "esriFieldTypeDouble",
"alias": "MinPS",
"domain": null
},
{
"name": "MaxPS",
"type": "esriFieldTypeDouble",
"alias": "MaxPS",
"domain": null
},
{
"name": "LowPS",
"type": "esriFieldTypeDouble",
"alias": "LowPS",
"domain": null
},
{
"name": "HighPS",
"type": "esriFieldTypeDouble",
"alias": "HighPS",
"domain": null
},
{
"name": "Category",
"type": "esriFieldTypeInteger",
"alias": "Category",
"domain": {
"type": "codedValue",
"name": "MosaicCatalogItemCategoryDomain",
"description": "Catalog item categories.",
"codedValues": [
{
"name": "Unknown",
"code": 0
},
{
"name": "Primary",
"code": 1
},
{
"name": "Overview",
"code": 2
},
{
"name": "Unprocessed Overview",
"code": 3
},
{
"name": "Partial Overview",
"code": 4
},
{
"name": "Inactive",
"code": 5
},
{
"name": "Uploaded",
"code": 253
},
{
"name": "Incomplete",
"code": 254
},
{
"name": "Custom",
"code": 255
}
],
"mergePolicy": "esriMPTDefaultValue",
"splitPolicy": "esriSPTDefaultValue"
}
},
{
"name": "Tag",
"type": "esriFieldTypeString",
"alias": "Tag",
"domain": null,
"length": 100
},
{
"name": "GroupName",
"type": "esriFieldTypeString",
"alias": "GroupName",
"domain": null,
"length": 100
},
{
"name": "ProductName",
"type": "esriFieldTypeString",
"alias": "ProductName",
"domain": null,
"length": 100
},
{
"name": "CenterX",
"type": "esriFieldTypeDouble",
"alias": "CenterX",
"domain": null
},
{
"name": "CenterY",
"type": "esriFieldTypeDouble",
"alias": "CenterY",
"domain": null
},
{
"name": "ZOrder",
"type": "esriFieldTypeInteger",
"alias": "ZOrder",
"domain": null
},
{
"name": "Shape_Length",
"type": "esriFieldTypeDouble",
"alias": "Shape_Length",
"domain": null
},
{
"name": "Shape_Area",
"type": "esriFieldTypeDouble",
"alias": "Shape_Area",
"domain": null
},
{
"name": "DateBegin",
"type": "esriFieldTypeDate",
"alias": "DateBegin",
"domain": null,
"length": 8
},
{
"name": "DateEnd",
"type": "esriFieldTypeDate",
"alias": "DateEnd",
"domain": null,
"length": 8
},
{
"name": "DateIntBegin",
"type": "esriFieldTypeSmallInteger",
"alias": "DateIntBegin",
"domain": null
},
{
"name": "DateIntEnd",
"type": "esriFieldTypeSmallInteger",
"alias": "DateIntEnd",
"domain": null
}
],
"capabilities": "Catalog,Download,Image,Metadata",
"defaultMosaicMethod": "Northwest",
"allowedMosaicMethods": "NorthWest,Center,ByAttribute,Nadir,Viewpoint,None",
"sortField": "",
"sortValue": null,
"sortAscending": true,
"mosaicOperator": "First",
"maxDownloadSizeLimit": 2048,
"defaultCompressionQuality": 87,
"defaultResamplingMethod": "Bilinear",
"maxImageHeight": 4100,
"maxImageWidth": 15000,
"maxRecordCount": 1000,
"maxDownloadImageCount": 20,
"maxMosaicImageCount": 20,
"allowRasterFunction": true,
"rasterFunctionInfos": [
{
"name": "None",
"description": "Make a Raster or Raster Dataset into a Function Raster Dataset.",
"help": ""
},
{
"name": "None",
"description": "Make a Raster or Raster Dataset into a Function Raster Dataset.",
"help": ""
}
],
"rasterTypeInfos": [
{
"name": "Raster Dataset",
"description": "Supports all ArcGIS Raster Datasets",
"help": ""
}
],
"mensurationCapabilities": "None",
"hasHistograms": true,
"hasColormap": false,
"hasRasterAttributeTable": false,
"minScale": 0,
"maxScale": 0,
"exportTilesAllowed": false,
"supportsStatistics": true,
"supportsAdvancedQueries": true,
"editFieldsInfo": null,
"ownershipBasedAccessControlForRasters": null,
"allowComputeTiePoints": false,
"useStandardizedQueries": true,
"advancedQueryCapabilities": {
"useStandardizedQueries": true,
"supportsStatistics": true,
"supportsOrderBy": true,
"supportsDistinct": true,
"supportsPagination": true
},
"spatialReference": {
"wkid": 26919,
"latestWkid": 26919
},
"resampling": false
}