<?xml version="1.0" encoding="UTF-8" standalone="no"?>
<metadata xml:lang="en">
<Esri>
<CreaDate>20181009</CreaDate>
<CreaTime>14534600</CreaTime>
<ArcGISFormat>1.0</ArcGISFormat>
<ArcGISstyle>FGDC CSDGM Metadata</ArcGISstyle>
<SyncOnce>FALSE</SyncOnce>
<DataProperties>
<lineage>
<Process Date="20181009" Name="" Time="145346" ToolSource="c:\program files (x86)\arcgis\desktop10.5\ArcToolbox\Toolboxes\Data Management Tools.tbx\CreateMosaicDataset" export="">CreateMosaicDataset \\stgisdataprd001.file.core.windows.net\gisprd1gisdata\svcFgdb\megis\orthoCoastal.gdb orthoCoastalPenobscotBay1982And1983 "PROJCS['NAD_1983_UTM_Zone_19N',GEOGCS['GCS_North_American_1983',DATUM['D_North_American_1983',SPHEROID['GRS_1980',6378137.0,298.257222101]],PRIMEM['Greenwich',0.0],UNIT['Degree',0.0174532925199433]],PROJECTION['Transverse_Mercator'],PARAMETER['False_Easting',500000.0],PARAMETER['False_Northing',0.0],PARAMETER['Central_Meridian',-69.0],PARAMETER['Scale_Factor',0.9996],PARAMETER['Latitude_Of_Origin',0.0],UNIT['Meter',1.0]];-5120900 -9998100 10000;-100000 10000;-100000 10000;0.001;0.001;0.001;IsHighPrecision" 1 8_BIT_UNSIGNED NONE #</Process>
</lineage>
<itemProps>
<itemName Sync="TRUE">orthoCoastalPenobscotBay1982And1983</itemName>
<itemLocation>
<linkage Sync="TRUE">file://\\stgisdataprd001.file.core.windows.net\gisprd1gisdata\svcFgdb\megis\orthoCoastal.gdb</linkage>
<protocol Sync="TRUE">Local Area Network</protocol>
</itemLocation>
<nativeExtBox>
<westBL Sync="TRUE">482357.200000</westBL>
<eastBL Sync="TRUE">535399.600000</eastBL>
<southBL Sync="TRUE">4861244.200000</southBL>
<northBL Sync="TRUE">4936115.800000</northBL>
<exTypeCode Sync="TRUE">1</exTypeCode>
</nativeExtBox>
</itemProps>
<coordRef>
<type Sync="TRUE">Projected</type>
<geogcsn Sync="TRUE">GCS_North_American_1983</geogcsn>
<csUnits Sync="TRUE">Linear Unit: Meter (1.000000)</csUnits>
<projcsn Sync="TRUE">NAD_1983_UTM_Zone_19N</projcsn>
<peXml Sync="TRUE">&lt;ProjectedCoordinateSystem xsi:type='typens:ProjectedCoordinateSystem' xmlns:xsi='http://www.w3.org/2001/XMLSchema-instance' xmlns:xs='http://www.w3.org/2001/XMLSchema' xmlns:typens='http://www.esri.com/schemas/ArcGIS/10.5'&gt;&lt;WKT&gt;PROJCS[&amp;quot;NAD_1983_UTM_Zone_19N&amp;quot;,GEOGCS[&amp;quot;GCS_North_American_1983&amp;quot;,DATUM[&amp;quot;D_North_American_1983&amp;quot;,SPHEROID[&amp;quot;GRS_1980&amp;quot;,6378137.0,298.257222101]],PRIMEM[&amp;quot;Greenwich&amp;quot;,0.0],UNIT[&amp;quot;Degree&amp;quot;,0.0174532925199433]],PROJECTION[&amp;quot;Transverse_Mercator&amp;quot;],PARAMETER[&amp;quot;False_Easting&amp;quot;,500000.0],PARAMETER[&amp;quot;False_Northing&amp;quot;,0.0],PARAMETER[&amp;quot;Central_Meridian&amp;quot;,-69.0],PARAMETER[&amp;quot;Scale_Factor&amp;quot;,0.9996],PARAMETER[&amp;quot;Latitude_Of_Origin&amp;quot;,0.0],UNIT[&amp;quot;Meter&amp;quot;,1.0],AUTHORITY[&amp;quot;EPSG&amp;quot;,26919]]&lt;/WKT&gt;&lt;XOrigin&gt;-5120900&lt;/XOrigin&gt;&lt;YOrigin&gt;-9998100&lt;/YOrigin&gt;&lt;XYScale&gt;450445547.3910538&lt;/XYScale&gt;&lt;ZOrigin&gt;-100000&lt;/ZOrigin&gt;&lt;ZScale&gt;10000&lt;/ZScale&gt;&lt;MOrigin&gt;-100000&lt;/MOrigin&gt;&lt;MScale&gt;10000&lt;/MScale&gt;&lt;XYTolerance&gt;0.001&lt;/XYTolerance&gt;&lt;ZTolerance&gt;0.001&lt;/ZTolerance&gt;&lt;MTolerance&gt;0.001&lt;/MTolerance&gt;&lt;HighPrecision&gt;true&lt;/HighPrecision&gt;&lt;WKID&gt;26919&lt;/WKID&gt;&lt;LatestWKID&gt;26919&lt;/LatestWKID&gt;&lt;/ProjectedCoordinateSystem&gt;</peXml>
</coordRef>
<RasterProperties>
<General>
<PixelDepth Sync="TRUE">8</PixelDepth>
<HasColormap Sync="TRUE">FALSE</HasColormap>
<CompressionType Sync="TRUE">None</CompressionType>
<NumBands Sync="TRUE">1</NumBands>
<Format Sync="TRUE">AMD</Format>
<HasPyramids Sync="TRUE">TRUE</HasPyramids>
<SourceType Sync="TRUE">continuous</SourceType>
<PixelType Sync="TRUE">unsigned integer</PixelType>
<NoDataValue Sync="TRUE"/>
</General>
<Properties>
<MaxImageHeight Sync="TRUE">4100</MaxImageHeight>
<MaxImageWidth Sync="TRUE">15000</MaxImageWidth>
<MaxRecordCount Sync="TRUE">1000</MaxRecordCount>
<MaxDownloadImageCount Sync="TRUE">20</MaxDownloadImageCount>
<MaxDownloadSizeLimit Sync="TRUE">2048</MaxDownloadSizeLimit>
<MaxMosaicImageCount Sync="TRUE">20</MaxMosaicImageCount>
<DefaultCompressionQuality Sync="TRUE">75</DefaultCompressionQuality>
<DefaultCompressionTolerance Sync="TRUE">0.01</DefaultCompressionTolerance>
<BlendWidth Sync="TRUE">10</BlendWidth>
<ViewpointSpacingX Sync="TRUE">600</ViewpointSpacingX>
<ViewpointSpacingY Sync="TRUE">300</ViewpointSpacingY>
<AllowedItemMetadata Sync="TRUE">Basic</AllowedItemMetadata>
<DefaultResamplingMethod Sync="TRUE">1</DefaultResamplingMethod>
<AllowedMosaicMethods Sync="TRUE">NorthWest,Center,LockRaster,ByAttribute,Nadir,Viewpoint,Seamline,None</AllowedMosaicMethods>
<AllowedCompressions Sync="TRUE">None,JPEG,LZ77,LERC</AllowedCompressions>
<AllowedMensurationCapabilities Sync="TRUE">Basic</AllowedMensurationCapabilities>
<AvailableMensurationCapabilities Sync="TRUE">None,Basic,Base-Top Height,Top-Top Shadow Height,Base-Top Shadow Height,3D</AvailableMensurationCapabilities>
<ClipToBoundary Sync="TRUE">-1</ClipToBoundary>
<FootprintMayContainNoData Sync="TRUE">-1</FootprintMayContainNoData>
<CellSizeTolerance Sync="TRUE">0.8</CellSizeTolerance>
<MinimumPixelContribution Sync="TRUE">1</MinimumPixelContribution>
<AvailableMosaicMethods Sync="TRUE">NorthWest,Center,LockRaster,ByAttribute,Nadir,Viewpoint,Seamline,None</AvailableMosaicMethods>
<AvailableCompressionMethods Sync="TRUE">None,JPEG,LZ77,LERC</AvailableCompressionMethods>
<AvailableItemMetadataLevels Sync="TRUE">None,Basic,Full</AvailableItemMetadataLevels>
<BandDefinitionKeyword Sync="TRUE">NONE</BandDefinitionKeyword>
<AllowedFields Sync="TRUE">Name,MinPS,MaxPS,LowPS,HighPS,Tag,GroupName,ProductName,CenterX,CenterY,ZOrder,Shape_Length,Shape_Area</AllowedFields>
<MaxCellSize Sync="TRUE">19440</MaxCellSize>
<LowCellSize Sync="TRUE">1.19999999999993</LowCellSize>
<HighCellSize Sync="TRUE">388.8</HighCellSize>
</Properties>
<Functions Sync="TRUE">
<Function Description="Performs on-the-fly mosaic on a raster catalog." Name="Mosaic Function"/>
</Functions>
</RasterProperties>
</DataProperties>
<SyncDate>20181009</SyncDate>
<SyncTime>15144500</SyncTime>
<ModDate>20181009</ModDate>
<ModTime>15144500</ModTime>
<scaleRange>
<minScale>150000000</minScale>
<maxScale>5000</maxScale>
</scaleRange>
<ArcGISProfile>FGDC</ArcGISProfile>
</Esri>
<mdChar>
<CharSetCd value="004"/>
</mdChar>
<mdHrLv>
<ScopeCd value="005"/>
</mdHrLv>
<mdContact>
<rpOrgName>NOAA National Geophysical Data Center</rpOrgName>
<rpPosName>John Dietz</rpPosName>
<rpCntInfo>
<cntAddress>
<delPoint>325 Broadway, E/GC-2</delPoint>
<city>Boulder</city>
<adminArea>Colorado</adminArea>
<postCode>80303</postCode>
<country>US</country>
</cntAddress>
<cntPhone>
<voiceNum>303-497-6468</voiceNum>
</cntPhone>
</rpCntInfo>
<displayName>NOAA National Geophysical Data Center</displayName>
</mdContact>
<dataIdInfo>
<idPurp>Maine Orthoimagery Coastal Penobscot Bay 1982, 1983</idPurp>
<idAbs>&lt;DIV STYLE="text-align:Left;"&gt;&lt;DIV&gt;&lt;DIV&gt;&lt;P&gt;&lt;SPAN&gt;Provide an interpreted low-tide level imagery from which the tide line was interpreted. These data can be used in conjunction with other data layers for improving the understanding of the physical characteristics of the Penobscot Bay study area. This is part of a project titled 'Applications of Remote Sensing and Geographic Information Systems for Marine Resource Management in Penobscot Bay, Maine’.Processing began at the National Geophysical Data Center, in Boulder, Colorado, an orthophoto mosaic was constructed using 76 aerial photographs obtained from NOAA's National Ocean Service, using Socet Set photogrammetric software. The photography was collected at low tide stage, on four dates in 1982 and 1983. After digital scanning the photography had a pixel resolution of 1.2 meters. After mosaicking, a vector layer of the interpreted low-tide line was delineated.&lt;/SPAN&gt;&lt;/P&gt;&lt;/DIV&gt;&lt;/DIV&gt;&lt;/DIV&gt;</idAbs>
<idCitation>
<resTitle Sync="TRUE">orthoCoastalPenobscotBay1982And1983</resTitle>
<citRespParty>
<rpOrgName>NOAA National Geophysical Data Center</rpOrgName>
<rpPosName>John Dietz</rpPosName>
<role>
<RoleCd value="006"/>
</role>
<rpCntInfo>
<cntAddress>
<delPoint>325 Broadway, E/GC-2</delPoint>
<city>Boulder</city>
<adminArea>Colorado</adminArea>
<postCode>80303</postCode>
<country>US</country>
</cntAddress>
<cntPhone>
<voiceNum>303-497-6468</voiceNum>
</cntPhone>
</rpCntInfo>
</citRespParty>
<date>
<pubDate>2000-11-30T00:00:00</pubDate>
</date>
<presForm>
<PresFormCd Sync="TRUE" value="005"/>
</presForm>
</idCitation>
<searchKeys>
<keyword>imageryBaseMapsEarthCover</keyword>
<keyword>ortho</keyword>
<keyword>orthoimagery</keyword>
<keyword>orthophotography</keyword>
<keyword>GeoLibrary</keyword>
<keyword>Maine</keyword>
<keyword>MaineGeoLibrary</keyword>
<keyword>MaineGIS</keyword>
<keyword>coastal</keyword>
<keyword>Penobscot Bay</keyword>
<keyword>1982</keyword>
<keyword>1983</keyword>
</searchKeys>
<dataChar>
<CharSetCd value="004"/>
</dataChar>
<dataLang>
<languageCode value="eng"/>
<countryCode Sync="TRUE" value="USA"/>
</dataLang>
<idStatus>
<ProgCd value="001"/>
</idStatus>
<dataExt>
<geoEle>
<GeoBndBox>
<exTypeCode>1</exTypeCode>
<westBL>-69.25</westBL>
<eastBL>-68.5833</eastBL>
<southBL>43.9375</southBL>
<northBL>44.625</northBL>
</GeoBndBox>
</geoEle>
</dataExt>
<dataExt>
<exDesc>1982 to 1983</exDesc>
</dataExt>
<idPoC>
<rpOrgName>NOAA National Geophysical Data Center</rpOrgName>
<rpPosName>John Dietz</rpPosName>
<rpCntInfo>
<cntAddress>
<delPoint>325 Broadway, E/GC-2</delPoint>
<city>Boulder</city>
<adminArea>Colorado</adminArea>
<postCode>80303</postCode>
<country>US</country>
</cntAddress>
<cntPhone>
<voiceNum>303-497-6468</voiceNum>
</cntPhone>
</rpCntInfo>
<displayName>NOAA National Geophysical Data Center</displayName>
</idPoC>
<resMaint>
<maintFreq>
<MaintFreqCd value="011"/>
</maintFreq>
</resMaint>
<envirDesc Sync="TRUE"> Version 6.2 (Build 9200) ; Esri ArcGIS 10.5.1.7333</envirDesc>
<spatRpType>
<SpatRepTypCd Sync="TRUE" value="002"/>
</spatRpType>
<dataExt>
<geoEle>
<GeoBndBox esriExtentType="search">
<exTypeCode Sync="TRUE">1</exTypeCode>
<westBL Sync="TRUE">-69.222225</westBL>
<eastBL Sync="TRUE">-68.554118</eastBL>
<northBL Sync="TRUE">44.578383</northBL>
<southBL Sync="TRUE">43.903454</southBL>
</GeoBndBox>
</geoEle>
</dataExt>
<idCredit>NGDC, Maine GeoLibrary</idCredit>
<resConst>
<Consts>
<useLimit>&lt;DIV STYLE="text-align:Left;"&gt;&lt;DIV&gt;&lt;DIV&gt;&lt;P&gt;&lt;SPAN&gt;Access: Public Use: User assumes risk.&lt;/SPAN&gt;&lt;/P&gt;&lt;/DIV&gt;&lt;/DIV&gt;&lt;/DIV&gt;</useLimit>
</Consts>
</resConst>
</dataIdInfo>
<dqInfo>
<dataLineage>
<prcStep>
<stepDesc>An orthophoto mosaic was created using Socet Set photogrammetric software</stepDesc>
<stepDateTm>1983-09-29T00:00:00</stepDateTm>
</prcStep>
</dataLineage>
<report dimension="horizontal" type="DQCompOm">
<measDesc>Georeferencing of the photos and tidal delineation based upon ground control points obtained from USGS 1:24,000 topographic quadrangles; accuracy limited to national map accuracy standards.</measDesc>
</report>
</dqInfo>
<eainfo>
<overview>
<eaover>Accuracy of vectors determined from visual verification of co-registration of vectors and aerial photographs.</eaover>
</overview>
</eainfo>
<mdLang>
<languageCode Sync="TRUE" value="eng"/>
<countryCode Sync="TRUE" value="USA"/>
</mdLang>
<refSysInfo>
<RefSystem>
<refSysID>
<identCode Sync="TRUE" code="26919"/>
<idCodeSpace Sync="TRUE">EPSG</idCodeSpace>
<idVersion Sync="TRUE">6.13(3.0.1)</idVersion>
</refSysID>
</RefSystem>
</refSysInfo>
<spatRepInfo>
<Georect>
<cellGeo>
<CellGeoCd Sync="TRUE" value="002"/>
</cellGeo>
<numDims Sync="TRUE">2</numDims>
<tranParaAv Sync="TRUE">1</tranParaAv>
<chkPtAv Sync="TRUE">0</chkPtAv>
<cornerPts>
<pos Sync="TRUE">482357.200000 4861244.200000</pos>
</cornerPts>
<cornerPts>
<pos Sync="TRUE">482357.200000 4936115.800000</pos>
</cornerPts>
<cornerPts>
<pos Sync="TRUE">535399.600000 4936115.800000</pos>
</cornerPts>
<cornerPts>
<pos Sync="TRUE">535399.600000 4861244.200000</pos>
</cornerPts>
<centerPt>
<pos Sync="TRUE">508878.400000 4898680.000000</pos>
</centerPt>
<axisDimension type="002">
<dimSize Sync="TRUE">44202</dimSize>
<dimResol>
<value Sync="TRUE" uom="m">1.200000</value>
</dimResol>
</axisDimension>
<axisDimension type="001">
<dimSize Sync="TRUE">62393</dimSize>
<dimResol>
<value Sync="TRUE" uom="m">1.200000</value>
</dimResol>
</axisDimension>
<ptInPixel>
<PixOrientCd Sync="TRUE" value="001"/>
</ptInPixel>
</Georect>
</spatRepInfo>
<contInfo>
<ImgDesc>
<contentTyp>
<ContentTypCd Sync="TRUE" value="001"/>
</contentTyp>
<covDim>
<Band>
<dimDescrp Sync="TRUE">Band_1</dimDescrp>
<bitsPerVal Sync="TRUE">8</bitsPerVal>
<valUnit>
<UOM type="length"/>
</valUnit>
<maxVal Sync="TRUE">255.000000</maxVal>
<minVal Sync="TRUE">0.000000</minVal>
</Band>
</covDim>
</ImgDesc>
</contInfo>
<mdDateSt Sync="TRUE">20181009</mdDateSt>
</metadata>
