View In:
ArcGIS JavaScript
ArcGIS Online Map Viewer
ArcGIS Earth
Service Description: MEDEM10s are digital terrain elevation models of Maine, in grid format, based on USGS 7.5 minute DEMs (10 by 10 m square grid or data spacing). Digital Elevation Model (DEM) is the terminology adopted by USGS to describe terrain elevation data sets in a digital raster form. The standard DEM consists of an array of elevations from ground positions at regularly spaced intervals, cast on a designated coordinate projection system, produced in 7.5 by 7.5 minute blocks from cartographic map contour overlays or scanned National Aerial Photography (NAPP) photographs. USGS DEM data are stored as profiles with a 10 or 30 meter square grid spacing in which the spacing of elevations along and between each profile is in regular whole number intervals. The normal orientation of data is by columns and rows. Each column contains a series of elevations ordered from south to north with the order of the columns from west to east. USGS has used four methods to collect DEM data. Of these, only one, interpolation from vectors or digital line graph (DLG) hypsographic and hydrographic data, is currently used for 7.5 minute DEMs and other series. MEDEM10s, produced using 1:24000 cartographic map contour overlays, represent the 10 meter profile of USGS 7.5 minute DEM series. Elevation values are in meters.
Name: DEM/Maine_Elevation_DEM_10_Meter
Description: MEDEM10s are digital terrain elevation models of Maine, in grid format, based on USGS 7.5 minute DEMs (10 by 10 m square grid or data spacing). Digital Elevation Model (DEM) is the terminology adopted by USGS to describe terrain elevation data sets in a digital raster form. The standard DEM consists of an array of elevations from ground positions at regularly spaced intervals, cast on a designated coordinate projection system, produced in 7.5 by 7.5 minute blocks from cartographic map contour overlays or scanned National Aerial Photography (NAPP) photographs. USGS DEM data are stored as profiles with a 10 or 30 meter square grid spacing in which the spacing of elevations along and between each profile is in regular whole number intervals. The normal orientation of data is by columns and rows. Each column contains a series of elevations ordered from south to north with the order of the columns from west to east. USGS has used four methods to collect DEM data. Of these, only one, interpolation from vectors or digital line graph (DLG) hypsographic and hydrographic data, is currently used for 7.5 minute DEMs and other series. MEDEM10s, produced using 1:24000 cartographic map contour overlays, represent the 10 meter profile of USGS 7.5 minute DEM series. Elevation values are in meters.
Single Fused Map Cache: false
Extent:
XMin: 251540.0
YMin: 4650860.0
XMax: 700440.0
YMax: 5317390.0
Spatial Reference: 26919
(26919)
LatestVCSWkid(0)
Initial Extent:
XMin: 251540.0
YMin: 4650860.0
XMax: 700440.0
YMax: 5317390.0
Spatial Reference: 26919
(26919)
LatestVCSWkid(0)
Full Extent:
XMin: 251540.0
YMin: 4650860.0
XMax: 700440.0
YMax: 5317390.0
Spatial Reference: 26919
(26919)
LatestVCSWkid(0)
Pixel Size X: 10.0
Pixel Size Y: 10.0
Band Count: 1
Pixel Type: F32
RasterFunction Infos: {"rasterFunctionInfos": [
{
"name": "None",
"description": "A No-Op Function.",
"help": ""
},
{
"name": "Aspect Function_20191114_174758_890",
"description": "A raster function template.",
"help": ""
},
{
"name": "Hillshade Function_20191114_174847_906",
"description": "A raster function template.",
"help": ""
},
{
"name": "Shaded Relief Function_20191114_175021_353",
"description": "A raster function template.",
"help": ""
},
{
"name": "Slope Function_20191114_174919_794",
"description": "A raster function template.",
"help": ""
}
]}
Mensuration Capabilities: None
Inspection Capabilities:
Has Histograms: true
Has Colormap: false
Has Multi Dimensions : false
Rendering Rule:
Min Scale: 0
Max Scale: 0
Resampling: false
Copyright Text: Maine GeoLibrary, Maine Office of Information Technology GIS
Service Data Type: esriImageServiceDataTypeElevation
Min Values: -24.53284454345703
Max Values: 1916.1077880859375
Mean Values: 211.6902996773828
Standard Deviation Values: 189.59583372406624
Object ID Field: OBJECTID
Fields:
-
OBJECTID
(
type: esriFieldTypeOID, alias: OBJECTID
)
-
Shape
(
type: esriFieldTypeGeometry, alias: Shape
)
-
Name
(
type: esriFieldTypeString, alias: Name, length: 200
)
-
MinPS
(
type: esriFieldTypeDouble, alias: MinPS
)
-
MaxPS
(
type: esriFieldTypeDouble, alias: MaxPS
)
-
LowPS
(
type: esriFieldTypeDouble, alias: LowPS
)
-
HighPS
(
type: esriFieldTypeDouble, alias: HighPS
)
-
Category
(
type: esriFieldTypeInteger, alias: Category
, Coded Values:
[0: Unknown]
, [1: Primary]
, [2: Overview]
, ...6 more...
)
-
Tag
(
type: esriFieldTypeString, alias: Tag, length: 100
)
-
GroupName
(
type: esriFieldTypeString, alias: GroupName, length: 100
)
-
ProductName
(
type: esriFieldTypeString, alias: ProductName, length: 100
)
-
CenterX
(
type: esriFieldTypeDouble, alias: CenterX
)
-
CenterY
(
type: esriFieldTypeDouble, alias: CenterY
)
-
ZOrder
(
type: esriFieldTypeInteger, alias: ZOrder
)
-
Shape_Length
(
type: esriFieldTypeDouble, alias: Shape_Length
)
-
Shape_Area
(
type: esriFieldTypeDouble, alias: Shape_Area
)
Default Mosaic Method: Northwest
Allowed Mosaic Methods: NorthWest,Center,ByAttribute,Nadir,Viewpoint,None
SortField:
SortValue: null
Mosaic Operator: First
Default Compression Quality: 87
Default Resampling Method: Nearest
Max Record Count: 1000
Max Image Height: 4100
Max Image Width: 15000
Max Download Image Count: 0
Max Mosaic Image Count: 20
Allow Raster Function: true
Allow Copy: true
Allow Analysis: true
Allow Compute TiePoints: false
Supports Statistics: true
Supports Advanced Queries: true
Use StandardizedQueries: true
Raster Type Infos:
Name: Raster Dataset
Description: Supports all ArcGIS Raster Datasets
Help:
Has Raster Attribute Table: false
Edit Fields Info: null
Ownership Based AccessControl For Rasters: null
Child Resources:
Info
Histograms
Statistics
Key Properties
Legend
Raster Function Infos
Supported Operations:
Export Image
Query
Identify
Download Rasters
Get Image Url
Compute Histograms
Compute Statistics Histograms
Get Samples
Compute Class Statistics
Query GPS Info
Find Images
Image to Map
Map to Image
Measure from Image
Image to Map Multiray
Query Boundary
Compute Pixel Location
Compute Angles
Validate
Project
Calculate Volume