MEDEM10s are digital terrain elevation models of Maine, in grid format, based on USGS 7.5 minute DEMs (10 by 10 m square grid or data spacing). Digital Elevation Model (DEM) is the terminology adopted by USGS to describe terrain elevation data sets in a digital raster form. The standard DEM consists of an array of elevations from ground positions at regularly spaced intervals, cast on a designated coordinate projection system, produced in 7.5 by 7.5 minute blocks from cartographic map contour overlays or scanned National Aerial Photography (NAPP) photographs. USGS DEM data are stored as profiles with a 10 or 30 meter square grid spacing in which the spacing of elevations along and between each profile is in regular whole number intervals. The normal orientation of data is by columns and rows. Each column contains a series of elevations ordered from south to north with the order of the columns from west to east. USGS has used four methods to collect DEM data. Of these, only one, interpolation from vectors or digital line graph (DLG) hypsographic and hydrographic data, is currently used for 7.5 minute DEMs and other series. MEDEM10s, produced using 1:24000 cartographic map contour overlays, represent the 10 meter profile of USGS 7.5 minute DEM series. Elevation values are in meters.<\/span><\/p><\/div><\/div><\/div>",
"serviceItemId": "a16e0499c2c3465ba6b7a5ab2186a6b2",
"name": "DEM/Maine_Elevation_DEM_10_Meter",
"description": "MEDEM10s are digital terrain elevation models of Maine, in grid format, based on USGS 7.5 minute DEMs (10 by 10 m square grid or data spacing). Digital Elevation Model (DEM) is the terminology adopted by USGS to describe terrain elevation data sets in a digital raster form. The standard DEM consists of an array of elevations from ground positions at regularly spaced intervals, cast on a designated coordinate projection system, produced in 7.5 by 7.5 minute blocks from cartographic map contour overlays or scanned National Aerial Photography (NAPP) photographs. USGS DEM data are stored as profiles with a 10 or 30 meter square grid spacing in which the spacing of elevations along and between each profile is in regular whole number intervals. The normal orientation of data is by columns and rows. Each column contains a series of elevations ordered from south to north with the order of the columns from west to east. USGS has used four methods to collect DEM data. Of these, only one, interpolation from vectors or digital line graph (DLG) hypsographic and hydrographic data, is currently used for 7.5 minute DEMs and other series. MEDEM10s, produced using 1:24000 cartographic map contour overlays, represent the 10 meter profile of USGS 7.5 minute DEM series. Elevation values are in meters.<\/span><\/p><\/div><\/div><\/div>",
"extent": {
"xmin": 251540,
"ymin": 4650860,
"xmax": 700440,
"ymax": 5317390,
"spatialReference": {
"wkid": 26919,
"latestWkid": 26919
}
},
"initialExtent": {
"xmin": 251540,
"ymin": 4650860,
"xmax": 700440,
"ymax": 5317390,
"spatialReference": {
"wkid": 26919,
"latestWkid": 26919
}
},
"fullExtent": {
"xmin": 251540,
"ymin": 4650860,
"xmax": 700440,
"ymax": 5317390,
"spatialReference": {
"wkid": 26919,
"latestWkid": 26919
}
},
"sortableFields": "MinPS,MaxPS,LowPS,HighPS,CenterX,CenterY,ZOrder,Shape_Length,Shape_Area",
"bandCount": 1,
"pixelType": "F32",
"minValues": [
-24.53284454345703
],
"maxValues": [
1916.1077880859375
],
"meanValues": [
211.6902996773828
],
"stdvValues": [
189.59583372406624
],
"serviceProperties": "NorthWest<\/MosaicMethod>First<\/MosaicOperator>true<\/SortAscending><\/LockImageID>MinPS<\/TileOrderField>0<\/TileOrderBase>600.000000<\/AvgImageSpacingX>300.000000<\/AvgImageSpacingY>0.0<\/ViewPointX>0.0<\/ViewPointY>0.0<\/ViewPointDefShiftX>0.0<\/ViewPointDefShiftY>LZ77<\/CompressionMethod>87<\/CompressionQuality>0.010000<\/CompressionTolerance>Nearest<\/SamplingMethod><\/ImageServiceProperties><\/ImageServer>",
"allowedFields": "Name,MinPS,MaxPS,LowPS,HighPS,Tag,GroupName,ProductName,CenterX,CenterY,ZOrder,Shape_Length,Shape_Area",
"hasMultidimensions": false,
"pixelSizeX": 10,
"pixelSizeY": 10,
"meanPixelSize": 10,
"datasetFormat": "AMD",
"uncompressedSize": 11968212680,
"blockWidth": 2048,
"blockHeight": 256,
"compressionType": "None",
"bandNames": [
"Band_1"
],
"allowCopy": true,
"allowAnalysis": true,
"itemAccess": false,
"inspectionCapabilities": "",
"minPixelSize": 0,
"maxPixelSize": 0,
"copyrightText": "Maine GeoLibrary, Maine Office of Information Technology GIS",
"serviceDataType": "esriImageServiceDataTypeElevation",
"serviceSourceType": "esriImageServiceSourceTypeMosaicDataset",
"objectIdField": "OBJECTID",
"fields": [
{
"name": "OBJECTID",
"type": "esriFieldTypeOID",
"alias": "OBJECTID",
"domain": null
},
{
"name": "Shape",
"type": "esriFieldTypeGeometry",
"alias": "Shape",
"domain": null
},
{
"name": "Name",
"type": "esriFieldTypeString",
"alias": "Name",
"domain": null,
"length": 200
},
{
"name": "MinPS",
"type": "esriFieldTypeDouble",
"alias": "MinPS",
"domain": null
},
{
"name": "MaxPS",
"type": "esriFieldTypeDouble",
"alias": "MaxPS",
"domain": null
},
{
"name": "LowPS",
"type": "esriFieldTypeDouble",
"alias": "LowPS",
"domain": null
},
{
"name": "HighPS",
"type": "esriFieldTypeDouble",
"alias": "HighPS",
"domain": null
},
{
"name": "Category",
"type": "esriFieldTypeInteger",
"alias": "Category",
"domain": {
"type": "codedValue",
"name": "MosaicCatalogItemCategoryDomain",
"description": "Catalog item categories.",
"codedValues": [
{
"name": "Unknown",
"code": 0
},
{
"name": "Primary",
"code": 1
},
{
"name": "Overview",
"code": 2
},
{
"name": "Unprocessed Overview",
"code": 3
},
{
"name": "Partial Overview",
"code": 4
},
{
"name": "Inactive",
"code": 5
},
{
"name": "Uploaded",
"code": 253
},
{
"name": "Incomplete",
"code": 254
},
{
"name": "Custom",
"code": 255
}
],
"mergePolicy": "esriMPTDefaultValue",
"splitPolicy": "esriSPTDefaultValue"
}
},
{
"name": "Tag",
"type": "esriFieldTypeString",
"alias": "Tag",
"domain": null,
"length": 100
},
{
"name": "GroupName",
"type": "esriFieldTypeString",
"alias": "GroupName",
"domain": null,
"length": 100
},
{
"name": "ProductName",
"type": "esriFieldTypeString",
"alias": "ProductName",
"domain": null,
"length": 100
},
{
"name": "CenterX",
"type": "esriFieldTypeDouble",
"alias": "CenterX",
"domain": null
},
{
"name": "CenterY",
"type": "esriFieldTypeDouble",
"alias": "CenterY",
"domain": null
},
{
"name": "ZOrder",
"type": "esriFieldTypeInteger",
"alias": "ZOrder",
"domain": null
},
{
"name": "Shape_Length",
"type": "esriFieldTypeDouble",
"alias": "Shape_Length",
"domain": null
},
{
"name": "Shape_Area",
"type": "esriFieldTypeDouble",
"alias": "Shape_Area",
"domain": null
}
],
"capabilities": "Catalog,Download,Image,Metadata",
"defaultMosaicMethod": "Northwest",
"allowedMosaicMethods": "NorthWest,Center,ByAttribute,Nadir,Viewpoint,None",
"sortField": "",
"sortValue": null,
"sortAscending": true,
"mosaicOperator": "First",
"maxDownloadSizeLimit": 0,
"defaultCompressionQuality": 87,
"defaultResamplingMethod": "Nearest",
"maxImageHeight": 4100,
"maxImageWidth": 15000,
"maxRecordCount": 1000,
"maxDownloadImageCount": 0,
"maxMosaicImageCount": 20,
"allowRasterFunction": true,
"rasterFunctionInfos": [
{
"name": "None",
"description": "A No-Op Function.",
"help": ""
},
{
"name": "Aspect Function_20191114_174758_890",
"description": "A raster function template.",
"help": ""
},
{
"name": "Hillshade Function_20191114_174847_906",
"description": "A raster function template.",
"help": ""
},
{
"name": "Shaded Relief Function_20191114_175021_353",
"description": "A raster function template.",
"help": ""
},
{
"name": "Slope Function_20191114_174919_794",
"description": "A raster function template.",
"help": ""
}
],
"rasterTypeInfos": [
{
"name": "Raster Dataset",
"description": "Supports all ArcGIS Raster Datasets",
"help": ""
}
],
"mensurationCapabilities": "None",
"hasHistograms": true,
"hasColormap": false,
"hasRasterAttributeTable": false,
"minScale": 0,
"maxScale": 0,
"exportTilesAllowed": false,
"supportsStatistics": true,
"supportsAdvancedQueries": true,
"editFieldsInfo": null,
"ownershipBasedAccessControlForRasters": null,
"allowComputeTiePoints": false,
"useStandardizedQueries": true,
"advancedQueryCapabilities": {
"useStandardizedQueries": true,
"supportsStatistics": true,
"supportsOrderBy": true,
"supportsDistinct": true,
"supportsPagination": true
},
"spatialReference": {
"wkid": 26919,
"latestWkid": 26919
},
"resampling": false
}