View In:
ArcGIS JavaScript
ArcGIS Online Map Viewer
ArcGIS Earth
Service Description: Product: Product: These are Digital Elevation Model (DEM) data for Franklin, Oxford, Piscataquis, and Somerset Counties, Maine as part of the required deliverables for the 2016 Maine Lidar project. Class 2 (ground) lidar points in conjunction with the hydro breaklines were used to create a 1 meter hydro-flattened raster DEM. Geographic Extent: Four partial counties in western Maine, covering approximately 5,034 total square miles Dataset Description: Maine 2016 QL2 Lidar project called for the planning, acquisition, processing, and derivative products of lidar data to be collected at a nominal pulse spacing (NPS) of 0.7 meters. Project specifications are based on the U.S. Geological Survey National Geospatial Program Base Lidar Specification, Version 1.2. The data was developed based on a horizontal projection/datum of NAD83 (2011) UTM Zone 19, meters and vertical datum of NAVD1988 (Geoid 12B), meters. Lidar data was delivered as flightline-extent unclassified LAS swaths, as processed Classified LAS 1.4 files formatted to 6,115 individual 1,500 meter x 1,500 meter tiles, as tiled intensity imagery, and as tiled bare earth DEMs; all tiled to the same 1,500 meter x 1,500 schema. Continuous breaklines were produced in Esri file geodatabase format. Continuous contours with an interval of 1 foot were created in Esri file geodatabase format. Ground Conditions: Lidar was collected in spring of 2016, while no snow was on the ground and rivers were at or below normal levels. In order to post process the lidar data to meet task order specifications and meet ASPRS vertical accuracy guidelines, Quantum Spatial, Inc. utilized a total of 101 ground control points that were used to calibrate the lidar to known ground locations established throughout the Maine project area. An additional 205 independent accuracy checkpoints, 118 in Bare Earth and Urban landcovers (118 NVA points), 87 in Forested, Brushland/Trees, and Tall Weeds/Crops categories (87 VVA points), were used to assess the vertical accuracy of the data. These checkpoints were not used to calibrate or post process the data.
Name: DEM/Maine_Elevation_DEM_2016
Description: Product: Product: These are Digital Elevation Model (DEM) data for Franklin, Oxford, Piscataquis, and Somerset Counties, Maine as part of the required deliverables for the 2016 Maine Lidar project. Class 2 (ground) lidar points in conjunction with the hydro breaklines were used to create a 1 meter hydro-flattened raster DEM. Geographic Extent: Four partial counties in western Maine, covering approximately 5,034 total square miles Dataset Description: Maine 2016 QL2 Lidar project called for the planning, acquisition, processing, and derivative products of lidar data to be collected at a nominal pulse spacing (NPS) of 0.7 meters. Project specifications are based on the U.S. Geological Survey National Geospatial Program Base Lidar Specification, Version 1.2. The data was developed based on a horizontal projection/datum of NAD83 (2011) UTM Zone 19, meters and vertical datum of NAVD1988 (Geoid 12B), meters. Lidar data was delivered as flightline-extent unclassified LAS swaths, as processed Classified LAS 1.4 files formatted to 6,115 individual 1,500 meter x 1,500 meter tiles, as tiled intensity imagery, and as tiled bare earth DEMs; all tiled to the same 1,500 meter x 1,500 schema. Continuous breaklines were produced in Esri file geodatabase format. Continuous contours with an interval of 1 foot were created in Esri file geodatabase format. Ground Conditions: Lidar was collected in spring of 2016, while no snow was on the ground and rivers were at or below normal levels. In order to post process the lidar data to meet task order specifications and meet ASPRS vertical accuracy guidelines, Quantum Spatial, Inc. utilized a total of 101 ground control points that were used to calibrate the lidar to known ground locations established throughout the Maine project area. An additional 205 independent accuracy checkpoints, 118 in Bare Earth and Urban landcovers (118 NVA points), 87 in Forested, Brushland/Trees, and Tall Weeds/Crops categories (87 VVA points), were used to assess the vertical accuracy of the data. These checkpoints were not used to calibrate or post process the data.
Single Fused Map Cache: false
Extent:
XMin: 336000.0
YMin: 4852500.0
XMax: 487500.0
YMax: 5089500.0
Spatial Reference: 102388
(6348)
LatestVCSWkid(0)
Initial Extent:
XMin: 336000.0
YMin: 4852500.0
XMax: 487500.0
YMax: 5089500.0
Spatial Reference: 102388
(6348)
LatestVCSWkid(0)
Full Extent:
XMin: 336000.0
YMin: 4852500.0
XMax: 487500.0
YMax: 5089500.0
Spatial Reference: 102388
(6348)
LatestVCSWkid(0)
Pixel Size X: 1.0
Pixel Size Y: 1.0
Band Count: 1
Pixel Type: F32
RasterFunction Infos: {"rasterFunctionInfos": [{
"name": "None",
"description": "",
"help": ""
}]}
Mensuration Capabilities:
Inspection Capabilities:
Has Histograms: false
Has Colormap: false
Has Multi Dimensions : false
Rendering Rule:
Min Scale: 0
Max Scale: 0
Copyright Text: State of Maine, Maine GeoLibrary, MaineIT GIS, MEGIS
Service Data Type: esriImageServiceDataTypeElevation
Min Values: 73.23564147949219
Max Values: 1291.8905029296875
Mean Values: 413.5408221346578
Standard Deviation Values: 179.47273437267756
Object ID Field: OBJECTID
Fields:
-
OBJECTID
(
type: esriFieldTypeOID, alias: OBJECTID
)
-
Shape
(
type: esriFieldTypeGeometry, alias: Shape
)
-
Name
(
type: esriFieldTypeString, alias: Name, length: 200
)
-
MinPS
(
type: esriFieldTypeDouble, alias: MinPS
)
-
MaxPS
(
type: esriFieldTypeDouble, alias: MaxPS
)
-
LowPS
(
type: esriFieldTypeDouble, alias: LowPS
)
-
HighPS
(
type: esriFieldTypeDouble, alias: HighPS
)
-
Category
(
type: esriFieldTypeInteger, alias: Category
, Coded Values:
[0: Unknown]
, [1: Primary]
, [2: Overview]
, ...6 more...
)
-
Tag
(
type: esriFieldTypeString, alias: Tag, length: 100
)
-
GroupName
(
type: esriFieldTypeString, alias: GroupName, length: 100
)
-
ProductName
(
type: esriFieldTypeString, alias: ProductName, length: 100
)
-
CenterX
(
type: esriFieldTypeDouble, alias: CenterX
)
-
CenterY
(
type: esriFieldTypeDouble, alias: CenterY
)
-
ZOrder
(
type: esriFieldTypeInteger, alias: ZOrder
)
-
Shape_Length
(
type: esriFieldTypeDouble, alias: Shape_Length
)
-
Shape_Area
(
type: esriFieldTypeDouble, alias: Shape_Area
)
-
DateBegin
(
type: esriFieldTypeDate, alias: DateBegin, length: 8
)
-
DateEnd
(
type: esriFieldTypeDate, alias: DateEnd, length: 8
)
-
DateIntBegin
(
type: esriFieldTypeSmallInteger, alias: DateIntBegin
)
-
DateIntEnd
(
type: esriFieldTypeSmallInteger, alias: DateIntEnd
)
Default Mosaic Method: Northwest
Allowed Mosaic Methods: NorthWest,Center,ByAttribute,Nadir,Viewpoint,Seamline,None
SortField:
SortValue: null
Mosaic Operator: First
Default Compression Quality: 87
Default Resampling Method: Bilinear
Max Record Count: 1000
Max Image Height: 4100
Max Image Width: 15000
Max Download Image Count: 96
Max Mosaic Image Count: 24
Allow Raster Function: true
Allow Copy: true
Allow Analysis: true
Allow Compute TiePoints: false
Supports Statistics: true
Supports Advanced Queries: true
Use StandardizedQueries: true
Raster Type Infos:
Name: Raster Dataset
Description: Supports all ArcGIS Raster Datasets
Help:
Has Raster Attribute Table: false
Edit Fields Info: null
Ownership Based AccessControl For Rasters: null
Child Resources:
Info
Statistics
Key Properties
Legend
Raster Function Infos
Supported Operations:
Export Image
Query
Identify
Download Rasters
Get Image Url
Compute Histograms
Compute Statistics Histograms
Get Samples
Compute Class Statistics
Query GPS Info
Find Images
Image to Map
Map to Image
Measure from Image
Image to Map Multiray
Query Boundary
Compute Pixel Location
Compute Angles
Validate
Project
Calculate Volume