{ "currentVersion": 11.5, "serviceDescription": "

Product: Product: These are Digital Elevation Model (DEM) data for Franklin, Oxford, Piscataquis, and Somerset Counties, Maine as part of the required deliverables for the 2016 Maine Lidar project. Class 2 (ground) lidar points in conjunction with the hydro breaklines were used to create a 1 meter hydro-flattened raster DEM. Geographic Extent: Four partial counties in western Maine, covering approximately 5,034 total square miles Dataset Description: Maine 2016 QL2 Lidar project called for the planning, acquisition, processing, and derivative products of lidar data to be collected at a nominal pulse spacing (NPS) of 0.7 meters. Project specifications are based on the U.S. Geological Survey National Geospatial Program Base Lidar Specification, Version 1.2. The data was developed based on a horizontal projection/datum of NAD83 (2011) UTM Zone 19, meters and vertical datum of NAVD1988 (Geoid 12B), meters. Lidar data was delivered as flightline-extent unclassified LAS swaths, as processed Classified LAS 1.4 files formatted to 6,115 individual 1,500 meter x 1,500 meter tiles, as tiled intensity imagery, and as tiled bare earth DEMs; all tiled to the same 1,500 meter x 1,500 schema. Continuous breaklines were produced in Esri file geodatabase format. Continuous contours with an interval of 1 foot were created in Esri file geodatabase format. Ground Conditions: Lidar was collected in spring of 2016, while no snow was on the ground and rivers were at or below normal levels. In order to post process the lidar data to meet task order specifications and meet ASPRS vertical accuracy guidelines, Quantum Spatial, Inc. utilized a total of 101 ground control points that were used to calibrate the lidar to known ground locations established throughout the Maine project area. An additional 205 independent accuracy checkpoints, 118 in Bare Earth and Urban landcovers (118 NVA points), 87 in Forested, Brushland/Trees, and Tall Weeds/Crops categories (87 VVA points), were used to assess the vertical accuracy of the data. These checkpoints were not used to calibrate or post process the data.<\/SPAN><\/P><\/DIV><\/DIV><\/DIV>", "serviceItemId": "86964cd6a5e942ad8d6c8cf8455fbabb", "name": "DEM/Maine_Elevation_DEM_2016", "description": "

Product: Product: These are Digital Elevation Model (DEM) data for Franklin, Oxford, Piscataquis, and Somerset Counties, Maine as part of the required deliverables for the 2016 Maine Lidar project. Class 2 (ground) lidar points in conjunction with the hydro breaklines were used to create a 1 meter hydro-flattened raster DEM. Geographic Extent: Four partial counties in western Maine, covering approximately 5,034 total square miles Dataset Description: Maine 2016 QL2 Lidar project called for the planning, acquisition, processing, and derivative products of lidar data to be collected at a nominal pulse spacing (NPS) of 0.7 meters. Project specifications are based on the U.S. Geological Survey National Geospatial Program Base Lidar Specification, Version 1.2. The data was developed based on a horizontal projection/datum of NAD83 (2011) UTM Zone 19, meters and vertical datum of NAVD1988 (Geoid 12B), meters. Lidar data was delivered as flightline-extent unclassified LAS swaths, as processed Classified LAS 1.4 files formatted to 6,115 individual 1,500 meter x 1,500 meter tiles, as tiled intensity imagery, and as tiled bare earth DEMs; all tiled to the same 1,500 meter x 1,500 schema. Continuous breaklines were produced in Esri file geodatabase format. Continuous contours with an interval of 1 foot were created in Esri file geodatabase format. Ground Conditions: Lidar was collected in spring of 2016, while no snow was on the ground and rivers were at or below normal levels. In order to post process the lidar data to meet task order specifications and meet ASPRS vertical accuracy guidelines, Quantum Spatial, Inc. utilized a total of 101 ground control points that were used to calibrate the lidar to known ground locations established throughout the Maine project area. An additional 205 independent accuracy checkpoints, 118 in Bare Earth and Urban landcovers (118 NVA points), 87 in Forested, Brushland/Trees, and Tall Weeds/Crops categories (87 VVA points), were used to assess the vertical accuracy of the data. These checkpoints were not used to calibrate or post process the data.<\/SPAN><\/P><\/DIV><\/DIV><\/DIV>", "extent": { "xmin": 336000, "ymin": 4852500, "xmax": 487500, "ymax": 5089500, "spatialReference": { "wkid": 102388, "latestWkid": 6348 } }, "initialExtent": { "xmin": 336000, "ymin": 4852500, "xmax": 487500, "ymax": 5089500, "spatialReference": { "wkid": 102388, "latestWkid": 6348 } }, "fullExtent": { "xmin": 336000, "ymin": 4852500, "xmax": 487500, "ymax": 5089500, "spatialReference": { "wkid": 102388, "latestWkid": 6348 } }, "sortableFields": "MinPS,MaxPS,LowPS,HighPS,CenterX,CenterY,ZOrder,Shape_Length,Shape_Area,DateBegin,DateEnd,DateIntBegin,DateIntEnd", "bandCount": 1, "pixelType": "F32", "minValues": [ 73.23564147949219 ], "maxValues": [ 1291.8905029296875 ], "meanValues": [ 413.5408221346578 ], "stdvValues": [ 179.47273437267756 ], "serviceProperties": "NorthWest<\/MosaicMethod>First<\/MosaicOperator>true<\/SortAscending><\/LockImageID>Name<\/TileOrderField>0<\/TileOrderBase>600.000000<\/AvgImageSpacingX>300.000000<\/AvgImageSpacingY>0.0<\/ViewPointX>0.0<\/ViewPointY>0.0<\/ViewPointDefShiftX>0.0<\/ViewPointDefShiftY>None<\/CompressionMethod>87<\/CompressionQuality>0.010000<\/CompressionTolerance>Bilinear<\/SamplingMethod><\/ImageServiceProperties><\/ImageServer>", "allowedFields": "Name,MinPS,MaxPS,LowPS,HighPS,Tag,GroupName,ProductName,CenterX,CenterY,ZOrder,Shape_Length,Shape_Area,DateBegin,DateEnd,DateIntBegin,DateIntEnd", "hasMultidimensions": false, "pixelSizeX": 1, "pixelSizeY": 1, "meanPixelSize": 1, "datasetFormat": "AMD", "uncompressedSize": 143622000000, "blockWidth": 2048, "blockHeight": 256, "compressionType": "None", "bandNames": [ "Band_1" ], "allowCopy": true, "allowAnalysis": true, "itemAccess": false, "inspectionCapabilities": "", "minPixelSize": 0, "maxPixelSize": 0, "copyrightText": "State of Maine, Maine GeoLibrary, MaineIT GIS, MEGIS", "serviceDataType": "esriImageServiceDataTypeElevation", "serviceSourceType": "esriImageServiceSourceTypeMosaicDataset", "objectIdField": "OBJECTID", "fields": [ { "name": "OBJECTID", "type": "esriFieldTypeOID", "alias": "OBJECTID", "domain": null }, { "name": "Shape", "type": "esriFieldTypeGeometry", "alias": "Shape", "domain": null }, { "name": "Name", "type": "esriFieldTypeString", "alias": "Name", "domain": null, "length": 200 }, { "name": "MinPS", "type": "esriFieldTypeDouble", "alias": "MinPS", "domain": null }, { "name": "MaxPS", "type": "esriFieldTypeDouble", "alias": "MaxPS", "domain": null }, { "name": "LowPS", "type": "esriFieldTypeDouble", "alias": "LowPS", "domain": null }, { "name": "HighPS", "type": "esriFieldTypeDouble", "alias": "HighPS", "domain": null }, { "name": "Category", "type": "esriFieldTypeInteger", "alias": "Category", "domain": { "type": "codedValue", "name": "MosaicCatalogItemCategoryDomain", "description": "Catalog item categories.", "codedValues": [ { "name": "Unknown", "code": 0 }, { "name": "Primary", "code": 1 }, { "name": "Overview", "code": 2 }, { "name": "Unprocessed Overview", "code": 3 }, { "name": "Partial Overview", "code": 4 }, { "name": "Inactive", "code": 5 }, { "name": "Uploaded", "code": 253 }, { "name": "Incomplete", "code": 254 }, { "name": "Custom", "code": 255 } ], "mergePolicy": "esriMPTDefaultValue", "splitPolicy": "esriSPTDefaultValue" } }, { "name": "Tag", "type": "esriFieldTypeString", "alias": "Tag", "domain": null, "length": 100 }, { "name": "GroupName", "type": "esriFieldTypeString", "alias": "GroupName", "domain": null, "length": 100 }, { "name": "ProductName", "type": "esriFieldTypeString", "alias": "ProductName", "domain": null, "length": 100 }, { "name": "CenterX", "type": "esriFieldTypeDouble", "alias": "CenterX", "domain": null }, { "name": "CenterY", "type": "esriFieldTypeDouble", "alias": "CenterY", "domain": null }, { "name": "ZOrder", "type": "esriFieldTypeInteger", "alias": "ZOrder", "domain": null }, { "name": "Shape_Length", "type": "esriFieldTypeDouble", "alias": "Shape_Length", "domain": null }, { "name": "Shape_Area", "type": "esriFieldTypeDouble", "alias": "Shape_Area", "domain": null }, { "name": "DateBegin", "type": "esriFieldTypeDate", "alias": "DateBegin", "domain": null, "length": 8 }, { "name": "DateEnd", "type": "esriFieldTypeDate", "alias": "DateEnd", "domain": null, "length": 8 }, { "name": "DateIntBegin", "type": "esriFieldTypeSmallInteger", "alias": "DateIntBegin", "domain": null }, { "name": "DateIntEnd", "type": "esriFieldTypeSmallInteger", "alias": "DateIntEnd", "domain": null } ], "capabilities": "Image,Metadata,Pixels,Catalog,Download", "defaultMosaicMethod": "Northwest", "allowedMosaicMethods": "NorthWest,Center,ByAttribute,Nadir,Viewpoint,Seamline,None", "sortField": "", "sortValue": null, "sortAscending": true, "mosaicOperator": "First", "maxDownloadSizeLimit": 2048, "defaultCompressionQuality": 87, "defaultResamplingMethod": "Bilinear", "maxImageHeight": 4100, "maxImageWidth": 15000, "maxRecordCount": 1000, "maxDownloadImageCount": 96, "maxMosaicImageCount": 24, "allowRasterFunction": true, "rasterFunctionInfos": [ { "name": "None", "description": "", "help": "" } ], "rasterTypeInfos": [ { "name": "Raster Dataset", "description": "Supports all ArcGIS Raster Datasets", "help": "" } ], "mensurationCapabilities": "", "hasHistograms": false, "hasColormap": false, "hasRasterAttributeTable": false, "minScale": 0, "maxScale": 0, "exportTilesAllowed": false, "supportsStatistics": true, "supportsAdvancedQueries": true, "editFieldsInfo": null, "ownershipBasedAccessControlForRasters": null, "allowComputeTiePoints": false, "useStandardizedQueries": true, "advancedQueryCapabilities": { "useStandardizedQueries": true, "supportsStatistics": true, "supportsOrderBy": true, "supportsDistinct": true, "supportsPagination": true }, "spatialReference": { "wkid": 102388, "latestWkid": 6348 } }