Product: These are Digital Elevation Model (DEM) data for Maine as part of the required deliverables for the ME_WesternMtns_B24_WU301127 project. Class 2 (ground) LiDAR points in conjunction with the hydro breaklines were used to create a 1 meter hydro-flattened Raster DEM. Geographic Extent: 8 counties in Maine, covering approximately 5066 total square miles. Dataset Description: The ME_WesternMtns_B24_WU301127 project called for the planning, acquisition, processing, and derivative products of lidar data to be collected at a nominal pulse spacing (NPS) of 0.71 meters. Project specifications are based on the U.S. Geological Survey National Geospatial Program Base LiDAR Specification, 2024 Rev. A. The data were developed based on a horizontal projection/datum of NAD 1983 2011 UTM Zone 19N, Meter and vertical datum of NAVD88 Geoid 18, Meter. LiDAR data were delivered as processed Classified LAS 1.4 files formatted to 6115 individual 1500 m x 1500 m tiles, as tiled intensity imagery, and as tiled bare earth DEMs; all tiled to the same 1500 m x 1500 m schema. Continuous breaklines were produced in geopackage file format. Ground Conditions: LiDAR was collected in spring and fall 2024, while no snow was on the ground and rivers were at or below normal levels. In order to post process the LiDAR data to meet task order specifications and meet ASPRS vertical accuracy guidelines, NV5 Geospatial utilized a total of 57 ground control points that were used to calibrate the LiDAR to known ground locations established throughout the project area. An additional 153 independent accuracy checkpoints, 122 in Bare Earth and Urban landcovers (122 NVA points), 31 in Tall Weeds categories (31 VVA points), were used to assess the vertical accuracy of the data. These checkpoints were not used to calibrate or post process the data.<\/SPAN><\/P><\/DIV><\/DIV><\/DIV>",
"serviceItemId": "468cd9039cb94a4d86c15e81ef00088a",
"name": "DEM/Maine_Elevation_DEM_2024",
"description": "Product: These are Digital Elevation Model (DEM) data for Maine as part of the required deliverables for the ME_WesternMtns_B24_WU301127 project. Class 2 (ground) LiDAR points in conjunction with the hydro breaklines were used to create a 1 meter hydro-flattened Raster DEM. Geographic Extent: 8 counties in Maine, covering approximately 5066 total square miles. Dataset Description: The ME_WesternMtns_B24_WU301127 project called for the planning, acquisition, processing, and derivative products of lidar data to be collected at a nominal pulse spacing (NPS) of 0.71 meters. Project specifications are based on the U.S. Geological Survey National Geospatial Program Base LiDAR Specification, 2024 Rev. A. The data were developed based on a horizontal projection/datum of NAD 1983 2011 UTM Zone 19N, Meter and vertical datum of NAVD88 Geoid 18, Meter. LiDAR data were delivered as processed Classified LAS 1.4 files formatted to 6115 individual 1500 m x 1500 m tiles, as tiled intensity imagery, and as tiled bare earth DEMs; all tiled to the same 1500 m x 1500 m schema. Continuous breaklines were produced in geopackage file format. Ground Conditions: LiDAR was collected in spring and fall 2024, while no snow was on the ground and rivers were at or below normal levels. In order to post process the LiDAR data to meet task order specifications and meet ASPRS vertical accuracy guidelines, NV5 Geospatial utilized a total of 57 ground control points that were used to calibrate the LiDAR to known ground locations established throughout the project area. An additional 153 independent accuracy checkpoints, 122 in Bare Earth and Urban landcovers (122 NVA points), 31 in Tall Weeds categories (31 VVA points), were used to assess the vertical accuracy of the data. These checkpoints were not used to calibrate or post process the data.<\/SPAN><\/P><\/DIV><\/DIV><\/DIV>",
"extent": {
"xmin": 337500,
"ymin": 4873500,
"xmax": 487500,
"ymax": 5089500,
"spatialReference": {
"wkid": 102388,
"latestWkid": 6348,
"vcsWkid": 5703,
"latestVcsWkid": 5703
}
},
"initialExtent": {
"xmin": 337500,
"ymin": 4873500,
"xmax": 487500,
"ymax": 5089500,
"spatialReference": {
"wkid": 102388,
"latestWkid": 6348,
"vcsWkid": 5703,
"latestVcsWkid": 5703
}
},
"fullExtent": {
"xmin": 337500,
"ymin": 4873500,
"xmax": 487500,
"ymax": 5089500,
"spatialReference": {
"wkid": 102388,
"latestWkid": 6348,
"vcsWkid": 5703,
"latestVcsWkid": 5703
}
},
"sortableFields": "MinPS,MaxPS,LowPS,HighPS,CenterX,CenterY,ZOrder,Shape_Length,Shape_Area,created_date,last_edited_date,DateIntBegin,DateIntEnd",
"heightModelInfo": {
"heightModel": "gravity_related_height",
"vertCRS": "NAVD_1988",
"heightUnit": "meter"
},
"bandCount": 1,
"pixelType": "F32",
"minValues": [
37.59364700317383
],
"maxValues": [
1291.906494140625
],
"meanValues": [
374.8994780089714
],
"stdvValues": [
164.92620092793157
],
"serviceProperties": "NorthWest<\/MosaicMethod>First<\/MosaicOperator>true<\/SortAscending><\/LockImageID>Name<\/TileOrderField>0<\/TileOrderBase>600.000000<\/AvgImageSpacingX>300.000000<\/AvgImageSpacingY>0.0<\/ViewPointX>0.0<\/ViewPointY>0.0<\/ViewPointDefShiftX>0.0<\/ViewPointDefShiftY>None<\/CompressionMethod>87<\/CompressionQuality>0.010000<\/CompressionTolerance>Bilinear<\/SamplingMethod><\/ImageServiceProperties><\/ImageServer>",
"allowedFields": "Name,MinPS,MaxPS,LowPS,HighPS,Tag,GroupName,ProductName,CenterX,CenterY,ZOrder,Shape_Length,Shape_Area,created_user,created_date,last_edited_user,last_edited_date,DateIntBegin,DateIntEnd,DateBegin,DateEnd",
"hasMultidimensions": false,
"timeInfo": {
"startTimeField": "DateIntBegin",
"endTimeField": "DateIntEnd",
"timeExtent": [
1704067200000,
1704067200000
],
"timeReference": null
},
"pixelSizeX": 1,
"pixelSizeY": 1,
"meanPixelSize": 1,
"datasetFormat": "AMD",
"uncompressedSize": 129600000000,
"blockWidth": 2048,
"blockHeight": 256,
"compressionType": "None",
"bandNames": [
"Band_1"
],
"allowCopy": true,
"allowAnalysis": true,
"itemAccess": false,
"inspectionCapabilities": "",
"minPixelSize": 0,
"maxPixelSize": 0,
"copyrightText": "USGS, Maine GeoLibrary, MaineIT GIS, MEGIS",
"serviceDataType": "esriImageServiceDataTypeElevation",
"serviceSourceType": "esriImageServiceSourceTypeMosaicDataset",
"objectIdField": "OBJECTID",
"fields": [
{
"name": "OBJECTID",
"type": "esriFieldTypeOID",
"alias": "OBJECTID",
"domain": null
},
{
"name": "Shape",
"type": "esriFieldTypeGeometry",
"alias": "Shape",
"domain": null
},
{
"name": "Name",
"type": "esriFieldTypeString",
"alias": "Name",
"domain": null,
"length": 200
},
{
"name": "MinPS",
"type": "esriFieldTypeDouble",
"alias": "MinPS",
"domain": null
},
{
"name": "MaxPS",
"type": "esriFieldTypeDouble",
"alias": "MaxPS",
"domain": null
},
{
"name": "LowPS",
"type": "esriFieldTypeDouble",
"alias": "LowPS",
"domain": null
},
{
"name": "HighPS",
"type": "esriFieldTypeDouble",
"alias": "HighPS",
"domain": null
},
{
"name": "Category",
"type": "esriFieldTypeInteger",
"alias": "Category",
"domain": {
"type": "codedValue",
"name": "MosaicCatalogItemCategoryDomain",
"description": "Catalog item categories.",
"codedValues": [
{
"name": "Unknown",
"code": 0
},
{
"name": "Primary",
"code": 1
},
{
"name": "Overview",
"code": 2
},
{
"name": "Unprocessed Overview",
"code": 3
},
{
"name": "Partial Overview",
"code": 4
},
{
"name": "Inactive",
"code": 5
},
{
"name": "Uploaded",
"code": 253
},
{
"name": "Incomplete",
"code": 254
},
{
"name": "Custom",
"code": 255
}
],
"mergePolicy": "esriMPTDefaultValue",
"splitPolicy": "esriSPTDefaultValue"
}
},
{
"name": "Tag",
"type": "esriFieldTypeString",
"alias": "Tag",
"domain": null,
"length": 100
},
{
"name": "GroupName",
"type": "esriFieldTypeString",
"alias": "GroupName",
"domain": null,
"length": 100
},
{
"name": "ProductName",
"type": "esriFieldTypeString",
"alias": "ProductName",
"domain": null,
"length": 100
},
{
"name": "CenterX",
"type": "esriFieldTypeDouble",
"alias": "CenterX",
"domain": null
},
{
"name": "CenterY",
"type": "esriFieldTypeDouble",
"alias": "CenterY",
"domain": null
},
{
"name": "ZOrder",
"type": "esriFieldTypeInteger",
"alias": "ZOrder",
"domain": null
},
{
"name": "Shape_Length",
"type": "esriFieldTypeDouble",
"alias": "Shape_Length",
"domain": null
},
{
"name": "Shape_Area",
"type": "esriFieldTypeDouble",
"alias": "Shape_Area",
"domain": null
},
{
"name": "created_user",
"type": "esriFieldTypeString",
"alias": "created_user",
"domain": null,
"length": 255
},
{
"name": "created_date",
"type": "esriFieldTypeDate",
"alias": "created_date",
"domain": null,
"length": 8
},
{
"name": "last_edited_user",
"type": "esriFieldTypeString",
"alias": "last_edited_user",
"domain": null,
"length": 255
},
{
"name": "last_edited_date",
"type": "esriFieldTypeDate",
"alias": "last_edited_date",
"domain": null,
"length": 8
},
{
"name": "DateIntBegin",
"type": "esriFieldTypeSmallInteger",
"alias": "DateIntBegin",
"domain": null
},
{
"name": "DateIntEnd",
"type": "esriFieldTypeSmallInteger",
"alias": "DateIntEnd",
"domain": null
},
{
"name": "DateBegin",
"type": "esriFieldTypeDateOnly",
"alias": "DateBegin",
"domain": null
},
{
"name": "DateEnd",
"type": "esriFieldTypeDateOnly",
"alias": "DateEnd",
"domain": null
}
],
"capabilities": "Image,Metadata,Pixels,Catalog,Download",
"defaultMosaicMethod": "Northwest",
"allowedMosaicMethods": "NorthWest,Center,LockRaster,ByAttribute,Nadir,Viewpoint,Seamline,None",
"sortField": "",
"sortValue": null,
"sortAscending": true,
"mosaicOperator": "First",
"maxDownloadSizeLimit": 4096,
"defaultCompressionQuality": 87,
"defaultResamplingMethod": "Bilinear",
"maxImageHeight": 4100,
"maxImageWidth": 15000,
"maxRecordCount": 1000,
"maxDownloadImageCount": 48,
"maxMosaicImageCount": 24,
"allowRasterFunction": true,
"rasterFunctionInfos": [
{
"name": "None",
"description": "",
"help": ""
}
],
"rasterTypeInfos": [
{
"name": "Raster Dataset",
"description": "Supports all ArcGIS Raster Datasets",
"help": ""
}
],
"mensurationCapabilities": "None",
"hasHistograms": false,
"hasColormap": false,
"hasRasterAttributeTable": false,
"minScale": 0,
"maxScale": 0,
"exportTilesAllowed": false,
"supportsStatistics": true,
"supportsAdvancedQueries": true,
"editFieldsInfo": {
"creationDateField": "created_date",
"creatorField": "created_user",
"editDateField": "last_edited_date",
"editorField": "last_edited_user"
},
"ownershipBasedAccessControlForRasters": {
"allowOthersToDelete": false,
"allowOthersToUpdate": false
},
"allowComputeTiePoints": false,
"useStandardizedQueries": true,
"advancedQueryCapabilities": {
"useStandardizedQueries": true,
"supportsStatistics": true,
"supportsOrderBy": true,
"supportsDistinct": true,
"supportsPagination": true
},
"spatialReference": {
"wkid": 102388,
"latestWkid": 6348,
"vcsWkid": 5703,
"latestVcsWkid": 5703
}
}