Service for Maine Geolibrary Elevation Discovery and Download Tool (Application). Not intended for end user client consumption and visualization. https://www.maine.gov/geolib/ediscovery/site/landing.html<\/span><\/p><\/div><\/div><\/div>",
"serviceItemId": "71f1c3b73e2c43aa9d7f196b5424696a",
"name": "Misc/Maine_Elevation_DEM_Aggregate",
"description": "Service for Maine Geolibrary Elevation Discovery and Download Tool (Application). Not intended for end user client consumption and visualization. https://www.maine.gov/geolib/ediscovery/site/landing.html<\/span><\/p><\/div><\/div><\/div>",
"extent": {
"xmin": 337500,
"ymin": 4759045.847091694,
"xmax": 663000.381000762,
"ymax": 5257500,
"spatialReference": {
"wkid": 26919,
"latestWkid": 26919,
"vcsWkid": 5703,
"latestVcsWkid": 5703
}
},
"initialExtent": {
"xmin": 337500,
"ymin": 4759045.847091694,
"xmax": 663000.381000762,
"ymax": 5257500,
"spatialReference": {
"wkid": 26919,
"latestWkid": 26919,
"vcsWkid": 5703,
"latestVcsWkid": 5703
}
},
"fullExtent": {
"xmin": 337500,
"ymin": 4759045.847091694,
"xmax": 663000.381000762,
"ymax": 5257500,
"spatialReference": {
"wkid": 26919,
"latestWkid": 26919,
"vcsWkid": 5703,
"latestVcsWkid": 5703
}
},
"sortableFields": "MinPS,MaxPS,LowPS,HighPS,CenterX,CenterY,ZOrder,Shape_Length,Shape_Area,DateBegin,DateEnd,DateIntBegin,DateIntEnd,QL",
"heightModelInfo": {
"heightModel": "gravity_related_height",
"vertCRS": "NAVD_1988",
"heightUnit": "meter"
},
"bandCount": 1,
"pixelType": "F32",
"minValues": [
-1.2100000381469727
],
"maxValues": [
1291.8905029296875
],
"meanValues": [
230.03228713826232
],
"stdvValues": [
169.5559151677125
],
"serviceProperties": "NorthWest<\/MosaicMethod>First<\/MosaicOperator>true<\/SortAscending><\/LockImageID>MinPS<\/TileOrderField>0<\/TileOrderBase>600.000000<\/AvgImageSpacingX>300.000000<\/AvgImageSpacingY>0.0<\/ViewPointX>0.0<\/ViewPointY>0.0<\/ViewPointDefShiftX>0.0<\/ViewPointDefShiftY>None<\/CompressionMethod>87<\/CompressionQuality>0.010000<\/CompressionTolerance>Nearest<\/SamplingMethod><\/ImageServiceProperties><\/ImageServer>",
"allowedFields": "Name,MinPS,MaxPS,LowPS,HighPS,Tag,GroupName,ProductName,CenterX,CenterY,ZOrder,Shape_Length,Shape_Area,DateBegin,DateEnd,DateIntBegin,DateIntEnd,QL",
"hasMultidimensions": false,
"timeInfo": {
"startTimeField": "DateBegin",
"endTimeField": "DateEnd",
"timeExtent": [
1160179200000,
1652140800000
],
"timeReference": null,
"defaultTimeInterval": 6,
"defaultTimeIntervalUnits": "esriTimeUnitsMonths"
},
"pixelSizeX": 0.762001524003048,
"pixelSizeY": 0.7620015240030478,
"meanPixelSize": 0.7620015240030479,
"datasetFormat": "AMD",
"uncompressedSize": 1117699435080,
"blockWidth": 2048,
"blockHeight": 256,
"compressionType": "None",
"bandNames": [
"Band_1"
],
"allowCopy": true,
"allowAnalysis": true,
"itemAccess": false,
"inspectionCapabilities": "",
"minPixelSize": 0,
"maxPixelSize": 0,
"copyrightText": "Maine GeoLibrary, MaineGIS",
"serviceDataType": "esriImageServiceDataTypeElevation",
"serviceSourceType": "esriImageServiceSourceTypeMosaicDataset",
"objectIdField": "OBJECTID",
"fields": [
{
"name": "OBJECTID",
"type": "esriFieldTypeOID",
"alias": "OBJECTID",
"domain": null
},
{
"name": "Shape",
"type": "esriFieldTypeGeometry",
"alias": "Shape",
"domain": null
},
{
"name": "Name",
"type": "esriFieldTypeString",
"alias": "Name",
"domain": null,
"length": 200
},
{
"name": "MinPS",
"type": "esriFieldTypeDouble",
"alias": "MinPS",
"domain": null
},
{
"name": "MaxPS",
"type": "esriFieldTypeDouble",
"alias": "MaxPS",
"domain": null
},
{
"name": "LowPS",
"type": "esriFieldTypeDouble",
"alias": "LowPS",
"domain": null
},
{
"name": "HighPS",
"type": "esriFieldTypeDouble",
"alias": "HighPS",
"domain": null
},
{
"name": "Category",
"type": "esriFieldTypeInteger",
"alias": "Category",
"domain": {
"type": "codedValue",
"name": "MosaicCatalogItemCategoryDomain",
"description": "Catalog item categories.",
"codedValues": [
{
"name": "Unknown",
"code": 0
},
{
"name": "Primary",
"code": 1
},
{
"name": "Overview",
"code": 2
},
{
"name": "Unprocessed Overview",
"code": 3
},
{
"name": "Partial Overview",
"code": 4
},
{
"name": "Inactive",
"code": 5
},
{
"name": "Uploaded",
"code": 253
},
{
"name": "Incomplete",
"code": 254
},
{
"name": "Custom",
"code": 255
}
],
"mergePolicy": "esriMPTDefaultValue",
"splitPolicy": "esriSPTDefaultValue"
}
},
{
"name": "Tag",
"type": "esriFieldTypeString",
"alias": "Tag",
"domain": null,
"length": 100
},
{
"name": "GroupName",
"type": "esriFieldTypeString",
"alias": "GroupName",
"domain": null,
"length": 100
},
{
"name": "ProductName",
"type": "esriFieldTypeString",
"alias": "ProductName",
"domain": null,
"length": 100
},
{
"name": "CenterX",
"type": "esriFieldTypeDouble",
"alias": "CenterX",
"domain": null
},
{
"name": "CenterY",
"type": "esriFieldTypeDouble",
"alias": "CenterY",
"domain": null
},
{
"name": "ZOrder",
"type": "esriFieldTypeInteger",
"alias": "ZOrder",
"domain": null
},
{
"name": "Shape_Length",
"type": "esriFieldTypeDouble",
"alias": "Shape_Length",
"domain": null
},
{
"name": "Shape_Area",
"type": "esriFieldTypeDouble",
"alias": "Shape_Area",
"domain": null
},
{
"name": "DateBegin",
"type": "esriFieldTypeDate",
"alias": "DateBegin",
"domain": null,
"length": 8
},
{
"name": "DateEnd",
"type": "esriFieldTypeDate",
"alias": "DateEnd",
"domain": null,
"length": 8
},
{
"name": "DateIntBegin",
"type": "esriFieldTypeSmallInteger",
"alias": "DateIntBegin",
"domain": null
},
{
"name": "DateIntEnd",
"type": "esriFieldTypeSmallInteger",
"alias": "DateIntEnd",
"domain": null
},
{
"name": "QL",
"type": "esriFieldTypeSmallInteger",
"alias": "QL",
"domain": null
}
],
"capabilities": "Catalog,Pixels,Download,Image,Metadata",
"defaultMosaicMethod": "Northwest",
"allowedMosaicMethods": "NorthWest,Center,ByAttribute,Nadir,Viewpoint,None",
"sortField": "",
"sortValue": null,
"sortAscending": true,
"mosaicOperator": "First",
"maxDownloadSizeLimit": 4096,
"defaultCompressionQuality": 87,
"defaultResamplingMethod": "Nearest",
"maxImageHeight": 4100,
"maxImageWidth": 15000,
"maxRecordCount": 1000,
"maxDownloadImageCount": 300,
"maxMosaicImageCount": 20,
"allowRasterFunction": true,
"rasterFunctionInfos": [
{
"name": "None",
"description": "A No-Op Function.",
"help": ""
}
],
"rasterTypeInfos": [
{
"name": "Raster Dataset",
"description": "Supports all ArcGIS Raster Datasets",
"help": ""
}
],
"mensurationCapabilities": "",
"hasHistograms": true,
"hasColormap": false,
"hasRasterAttributeTable": false,
"minScale": 0,
"maxScale": 0,
"exportTilesAllowed": false,
"supportsStatistics": true,
"supportsAdvancedQueries": true,
"editFieldsInfo": null,
"ownershipBasedAccessControlForRasters": null,
"allowComputeTiePoints": false,
"useStandardizedQueries": true,
"advancedQueryCapabilities": {
"useStandardizedQueries": true,
"supportsStatistics": true,
"supportsOrderBy": true,
"supportsDistinct": true,
"supportsPagination": true
},
"spatialReference": {
"wkid": 26919,
"latestWkid": 26919,
"vcsWkid": 5703,
"latestVcsWkid": 5703
},
"resampling": false
}