<?xml version="1.0" encoding="UTF-8" standalone="no"?>
<metadata xml:lang="en">
<Esri>
<CreaDate>20180627</CreaDate>
<CreaTime>10072500</CreaTime>
<ArcGISFormat>1.0</ArcGISFormat>
<ArcGISstyle>FGDC CSDGM Metadata</ArcGISstyle>
<SyncOnce>FALSE</SyncOnce>
<DataProperties>
<itemProps>
<itemName Sync="TRUE">orthoMunicipalAugustaManchester2008</itemName>
<nativeExtBox>
<westBL Sync="TRUE">426000.000000</westBL>
<eastBL Sync="TRUE">451500.000000</eastBL>
<southBL Sync="TRUE">4885500.000000</southBL>
<northBL Sync="TRUE">4917000.000000</northBL>
<exTypeCode Sync="TRUE">1</exTypeCode>
</nativeExtBox>
<imsContentType export="False">
</imsContentType>
</itemProps>
<coordRef>
<type Sync="TRUE">Projected</type>
<geogcsn Sync="TRUE">GCS_North_American_1983</geogcsn>
<csUnits Sync="TRUE">Linear Unit: Meter (1.000000)</csUnits>
<projcsn Sync="TRUE">NAD_1983_UTM_Zone_19N</projcsn>
<peXml Sync="TRUE">&lt;ProjectedCoordinateSystem xsi:type='typens:ProjectedCoordinateSystem' xmlns:xsi='http://www.w3.org/2001/XMLSchema-instance' xmlns:xs='http://www.w3.org/2001/XMLSchema' xmlns:typens='http://www.esri.com/schemas/ArcGIS/10.6'&gt;&lt;WKT&gt;PROJCS[&amp;quot;NAD_1983_UTM_Zone_19N&amp;quot;,GEOGCS[&amp;quot;GCS_North_American_1983&amp;quot;,DATUM[&amp;quot;D_North_American_1983&amp;quot;,SPHEROID[&amp;quot;GRS_1980&amp;quot;,6378137.0,298.257222101]],PRIMEM[&amp;quot;Greenwich&amp;quot;,0.0],UNIT[&amp;quot;Degree&amp;quot;,0.0174532925199433]],PROJECTION[&amp;quot;Transverse_Mercator&amp;quot;],PARAMETER[&amp;quot;False_Easting&amp;quot;,500000.0],PARAMETER[&amp;quot;False_Northing&amp;quot;,0.0],PARAMETER[&amp;quot;Central_Meridian&amp;quot;,-69.0],PARAMETER[&amp;quot;Scale_Factor&amp;quot;,0.9996],PARAMETER[&amp;quot;Latitude_Of_Origin&amp;quot;,0.0],UNIT[&amp;quot;Meter&amp;quot;,1.0],AUTHORITY[&amp;quot;EPSG&amp;quot;,26919]]&lt;/WKT&gt;&lt;XOrigin&gt;-5120900&lt;/XOrigin&gt;&lt;YOrigin&gt;-9998100&lt;/YOrigin&gt;&lt;XYScale&gt;450445547.3910538&lt;/XYScale&gt;&lt;ZOrigin&gt;-100000&lt;/ZOrigin&gt;&lt;ZScale&gt;10000&lt;/ZScale&gt;&lt;MOrigin&gt;-100000&lt;/MOrigin&gt;&lt;MScale&gt;10000&lt;/MScale&gt;&lt;XYTolerance&gt;0.001&lt;/XYTolerance&gt;&lt;ZTolerance&gt;0.001&lt;/ZTolerance&gt;&lt;MTolerance&gt;0.001&lt;/MTolerance&gt;&lt;HighPrecision&gt;true&lt;/HighPrecision&gt;&lt;WKID&gt;26919&lt;/WKID&gt;&lt;LatestWKID&gt;26919&lt;/LatestWKID&gt;&lt;/ProjectedCoordinateSystem&gt;</peXml>
</coordRef>
<RasterProperties>
<General>
<PixelDepth Sync="TRUE">8</PixelDepth>
<HasColormap Sync="TRUE">FALSE</HasColormap>
<CompressionType Sync="TRUE">None</CompressionType>
<NumBands Sync="TRUE">3</NumBands>
<Format Sync="TRUE">AMD</Format>
<HasPyramids Sync="TRUE">TRUE</HasPyramids>
<SourceType Sync="TRUE">continuous</SourceType>
<PixelType Sync="TRUE">unsigned integer</PixelType>
<NoDataValue Sync="TRUE">
</NoDataValue>
</General>
<Properties>
<MaxImageHeight Sync="TRUE">4100</MaxImageHeight>
<MaxImageWidth Sync="TRUE">15000</MaxImageWidth>
<MaxRecordCount Sync="TRUE">1000</MaxRecordCount>
<MaxDownloadImageCount Sync="TRUE">20</MaxDownloadImageCount>
<MaxDownloadSizeLimit Sync="TRUE">2048</MaxDownloadSizeLimit>
<MaxMosaicImageCount Sync="TRUE">20</MaxMosaicImageCount>
<DefaultCompressionQuality Sync="TRUE">87</DefaultCompressionQuality>
<DefaultCompressionTolerance Sync="TRUE">0.01</DefaultCompressionTolerance>
<BlendWidth Sync="TRUE">10</BlendWidth>
<ViewpointSpacingX Sync="TRUE">600</ViewpointSpacingX>
<ViewpointSpacingY Sync="TRUE">300</ViewpointSpacingY>
<AllowedItemMetadata Sync="TRUE">Basic</AllowedItemMetadata>
<DefaultResamplingMethod Sync="TRUE">1</DefaultResamplingMethod>
<AllowedMosaicMethods Sync="TRUE">NorthWest,Center,ByAttribute,Nadir,Viewpoint,Seamline,None</AllowedMosaicMethods>
<AllowedCompressions Sync="TRUE">LZ77,None,JPEG,LERC</AllowedCompressions>
<AllowedMensurationCapabilities Sync="TRUE">Basic</AllowedMensurationCapabilities>
<AvailableMensurationCapabilities Sync="TRUE">None,Basic,Base-Top Height,Top-Top Shadow Height,Base-Top Shadow Height,3D</AvailableMensurationCapabilities>
<ClipToBoundary Sync="TRUE">-1</ClipToBoundary>
<FootprintMayContainNoData Sync="TRUE">-1</FootprintMayContainNoData>
<CellSizeTolerance Sync="TRUE">0.8</CellSizeTolerance>
<MinimumPixelContribution Sync="TRUE">1</MinimumPixelContribution>
<AvailableMosaicMethods Sync="TRUE">NorthWest,Center,LockRaster,ByAttribute,Nadir,Viewpoint,Seamline,None</AvailableMosaicMethods>
<AvailableCompressionMethods Sync="TRUE">None,JPEG,LZ77,LERC</AvailableCompressionMethods>
<AvailableItemMetadataLevels Sync="TRUE">None,Basic,Full</AvailableItemMetadataLevels>
<ConfigKeyword Sync="TRUE">
</ConfigKeyword>
<BandDefinitionKeyword Sync="TRUE">NONE</BandDefinitionKeyword>
<AllowedFields Sync="TRUE">Name,MinPS,MaxPS,LowPS,HighPS,Tag,GroupName,ProductName,CenterX,CenterY,ZOrder,Shape_Length,Shape_Area,Date,DateInt</AllowedFields>
<TimeStamp.RemoveItems Sync="TRUE">43278.5962418634</TimeStamp.RemoveItems>
<MaxCellSize Sync="TRUE">7290.00000000011</MaxCellSize>
<LowCellSize Sync="TRUE">0.149999999999981</LowCellSize>
<HighCellSize Sync="TRUE">145.800000000002</HighCellSize>
<TimeStamp.UpdateExtent Sync="TRUE">43278.5990605208</TimeStamp.UpdateExtent>
<AvailableFields Sync="TRUE">Name,MinPS,MaxPS,LowPS,HighPS,Tag,GroupName,ProductName,CenterX,CenterY,ZOrder,Shape_Length,Shape_Area,Date,DateInt</AvailableFields>
<SortableFields Sync="TRUE">MinPS,MaxPS,LowPS,HighPS,CenterX,CenterY,ZOrder,Shape_Length,Shape_Area,Date,DateInt</SortableFields>
<SortAscending Sync="TRUE">-1</SortAscending>
<MosaicOperator Sync="TRUE">1</MosaicOperator>
<BlendWidthUnits Sync="TRUE">1</BlendWidthUnits>
<ClipToFootprint Sync="TRUE">0</ClipToFootprint>
<ClipOverviewsToFootprint Sync="TRUE">0</ClipOverviewsToFootprint>
<HasDodgingTable Sync="TRUE">0</HasDodgingTable>
<ApplyColorCorrection Sync="TRUE">0</ApplyColorCorrection>
<UseTime Sync="TRUE">0</UseTime>
<StartTimeFieldName Sync="TRUE">Date</StartTimeFieldName>
<EndTimeFieldName Sync="TRUE">Date</EndTimeFieldName>
<TimeValueFormat Sync="TRUE">YYYY-MM-DD</TimeValueFormat>
<UseRange Sync="TRUE">0</UseRange>
<TimeInterval Sync="TRUE">2</TimeInterval>
<TimeIntervalUnits Sync="TRUE">Days</TimeIntervalUnits>
<SortField Sync="TRUE">MinPS</SortField>
<SortValue Sync="TRUE">
</SortValue>
</Properties>
<Functions Sync="TRUE">
<Function Description="Performs on-the-fly mosaic on a raster catalog." Name="Mosaic Function">
</Function>
</Functions>
</RasterProperties>
</DataProperties>
<SyncDate>20190807</SyncDate>
<SyncTime>08285100</SyncTime>
<ModDate>20190807</ModDate>
<ModTime>08285100</ModTime>
<scaleRange>
<minScale>150000000</minScale>
<maxScale>5000</maxScale>
</scaleRange>
<ArcGISProfile>FGDC</ArcGISProfile>
</Esri>
<mdLang>
<languageCode value="eng">
</languageCode>
<countryCode Sync="TRUE" value="USA">
</countryCode>
</mdLang>
<mdChar>
<CharSetCd value="004">
</CharSetCd>
</mdChar>
<mdHrLv>
<ScopeCd value="005">
</ScopeCd>
</mdHrLv>
<mdContact>
<rpIndName>Mark Meade</rpIndName>
<rpOrgName>Photo Science, Inc.</rpOrgName>
<rpCntInfo>
<cntPhone>
<voiceNum>859-277-8700</voiceNum>
</cntPhone>
<cntAddress addressType="both">
<delPoint>2670 Wilhite Drive</delPoint>
<city>Lexington</city>
<adminArea>KY</adminArea>
<postCode>40503</postCode>
<country>US</country>
<eMailAdd>mmeade@photoscience.com</eMailAdd>
</cntAddress>
</rpCntInfo>
<role>
<RoleCd value="007">
</RoleCd>
</role>
</mdContact>
<mdDateSt Sync="TRUE">20190807</mdDateSt>
<mdStanName>ArcGIS Metadata</mdStanName>
<mdStanVer>1.0</mdStanVer>
<distInfo>
<distributor>
<distorCont>
<rpOrgName>Maine Office of Geographic Information Systems</rpOrgName>
<rpPosName>GIS Coordinator</rpPosName>
<rpCntInfo>
<cntPhone>
<voiceNum>(207) 624-7700</voiceNum>
<faxNum>(207) 287-3842</faxNum>
</cntPhone>
<cntAddress addressType="postal">
<delPoint>State House Station 174</delPoint>
<city>Augusta</city>
<adminArea>ME</adminArea>
<postCode>04333-0174</postCode>
<country>US</country>
</cntAddress>
<cntHours>Monday through Friday 0800 - 1700 EST</cntHours>
</rpCntInfo>
<role>
<RoleCd value="005">
</RoleCd>
</role>
</distorCont>
<distorOrdPrc>
<resFees>None</resFees>
<ordInstr>http://www.maine.gov/geolib/wms.htm</ordInstr>
</distorOrdPrc>
<distorFormat>
<formatName>WMS</formatName>
<formatVer>1.1</formatVer>
<formatSpec>OpenGIS (OGC) Web Map Service (WMS)</formatSpec>
</distorFormat>
</distributor>
<distTranOps>
<onLineSrc>
<linkage>http://www.maine.gov/geolib/wms.htm</linkage>
</onLineSrc>
</distTranOps>
</distInfo>
<dataIdInfo>
<idCitation>
<resTitle Sync="TRUE">orthoMunicipalAugustaManchester</resTitle>
<date>
<pubDate date="inapplicable">
</pubDate>
</date>
<citRespParty>
<rpOrgName>Maine Office of Geographic Information Systems (MEGIS)</rpOrgName>
<rpCntInfo>
<cntAddress>
<delPoint>Augusta ME</delPoint>
</cntAddress>
</rpCntInfo>
<role>
<RoleCd value="010">
</RoleCd>
</role>
</citRespParty>
<citRespParty>
<rpOrgName>Photo Science, inc.</rpOrgName>
<role>
<RoleCd value="006">
</RoleCd>
</role>
</citRespParty>
<presForm>
<fgdcGeoform>Orthophotography</fgdcGeoform>
<PresFormCd Sync="TRUE" value="005">
</PresFormCd>
</presForm>
</idCitation>
<idAbs>&lt;div style='text-align:Left;'&gt;&lt;div&gt;&lt;div&gt;&lt;p&gt;&lt;span&gt;Orthoimagery at 1' and 6" resolution encompassing all of Augusta, Manchester, Hallowell, Farmingdale, and Garinder, Maine. Portions of other adjacent towns are covered including Belgrade, Chelsea, Dresden, Litchfield, Pittston, Randolph, Readfield, Richmond, Sidney, Vassalboro, West Gardiner, Windsor, and Winthrop. The data were collected in a single session on May 6, 2008. LiDAR data were also collected and are available elsewhere. The 6" imagery is available for the northern part of the area, Augusta and Manchester principally. 1' imagery is for the southern area of the collect. The data were collected and processed by James W. Sewall Co of Old Town, Maine. The LiDAR data were collected and processed by Photo Science, Inc., of Lexington, KY. The scale of 1:7920 was used to produce a mapping scale of 1" = 660'.&lt;/span&gt;&lt;/p&gt;&lt;/div&gt;&lt;/div&gt;&lt;/div&gt;</idAbs>
<idPurp>Maine Orthoimagery Municipal Augusta, Manchester, Hallowell, Farmingdale, and Gardiner 2008</idPurp>
<idCredit>Maine GeoLibrary</idCredit>
<idStatus>
<ProgCd value="001">
</ProgCd>
</idStatus>
<idPoC>
<rpIndName>Nicole Cyr</rpIndName>
<rpOrgName>James W. Sewall Company</rpOrgName>
<rpCntInfo>
<cntPhone>
<voiceNum>1-800-648-4202</voiceNum>
</cntPhone>
<cntAddress addressType="both">
<delPoint>136 Center Street PO Box 433</delPoint>
<city>Old Town</city>
<adminArea>ME</adminArea>
<postCode>04468</postCode>
<country>US</country>
<eMailAdd>nicole.cyr (at) jws.com</eMailAdd>
</cntAddress>
</rpCntInfo>
<role>
<RoleCd value="007">
</RoleCd>
</role>
</idPoC>
<resMaint>
<maintFreq>
<MaintFreqCd value="011">
</MaintFreqCd>
</maintFreq>
</resMaint>
<placeKeys>
<keyword>Augusta</keyword>
<keyword>US</keyword>
<keyword>Maine</keyword>
<keyword>Manchester</keyword>
</placeKeys>
<themeKeys>
<thesaName>
<resTitle>ISO Keyword Thesaurus</resTitle>
</thesaName>
<keyword>imageryBaseMapsEarthCover</keyword>
</themeKeys>
<themeKeys>
<keyword>remote sensing</keyword>
<keyword>Aerial Imagery</keyword>
<keyword>imageryBaseMapsEarthCover</keyword>
<keyword>natural color</keyword>
<keyword>Orthophotography</keyword>
</themeKeys>
<searchKeys>
<keyword>imageryBaseMapsEarthCover</keyword>
<keyword>ortho</keyword>
<keyword>orthoimagery</keyword>
<keyword>orthophotography</keyword>
<keyword>GeoLibrary</keyword>
<keyword>Maine</keyword>
<keyword>MaineGeoLibrary</keyword>
<keyword>MaineGIS</keyword>
<keyword>municipal</keyword>
<keyword>Augusta</keyword>
<keyword>Manchester</keyword>
<keyword>2008</keyword>
</searchKeys>
<resConst>
<LegConsts>
<useLimit>Users must assume responsibility to determine the usability of this data for their purposes.</useLimit>
</LegConsts>
</resConst>
<dataLang>
<languageCode value="eng">
</languageCode>
<countryCode Sync="TRUE" value="USA">
</countryCode>
</dataLang>
<envirDesc Sync="TRUE"> Version 6.2 (Build 9200) ; Esri ArcGIS 10.6.1.9273</envirDesc>
<dataExt>
<geoEle>
<GeoBndBox>
<westBL>-69.889379</westBL>
<eastBL>-69.737389</eastBL>
<southBL>44.119245</southBL>
<northBL>44.29548</northBL>
</GeoBndBox>
</geoEle>
</dataExt>
<dataExt>
<exDesc>ground condition</exDesc>
<tempEle>
<TempExtent>
<exTemp>
<TM_Instant>
<tmPosition time="unknown">2008-05-06</tmPosition>
</TM_Instant>
</exTemp>
</TempExtent>
</tempEle>
</dataExt>
<spatRpType>
<SpatRepTypCd Sync="TRUE" value="002">
</SpatRepTypCd>
</spatRpType>
<dataExt>
<geoEle>
<GeoBndBox esriExtentType="search">
<exTypeCode Sync="TRUE">1</exTypeCode>
<westBL Sync="TRUE">-69.929296</westBL>
<eastBL Sync="TRUE">-69.606167</eastBL>
<northBL Sync="TRUE">44.404664</northBL>
<southBL Sync="TRUE">44.118948</southBL>
</GeoBndBox>
</geoEle>
</dataExt>
<resConst>
<Consts>
<useLimit>&lt;div style='text-align:Left;'&gt;&lt;div&gt;&lt;div&gt;&lt;p&gt;&lt;span&gt;Access: Public Use: User assumes risk.&lt;/span&gt;&lt;/p&gt;&lt;/div&gt;&lt;/div&gt;&lt;/div&gt;</useLimit>
</Consts>
</resConst>
<tpCat>
<TopicCatCd value="010">
</TopicCatCd>
</tpCat>
</dataIdInfo>
<dqInfo>
<dqScope>
<scpLvl>
<ScopeCd value="005">
</ScopeCd>
</scpLvl>
</dqScope>
<report type="DQConcConsis">
<measDesc>Orthophotos went through a rigorous QAQC process. All data is seamless from one tile to the next, no gaps or no data areas.</measDesc>
</report>
<report type="DQCompOm">
<measDesc>The one foot tiles cover a portion of the area of interest. The six foot tiles will cover the remaining area of interest.</measDesc>
</report>
<report dimension="horizontal" type="DQAbsExtPosAcc">
<measDesc>45 control points were dispersed evenly throughout the entire area of interest. 26 of the control points fall in the 1' data.</measDesc>
<evalMethDesc>RMSE in meters for the 1' data</evalMethDesc>
<measResult>
<QuanResult>
<quanVal>0.265</quanVal>
</QuanResult>
</measResult>
</report>
<dataLineage>
<prcStep>
<stepDesc>The TIF tiles were compressed to JPEG2000 tiles using open-source software GDAL. Overviews were created as TIFF files using GDAL. The images were then served out from a MapServer-based WMS server.</stepDesc>
</prcStep>
<dataSource>
<srcDesc>Aerial photos were rectified and mosaiced together to produce final orthophoto deliverables.</srcDesc>
<srcCitatn>
<resTitle>Raw Aerial Photographs</resTitle>
<resAltTitle>AirPhoto</resAltTitle>
<date>
<pubDate>2008-01-01</pubDate>
</date>
<citRespParty>
<rpOrgName>James W. Sewall Company</rpOrgName>
<role>
<RoleCd value="006">
</RoleCd>
</role>
</citRespParty>
<citRespParty>
<rpOrgName>Maine Office of Geographic Information Systems (MEGIS)</rpOrgName>
<rpCntInfo>
<cntAddress>
<delPoint>Augusta ME</delPoint>
</cntAddress>
</rpCntInfo>
<role>
<RoleCd value="010">
</RoleCd>
</role>
</citRespParty>
<presForm>
<fgdcGeoform>digital data</fgdcGeoform>
</presForm>
</srcCitatn>
<srcExt>
<exDesc>ground condition</exDesc>
<tempEle>
<TempExtent>
<exTemp>
<TM_Instant>
<tmPosition time="unknown">2008-05-06</tmPosition>
</TM_Instant>
</exTemp>
</TempExtent>
</tempEle>
</srcExt>
</dataSource>
<prcStep>
<stepDesc>The images were rectified using a 10 meter DEM and Applications Master software and then mosaiced using OrthoVista.</stepDesc>
<stepDateTm>2008-07-08</stepDateTm>
<stepProc>
<rpIndName>Nicole Cyr</rpIndName>
<rpOrgName>James W. Sewall Company</rpOrgName>
<rpCntInfo>
<cntPhone>
<voiceNum>1-800-648-4202</voiceNum>
</cntPhone>
<cntAddress addressType="both">
<delPoint>136 Center Street PO Box 433</delPoint>
<city>Old Town</city>
<adminArea>ME</adminArea>
<postCode>04468</postCode>
<country>US</country>
<eMailAdd>nicole.cyr@jws.com</eMailAdd>
</cntAddress>
</rpCntInfo>
<role>
<RoleCd value="009">
</RoleCd>
</role>
</stepProc>
<stepSrc type="used">
<srcCitatn>
<resAltTitle>AirPhoto</resAltTitle>
</srcCitatn>
</stepSrc>
</prcStep>
</dataLineage>
</dqInfo>
<spatRepInfo>
<Georect>
<numDims Sync="TRUE">2</numDims>
<cellGeo>
<CellGeoCd Sync="TRUE" value="002">
</CellGeoCd>
</cellGeo>
<tranParaAv Sync="TRUE">1</tranParaAv>
<chkPtAv Sync="TRUE">0</chkPtAv>
<cornerPts>
<pos Sync="TRUE">426000.000000 4885500.000000</pos>
</cornerPts>
<cornerPts>
<pos Sync="TRUE">426000.000000 4917000.000000</pos>
</cornerPts>
<cornerPts>
<pos Sync="TRUE">451500.000000 4917000.000000</pos>
</cornerPts>
<cornerPts>
<pos Sync="TRUE">451500.000000 4885500.000000</pos>
</cornerPts>
<centerPt>
<pos Sync="TRUE">438750.000000 4901250.000000</pos>
</centerPt>
<axisDimension type="002">
<dimSize Sync="TRUE">170000</dimSize>
<dimResol>
<value Sync="TRUE" uom="m">0.150000</value>
</dimResol>
</axisDimension>
<axisDimension type="001">
<dimSize Sync="TRUE">210000</dimSize>
<dimResol>
<value Sync="TRUE" uom="m">0.150000</value>
</dimResol>
</axisDimension>
<ptInPixel>
<PixOrientCd Sync="TRUE" value="001">
</PixOrientCd>
</ptInPixel>
</Georect>
</spatRepInfo>
<eainfo>
<overview>
<eaover>Orthophotos have either a 6" or 1' pixel and are named by the United States National Grid schema.</eaover>
<eadetcit>Orthorectified GeoTIFF files represent "tiles" 1500 x 1500 meters cut at even 1500 meter grid lines with no overedge.</eadetcit>
</overview>
</eainfo>
<refSysInfo>
<RefSystem>
<refSysID>
<identCode Sync="TRUE" code="26919">
</identCode>
<idCodeSpace Sync="TRUE">EPSG</idCodeSpace>
<idVersion Sync="TRUE">6.13(3.0.1)</idVersion>
</refSysID>
</RefSystem>
</refSysInfo>
<contInfo>
<ImgDesc>
<contentTyp>
<ContentTypCd Sync="TRUE" value="001">
</ContentTypCd>
</contentTyp>
<covDim>
<Band>
<dimDescrp Sync="TRUE">Band_1</dimDescrp>
<maxVal Sync="TRUE">255.000000</maxVal>
<minVal Sync="TRUE">0.000000</minVal>
<bitsPerVal Sync="TRUE">8</bitsPerVal>
<valUnit>
<UOM type="length">
</UOM>
</valUnit>
</Band>
<Band>
<dimDescrp Sync="TRUE">Band_2</dimDescrp>
<maxVal Sync="TRUE">255.000000</maxVal>
<minVal Sync="TRUE">1.000000</minVal>
<bitsPerVal Sync="TRUE">8</bitsPerVal>
<valUnit>
<UOM type="length">
</UOM>
</valUnit>
</Band>
<Band>
<dimDescrp Sync="TRUE">Band_3</dimDescrp>
<maxVal Sync="TRUE">255.000000</maxVal>
<minVal Sync="TRUE">11.000000</minVal>
<bitsPerVal Sync="TRUE">8</bitsPerVal>
<valUnit>
<UOM type="length">
</UOM>
</valUnit>
</Band>
</covDim>
</ImgDesc>
</contInfo>
</metadata>
