Maine Orthoimagery Municipal aggregate 1991 - 2018. Auburn, Augusta, Bangor, Bar Harbor, Bath, Brunswick, Fort Fairfield, Hampden, Houlton, Kittery, Lewiston, Manchester, Ogunquit, Poland, Portland, Rockland, Skowhegan, South Portland, Topsham, Waterville, York<\/span><\/p><\/div><\/div><\/div>",
"serviceItemId": "7fc41585dca7429dbca82f8726074bd7",
"name": "Municipal/orthoMunicipal",
"description": "Maine Orthoimagery Municipal aggregate 1991 - 2018. Auburn, Augusta, Bangor, Bar Harbor, Bath, Brunswick, Fort Fairfield, Hampden, Houlton, Kittery, Lewiston, Manchester, Ogunquit, Poland, Portland, Rockland, Skowhegan, South Portland, Topsham, Waterville, York<\/span><\/p><\/div><\/div><\/div>",
"extent": {
"xmin": 348375,
"ymin": 4768999.985300421,
"xmax": 594445.124999756,
"ymax": 5192299.010300001,
"spatialReference": {
"wkid": 26919,
"latestWkid": 26919,
"vcsWkid": 5703,
"latestVcsWkid": 5703
}
},
"initialExtent": {
"xmin": 348375,
"ymin": 4768999.985300421,
"xmax": 594445.124999756,
"ymax": 5192299.010300001,
"spatialReference": {
"wkid": 26919,
"latestWkid": 26919,
"vcsWkid": 5703,
"latestVcsWkid": 5703
}
},
"fullExtent": {
"xmin": 348375,
"ymin": 4768999.985300421,
"xmax": 594445.124999756,
"ymax": 5192299.010300001,
"spatialReference": {
"wkid": 26919,
"latestWkid": 26919,
"vcsWkid": 5703,
"latestVcsWkid": 5703
}
},
"sortableFields": "MinPS,MaxPS,LowPS,HighPS,CenterX,CenterY,ZOrder,Shape_Length,Shape_Area,DateBegin,DateEnd,DatIntBegin,DateIntEnd",
"heightModelInfo": {
"heightModel": "gravity_related_height",
"vertCRS": "NAVD_1988",
"heightUnit": "meter"
},
"bandCount": 4,
"pixelType": "U8",
"minValues": [
0,
0,
0,
0
],
"maxValues": [
255,
255,
255,
255
],
"meanValues": [
101.78471150361585,
103.55962365515062,
91.73592626922773,
101.79271817945424
],
"stdvValues": [
54.43879543714191,
51.48049315890018,
41.20996963376934,
54.43798479327278
],
"serviceProperties": "NorthWest<\/MosaicMethod>First<\/MosaicOperator>true<\/SortAscending><\/LockImageID>MinPS<\/TileOrderField>0<\/TileOrderBase>600.000000<\/AvgImageSpacingX>300.000000<\/AvgImageSpacingY>0.0<\/ViewPointX>0.0<\/ViewPointY>0.0<\/ViewPointDefShiftX>0.0<\/ViewPointDefShiftY>LZ77<\/CompressionMethod>87<\/CompressionQuality>0.010000<\/CompressionTolerance>Bilinear<\/SamplingMethod><\/ImageServiceProperties><\/ImageServer>",
"allowedFields": "Name,MinPS,MaxPS,LowPS,HighPS,Tag,GroupName,ProductName,CenterX,CenterY,ZOrder,Shape_Length,Shape_Area,DateBegin,DateEnd,DatIntBegin,DateIntEnd",
"hasMultidimensions": false,
"timeInfo": {
"startTimeField": "DateBegin",
"endTimeField": "DateEnd",
"timeExtent": [
674870400000,
1525996800000
],
"timeReference": null,
"defaultTimeInterval": 2,
"defaultTimeIntervalUnits": "esriTimeUnitsYears"
},
"pixelSizeX": 0.07499999999992563,
"pixelSizeY": 0.07499999999992564,
"meanPixelSize": 0.07499999999992563,
"datasetFormat": "AMD",
"uncompressedSize": 74070217951380,
"blockWidth": 2048,
"blockHeight": 256,
"compressionType": "None",
"bandNames": [
"Red",
"Green",
"Blue",
"Infrared"
],
"allowCopy": true,
"allowAnalysis": true,
"itemAccess": false,
"inspectionCapabilities": "",
"noDataValue": 256,
"noDataValues": [
256,
256,
256,
256
],
"minPixelSize": 0,
"maxPixelSize": 0,
"copyrightText": "Maine GeoLibrary",
"serviceDataType": "esriImageServiceDataTypeProcessed",
"serviceSourceType": "esriImageServiceSourceTypeMosaicDataset",
"objectIdField": "OBJECTID",
"fields": [
{
"name": "OBJECTID",
"type": "esriFieldTypeOID",
"alias": "OBJECTID",
"domain": null
},
{
"name": "Shape",
"type": "esriFieldTypeGeometry",
"alias": "Shape",
"domain": null
},
{
"name": "Name",
"type": "esriFieldTypeString",
"alias": "Name",
"domain": null,
"length": 200
},
{
"name": "MinPS",
"type": "esriFieldTypeDouble",
"alias": "MinPS",
"domain": null
},
{
"name": "MaxPS",
"type": "esriFieldTypeDouble",
"alias": "MaxPS",
"domain": null
},
{
"name": "LowPS",
"type": "esriFieldTypeDouble",
"alias": "LowPS",
"domain": null
},
{
"name": "HighPS",
"type": "esriFieldTypeDouble",
"alias": "HighPS",
"domain": null
},
{
"name": "Category",
"type": "esriFieldTypeInteger",
"alias": "Category",
"domain": {
"type": "codedValue",
"name": "MosaicCatalogItemCategoryDomain",
"description": "Catalog item categories.",
"codedValues": [
{
"name": "Unknown",
"code": 0
},
{
"name": "Primary",
"code": 1
},
{
"name": "Overview",
"code": 2
},
{
"name": "Unprocessed Overview",
"code": 3
},
{
"name": "Partial Overview",
"code": 4
},
{
"name": "Inactive",
"code": 5
},
{
"name": "Uploaded",
"code": 253
},
{
"name": "Incomplete",
"code": 254
},
{
"name": "Custom",
"code": 255
}
],
"mergePolicy": "esriMPTDefaultValue",
"splitPolicy": "esriSPTDefaultValue"
}
},
{
"name": "Tag",
"type": "esriFieldTypeString",
"alias": "Tag",
"domain": null,
"length": 100
},
{
"name": "GroupName",
"type": "esriFieldTypeString",
"alias": "GroupName",
"domain": null,
"length": 100
},
{
"name": "ProductName",
"type": "esriFieldTypeString",
"alias": "ProductName",
"domain": null,
"length": 100
},
{
"name": "CenterX",
"type": "esriFieldTypeDouble",
"alias": "CenterX",
"domain": null
},
{
"name": "CenterY",
"type": "esriFieldTypeDouble",
"alias": "CenterY",
"domain": null
},
{
"name": "ZOrder",
"type": "esriFieldTypeInteger",
"alias": "ZOrder",
"domain": null
},
{
"name": "Shape_Length",
"type": "esriFieldTypeDouble",
"alias": "Shape_Length",
"domain": null
},
{
"name": "Shape_Area",
"type": "esriFieldTypeDouble",
"alias": "Shape_Area",
"domain": null
},
{
"name": "DateBegin",
"type": "esriFieldTypeDate",
"alias": "DateBegin",
"domain": null,
"length": 8
},
{
"name": "DateEnd",
"type": "esriFieldTypeDate",
"alias": "DateEnd",
"domain": null,
"length": 8
},
{
"name": "DatIntBegin",
"type": "esriFieldTypeSmallInteger",
"alias": "DatIntBegin",
"domain": null
},
{
"name": "DateIntEnd",
"type": "esriFieldTypeSmallInteger",
"alias": "DateIntEnd",
"domain": null
}
],
"capabilities": "Catalog,Mensuration,Image,Metadata",
"defaultMosaicMethod": "Northwest",
"allowedMosaicMethods": "NorthWest,Center,ByAttribute,Nadir,Viewpoint",
"sortField": "",
"sortValue": null,
"sortAscending": true,
"mosaicOperator": "First",
"maxDownloadSizeLimit": 2048,
"defaultCompressionQuality": 87,
"defaultResamplingMethod": "Bilinear",
"maxImageHeight": 4100,
"maxImageWidth": 15000,
"maxRecordCount": 1000,
"maxDownloadImageCount": 20,
"maxMosaicImageCount": 20,
"allowRasterFunction": true,
"rasterFunctionInfos": [
{
"name": "None",
"description": "A No-Op Function.",
"help": ""
}
],
"rasterTypeInfos": [
{
"name": "Raster Dataset",
"description": "Supports all ArcGIS Raster Datasets",
"help": ""
}
],
"mensurationCapabilities": "Basic",
"hasHistograms": true,
"hasColormap": false,
"hasRasterAttributeTable": false,
"minScale": 0,
"maxScale": 0,
"exportTilesAllowed": false,
"supportsStatistics": true,
"supportsAdvancedQueries": true,
"editFieldsInfo": null,
"ownershipBasedAccessControlForRasters": null,
"allowComputeTiePoints": false,
"useStandardizedQueries": true,
"advancedQueryCapabilities": {
"useStandardizedQueries": true,
"supportsStatistics": true,
"supportsOrderBy": true,
"supportsDistinct": true,
"supportsPagination": true
},
"spatialReference": {
"wkid": 26919,
"latestWkid": 26919,
"vcsWkid": 5703,
"latestVcsWkid": 5703
},
"resampling": false
}