<?xml version="1.0" encoding="UTF-8" standalone="no"?>
<metadata xml:lang="en">
<Esri>
<CreaDate>20180627</CreaDate>
<CreaTime>11580700</CreaTime>
<ArcGISFormat>1.0</ArcGISFormat>
<ArcGISstyle>FGDC CSDGM Metadata</ArcGISstyle>
<SyncOnce>FALSE</SyncOnce>
<DataProperties>
<lineage>
<Process Date="20180627" Name="" Time="115807" ToolSource="c:\program files (x86)\arcgis\desktop10.4\ArcToolbox\Toolboxes\Data Management Tools.tbx\CreateMosaicDataset" export="">CreateMosaicDataset \\stgisdataprd001.file.core.windows.net\gisprd1gisdata\svcFgdb\megis\orthoMunicipal.gdb orthoMunicipalBarHarbor2004 "PROJCS['NAD_1983_StatePlane_Maine_East_FIPS_1801',GEOGCS['GCS_North_American_1983',DATUM['D_North_American_1983',SPHEROID['GRS_1980',6378137.0,298.257222101]],PRIMEM['Greenwich',0.0],UNIT['Degree',0.0174532925199433]],PROJECTION['Transverse_Mercator'],PARAMETER['False_Easting',300000.0],PARAMETER['False_Northing',0.0],PARAMETER['Central_Meridian',-68.5],PARAMETER['Scale_Factor',0.9999],PARAMETER['Latitude_Of_Origin',43.66666666666666],UNIT['Meter',1.0]],VERTCS['NAVD_1988',VDATUM['North_American_Vertical_Datum_1988'],PARAMETER['Vertical_Shift',0.0],PARAMETER['Direction',1.0],UNIT['Meter',1.0]];-5322600 -14837400 10000;-100000 10000;-100000 10000;0.001;0.001;0.001;IsHighPrecision" 1 8_BIT_UNSIGNED NONE #</Process>
<Process Date="20180627" Name="" Time="120007" ToolSource="c:\program files (x86)\arcgis\desktop10.4\ArcToolbox\Toolboxes\Data Management Tools.tbx\AddRastersToMosaicDataset" export="">AddRastersToMosaicDataset \\stgisdataprd001.file.core.windows.net\gisprd1gisdata\svcFgdb\megis\orthoMunicipal.gdb\orthoMunicipalBarHarbor2004 "Raster Dataset" \\oit-teaqfstier2.emc.state.me.us\gisdata\megis\ras\bar_harbor_04\tiles UPDATE_CELL_SIZES UPDATE_BOUNDARY UPDATE_OVERVIEWS # 0 1500 "PROJCS['NAD_1983_StatePlane_Maine_East_FIPS_1801',GEOGCS['GCS_North_American_1983',DATUM['D_North_American_1983',SPHEROID['GRS_1980',6378137.0,298.257222101]],PRIMEM['Greenwich',0.0],UNIT['Degree',0.0174532925199433]],PROJECTION['Transverse_Mercator'],PARAMETER['False_Easting',300000.0],PARAMETER['False_Northing',0.0],PARAMETER['Central_Meridian',-68.5],PARAMETER['Scale_Factor',0.9999],PARAMETER['Latitude_Of_Origin',43.66666666666666],UNIT['Meter',1.0]];-5322600 -14837400 10000;-100000 10000;-100000 10000;0.001;0.001;0.001;IsHighPrecision" # SUBFOLDERS ALLOW_DUPLICATES BUILD_PYRAMIDS CALCULATE_STATISTICS NO_THUMBNAILS # NO_FORCE_SPATIAL_REFERENCE ESTIMATE_STATISTICS #</Process>
<Process Date="20180628" Name="" Time="125043" ToolSource="c:\program files (x86)\arcgis\desktop10.4\ArcToolbox\Toolboxes\Data Management Tools.tbx\AnalyzeMosaicDataset" export="">AnalyzeMosaicDataset \\stgisdataprd001.file.core.windows.net\gisprd1gisdata\svcFgdb\megis\orthoMunicipal.gdb\orthoMunicipalBarHarbor2004 # FOOTPRINT;FUNCTION;RASTER;PATHS</Process>
<Process Date="20180719" Name="" Time="114509" ToolSource="c:\program files\arcgis\pro\Resources\ArcToolbox\toolboxes\Data Management Tools.tbx\BuildPyramidsandStatistics" export="">BuildPyramidsandStatistics \\stgisdataprd001.file.core.windows.net\gisprd1gisdata\svcFgdb\megis\orthoMunicipal.gdb\orthoMunicipalBarHarbor2004 # BUILD_PYRAMIDS CALCULATE_STATISTICS BUILD_ON_SOURCE # # 1 1 # -1 NONE Bilinear "LZ77 Compression" 75 OVERWRITE #</Process>
</lineage>
<itemProps>
<itemName Sync="TRUE">orthoMunicipalBarHarbor2004</itemName>
<itemLocation>
<linkage Sync="TRUE">file://\\stgisdataprd001.file.core.windows.net\gisprd1gisdata\svcFgdb\megis\orthoMunicipal.gdb</linkage>
<protocol Sync="TRUE">Local Area Network</protocol>
</itemLocation>
<nativeExtBox>
<westBL Sync="TRUE">307147.200000</westBL>
<eastBL Sync="TRUE">327264.300000</eastBL>
<southBL Sync="TRUE">70774.200000</southBL>
<northBL Sync="TRUE">86624.400000</northBL>
<exTypeCode Sync="TRUE">1</exTypeCode>
</nativeExtBox>
</itemProps>
<coordRef>
<type Sync="TRUE">Projected</type>
<geogcsn Sync="TRUE">GCS_North_American_1983</geogcsn>
<csUnits Sync="TRUE">Linear Unit: Meter (1.000000)</csUnits>
<projcsn Sync="TRUE">NAD_1983_StatePlane_Maine_East_FIPS_1801</projcsn>
<peXml Sync="TRUE">&lt;ProjectedCoordinateSystem xsi:type='typens:ProjectedCoordinateSystem' xmlns:xsi='http://www.w3.org/2001/XMLSchema-instance' xmlns:xs='http://www.w3.org/2001/XMLSchema' xmlns:typens='http://www.esri.com/schemas/ArcGIS/10.6'&gt;&lt;WKT&gt;PROJCS[&amp;quot;NAD_1983_StatePlane_Maine_East_FIPS_1801&amp;quot;,GEOGCS[&amp;quot;GCS_North_American_1983&amp;quot;,DATUM[&amp;quot;D_North_American_1983&amp;quot;,SPHEROID[&amp;quot;GRS_1980&amp;quot;,6378137.0,298.257222101]],PRIMEM[&amp;quot;Greenwich&amp;quot;,0.0],UNIT[&amp;quot;Degree&amp;quot;,0.0174532925199433]],PROJECTION[&amp;quot;Transverse_Mercator&amp;quot;],PARAMETER[&amp;quot;False_Easting&amp;quot;,300000.0],PARAMETER[&amp;quot;False_Northing&amp;quot;,0.0],PARAMETER[&amp;quot;Central_Meridian&amp;quot;,-68.5],PARAMETER[&amp;quot;Scale_Factor&amp;quot;,0.9999],PARAMETER[&amp;quot;Latitude_Of_Origin&amp;quot;,43.66666666666666],UNIT[&amp;quot;Meter&amp;quot;,1.0]],VERTCS[&amp;quot;NAVD_1988&amp;quot;,VDATUM[&amp;quot;North_American_Vertical_Datum_1988&amp;quot;],PARAMETER[&amp;quot;Vertical_Shift&amp;quot;,0.0],PARAMETER[&amp;quot;Direction&amp;quot;,1.0],UNIT[&amp;quot;Meter&amp;quot;,1.0]]&lt;/WKT&gt;&lt;XOrigin&gt;-5322600&lt;/XOrigin&gt;&lt;YOrigin&gt;-14837400&lt;/YOrigin&gt;&lt;XYScale&gt;450310428.58990461&lt;/XYScale&gt;&lt;ZOrigin&gt;-100000&lt;/ZOrigin&gt;&lt;ZScale&gt;10000&lt;/ZScale&gt;&lt;MOrigin&gt;-100000&lt;/MOrigin&gt;&lt;MScale&gt;10000&lt;/MScale&gt;&lt;XYTolerance&gt;0.001&lt;/XYTolerance&gt;&lt;ZTolerance&gt;0.001&lt;/ZTolerance&gt;&lt;MTolerance&gt;0.001&lt;/MTolerance&gt;&lt;HighPrecision&gt;true&lt;/HighPrecision&gt;&lt;WKID&gt;26983&lt;/WKID&gt;&lt;LatestWKID&gt;26983&lt;/LatestWKID&gt;&lt;VCSWKID&gt;5703&lt;/VCSWKID&gt;&lt;LatestVCSWKID&gt;5703&lt;/LatestVCSWKID&gt;&lt;/ProjectedCoordinateSystem&gt;</peXml>
</coordRef>
<RasterProperties>
<General>
<PixelDepth Sync="TRUE">8</PixelDepth>
<HasColormap Sync="TRUE">FALSE</HasColormap>
<CompressionType Sync="TRUE">None</CompressionType>
<NumBands Sync="TRUE">1</NumBands>
<Format Sync="TRUE">AMD</Format>
<HasPyramids Sync="TRUE">TRUE</HasPyramids>
<SourceType Sync="TRUE">continuous</SourceType>
<PixelType Sync="TRUE">unsigned integer</PixelType>
<NoDataValue Sync="TRUE"/>
</General>
<Properties>
<MaxImageHeight Sync="TRUE">4100</MaxImageHeight>
<MaxImageWidth Sync="TRUE">15000</MaxImageWidth>
<MaxRecordCount Sync="TRUE">1000</MaxRecordCount>
<MaxDownloadImageCount Sync="TRUE">20</MaxDownloadImageCount>
<MaxDownloadSizeLimit Sync="TRUE">2048</MaxDownloadSizeLimit>
<MaxMosaicImageCount Sync="TRUE">20</MaxMosaicImageCount>
<DefaultCompressionQuality Sync="TRUE">87</DefaultCompressionQuality>
<DefaultCompressionTolerance Sync="TRUE">0.01</DefaultCompressionTolerance>
<BlendWidth Sync="TRUE">10</BlendWidth>
<ViewpointSpacingX Sync="TRUE">600</ViewpointSpacingX>
<ViewpointSpacingY Sync="TRUE">300</ViewpointSpacingY>
<AllowedItemMetadata Sync="TRUE">Basic</AllowedItemMetadata>
<DefaultResamplingMethod Sync="TRUE">1</DefaultResamplingMethod>
<AllowedMosaicMethods Sync="TRUE">NorthWest,Center,ByAttribute,Nadir,Viewpoint,None</AllowedMosaicMethods>
<AllowedCompressions Sync="TRUE">LZ77,None,JPEG,LERC</AllowedCompressions>
<AllowedMensurationCapabilities Sync="TRUE">Basic</AllowedMensurationCapabilities>
<AvailableMensurationCapabilities Sync="TRUE">None,Basic,Base-Top Height,Top-Top Shadow Height,Base-Top Shadow Height,3D</AvailableMensurationCapabilities>
<ClipToBoundary Sync="TRUE">-1</ClipToBoundary>
<FootprintMayContainNoData Sync="TRUE">-1</FootprintMayContainNoData>
<CellSizeTolerance Sync="TRUE">0.8</CellSizeTolerance>
<MinimumPixelContribution Sync="TRUE">1</MinimumPixelContribution>
<AvailableMosaicMethods Sync="TRUE">NorthWest,Center,LockRaster,ByAttribute,Nadir,Viewpoint,Seamline,None</AvailableMosaicMethods>
<AvailableCompressionMethods Sync="TRUE">None,JPEG,LZ77,LERC</AvailableCompressionMethods>
<AvailableItemMetadataLevels Sync="TRUE">None,Basic,Full</AvailableItemMetadataLevels>
<ConfigKeyword Sync="TRUE"/>
<BandDefinitionKeyword Sync="TRUE">NONE</BandDefinitionKeyword>
<AllowedFields Sync="TRUE">Name,MinPS,MaxPS,LowPS,HighPS,Tag,GroupName,ProductName,CenterX,CenterY,ZOrder,Shape_Length,Shape_Area,Date,DateInt</AllowedFields>
<MaxCellSize Sync="TRUE">7290.00000000002</MaxCellSize>
<LowCellSize Sync="TRUE">0.149999999999994</LowCellSize>
<HighCellSize Sync="TRUE">145.8</HighCellSize>
<AvailableFields Sync="TRUE">Name,MinPS,MaxPS,LowPS,HighPS,Tag,GroupName,ProductName,CenterX,CenterY,ZOrder,Shape_Length,Shape_Area,Date,DateInt</AvailableFields>
<SortableFields Sync="TRUE">MinPS,MaxPS,LowPS,HighPS,CenterX,CenterY,ZOrder,Shape_Length,Shape_Area,Date,DateInt</SortableFields>
<SortAscending Sync="TRUE">-1</SortAscending>
<MosaicOperator Sync="TRUE">1</MosaicOperator>
<BlendWidthUnits Sync="TRUE">1</BlendWidthUnits>
<ClipToFootprint Sync="TRUE">0</ClipToFootprint>
<ClipOverviewsToFootprint Sync="TRUE">0</ClipOverviewsToFootprint>
<HasDodgingTable Sync="TRUE">0</HasDodgingTable>
<ApplyColorCorrection Sync="TRUE">0</ApplyColorCorrection>
<UseTime Sync="TRUE">-1</UseTime>
<StartTimeFieldName Sync="TRUE">Date</StartTimeFieldName>
<EndTimeFieldName Sync="TRUE">Date</EndTimeFieldName>
<TimeValueFormat Sync="TRUE">YYYY-MM-DD</TimeValueFormat>
<UseRange Sync="TRUE">0</UseRange>
<TimeInterval Sync="TRUE">2</TimeInterval>
<TimeIntervalUnits Sync="TRUE">Days</TimeIntervalUnits>
<SortField Sync="TRUE">MinPS</SortField>
<SortValue Sync="TRUE"/>
</Properties>
<Functions Sync="TRUE">
<Function Description="Performs on-the-fly mosaic on a raster catalog." Name="Mosaic Function"/>
</Functions>
</RasterProperties>
</DataProperties>
<SyncDate>20190807</SyncDate>
<SyncTime>08293100</SyncTime>
<ModDate>20190807</ModDate>
<ModTime>08293100</ModTime>
<scaleRange>
<minScale>150000000</minScale>
<maxScale>5000</maxScale>
</scaleRange>
<ArcGISProfile>FGDC</ArcGISProfile>
</Esri>
<mdLang>
<languageCode value="eng"/>
<countryCode Sync="TRUE" value="USA"/>
</mdLang>
<mdChar>
<CharSetCd value="004"/>
</mdChar>
<mdHrLv>
<ScopeCd value="005"/>
</mdHrLv>
<mdContact>
<rpIndName>GIS Manager</rpIndName>
<rpOrgName>Maine Office of Geographic Information Systems</rpOrgName>
<rpCntInfo>
<cntPhone>
<voiceNum>(207) 624-7700</voiceNum>
<faxNum>(207) 287-3842</faxNum>
</cntPhone>
<cntAddress addressType="postal">
<delPoint>State House Station 174</delPoint>
<city>Augusta</city>
<adminArea>ME</adminArea>
<postCode>04333</postCode>
<country>US</country>
</cntAddress>
<cntHours>Monday through Friday 0800 - 1700 EST</cntHours>
</rpCntInfo>
<role>
<RoleCd value="007"/>
</role>
</mdContact>
<mdDateSt Sync="TRUE">20190807</mdDateSt>
<mdStanName>ArcGIS Metadata</mdStanName>
<mdStanVer>1.0</mdStanVer>
<distInfo>
<distributor>
<distorCont>
<rpOrgName>Maine Office of Geographic Information Systems</rpOrgName>
<rpPosName>GIS Coordinator</rpPosName>
<rpCntInfo>
<cntPhone>
<voiceNum>(207) 624-7700</voiceNum>
<faxNum>(207) 287-3842</faxNum>
</cntPhone>
<cntAddress addressType="postal">
<delPoint>State House Station 174</delPoint>
<city>Augusta</city>
<adminArea>ME</adminArea>
<postCode>04333-0174</postCode>
<country>US</country>
</cntAddress>
<cntHours>Monday through Friday 0800 - 1700 EST</cntHours>
</rpCntInfo>
<role>
<RoleCd value="005"/>
</role>
</distorCont>
<distorOrdPrc>
<resFees>None</resFees>
<ordInstr>http://www.maine.gov/geolib/wms.htm</ordInstr>
</distorOrdPrc>
<distorFormat>
<formatName>WMS</formatName>
<formatVer>1.1</formatVer>
<formatSpec>OpenGIS (OGC) Web Map Service (WMS)</formatSpec>
</distorFormat>
</distributor>
</distInfo>
<dataIdInfo>
<idCitation>
<resTitle Sync="TRUE">orthoMunicipalBarHarbor2004</resTitle>
<date>
<pubDate>2004-01-01</pubDate>
</date>
<citRespParty>
<rpOrgName>KAPPA Mapping Inc</rpOrgName>
<role>
<RoleCd value="006"/>
</role>
</citRespParty>
<citRespParty>
<rpOrgName>Maine Office of Geographic Information Systems (MEGIS)</rpOrgName>
<rpCntInfo>
<cntAddress>
<delPoint>Augusta ME</delPoint>
</cntAddress>
</rpCntInfo>
<role>
<RoleCd value="010"/>
</role>
</citRespParty>
<presForm>
<PresFormCd Sync="TRUE" value="005"/>
</presForm>
</idCitation>
<idAbs>&lt;DIV STYLE="text-align:Left;"&gt;&lt;DIV&gt;&lt;DIV&gt;&lt;P&gt;&lt;SPAN&gt;2004 black-and-white aerial orthophotos at a resolution of 6 inch and 1 foot for Bar Harbor, Maine and some adjacent areas&lt;/SPAN&gt;&lt;/P&gt;&lt;/DIV&gt;&lt;/DIV&gt;&lt;/DIV&gt;</idAbs>
<idPurp>Maine Orthoimagery Municipal Bar Harbor 2004</idPurp>
<idStatus>
<ProgCd value="001"/>
</idStatus>
<idPoC>
<rpIndName>Claire Kiedrowski, CP</rpIndName>
<rpOrgName>KAPPA Mapping Inc</rpOrgName>
<rpCntInfo>
<cntPhone>
<voiceNum>207-942-5200</voiceNum>
</cntPhone>
<cntAddress addressType="both">
<delPoint>6 State Street Suite 301</delPoint>
<city>Bangor</city>
<adminArea>ME</adminArea>
<postCode>04401</postCode>
<eMailAdd>info@kappamap.com</eMailAdd>
</cntAddress>
</rpCntInfo>
<role>
<RoleCd value="007"/>
</role>
</idPoC>
<resMaint>
<maintFreq>
<MaintFreqCd value="011"/>
</maintFreq>
</resMaint>
<placeKeys>
<thesaName>
<resTitle>Maine GIS Thesaurus-Place</resTitle>
</thesaName>
<keyword>United States</keyword>
<keyword>Maine</keyword>
</placeKeys>
<stratKeys>
<thesaName>
<resTitle>GCMD Parameter Keyword</resTitle>
</thesaName>
<keyword>land surface</keyword>
</stratKeys>
<themeKeys>
<thesaName>
<resTitle>Maine GIS Thesaurus-Theme</resTitle>
</thesaName>
<keyword>aerial photograph</keyword>
<keyword>image</keyword>
</themeKeys>
<themeKeys>
<keyword>imageryBaseMapsEarthCover</keyword>
<keyword>aerial photograph</keyword>
<keyword>image</keyword>
</themeKeys>
<searchKeys>
<keyword>imageryBaseMapsEarthCover</keyword>
<keyword>ortho</keyword>
<keyword>orthoimagery</keyword>
<keyword>orthophotography</keyword>
<keyword>GeoLibrary</keyword>
<keyword>Maine</keyword>
<keyword>MaineGeoLibrary</keyword>
<keyword>MaineGIS</keyword>
<keyword>municipal</keyword>
<keyword>Bar Harbor</keyword>
<keyword>2004</keyword>
</searchKeys>
<resConst>
<LegConsts>
<useLimit>Users must assume responsibility to determine the usability of this data for their purposes.</useLimit>
</LegConsts>
</resConst>
<dataLang>
<languageCode value="eng"/>
<countryCode Sync="TRUE" value="USA"/>
</dataLang>
<envirDesc Sync="TRUE"> Version 6.2 (Build 9200) ; Esri ArcGIS 10.6.1.9273</envirDesc>
<dataExt>
<exDesc>ground condition</exDesc>
<tempEle>
<TempExtent>
<exTemp>
<TM_Instant>
<tmPosition time="unknown">2004-05-01</tmPosition>
</TM_Instant>
</exTemp>
</TempExtent>
</tempEle>
</dataExt>
<dataExt>
<geoEle>
<GeoBndBox>
<westBL>-68.42</westBL>
<eastBL>-68.16</eastBL>
<southBL>44.3</southBL>
<northBL>44.45</northBL>
</GeoBndBox>
</geoEle>
</dataExt>
<spatRpType>
<SpatRepTypCd Sync="TRUE" value="002"/>
</spatRpType>
<dataExt>
<geoEle>
<GeoBndBox esriExtentType="search">
<exTypeCode Sync="TRUE">1</exTypeCode>
<westBL Sync="TRUE">-68.410423</westBL>
<eastBL Sync="TRUE">-68.157463</eastBL>
<northBL Sync="TRUE">44.446313</northBL>
<southBL Sync="TRUE">44.303182</southBL>
</GeoBndBox>
</geoEle>
</dataExt>
<idCredit>Maine GeoLibrary</idCredit>
<resConst>
<Consts>
<useLimit>&lt;DIV STYLE="text-align:Left;"&gt;&lt;DIV&gt;&lt;DIV&gt;&lt;P&gt;&lt;SPAN&gt;Access: Public Use: User assumes risk.&lt;/SPAN&gt;&lt;/P&gt;&lt;/DIV&gt;&lt;/DIV&gt;&lt;/DIV&gt;</useLimit>
</Consts>
</resConst>
<tpCat>
<TopicCatCd value="010"/>
</tpCat>
</dataIdInfo>
<dqInfo>
<dqScope>
<scpLvl>
<ScopeCd value="005"/>
</scpLvl>
</dqScope>
<report dimension="horizontal" type="DQAbsExtPosAcc">
<measDesc>Consistent with national standards for 1' and 6" ground sample distance (GSD).</measDesc>
</report>
<dataLineage>
<prcStep>
<stepDesc>For the 1' orthos: Project Details This project consists of aerotriangulation of 6 strips of 1"=1200' photography over the entire town of Bar Harbor, Maine. An additional and 1 strip of 1"= 1500' photography was flown over Cadillac Mountain to ensure stereo coverage over the entire mountain. The final results are to be used to generate 1"=200' planimetric mapping of the rural town areas and to produce 1.0' resolution digital orthophotos for both the rural town areas. Photography A total of 6 flight lines of panchromatic aerial photography, 69 stereo photographs, were taken at an altitude of 7,200 feet above ground level. An additional flight line of 5 stereo photographs, were taken at an altitude of 9,000 feet above ground level. The photography was taken running from the northwest to the southeast generally paralleling the shoreline of the Atlantic Ocean. The photography was obtained in May 1, 2004 using a conventional 6" focal length lens, and airborne GPS (ABGPS). Control The ground control for this project consists of GPS surveyed targeted ground control. The targeted ground control was used to perform softcopy A/T that also used ABGPS data. Aerotriangulation Measurement Pass points and flight ties were pugged using a Wild PUG 3 device. The measurement of the pass point and control data was performed on a DSR-14 analytical stereo plotter using ABC software. The data exported from this process is the raw plate coordinates. Aerotriangulation Adjustment The adjustment of the raw coordinates received from DSR-14 and the ground control were adjusted using ALBANY software. All strips were ftrst run through a polynomial strip and block adjustment for the purpose of detecting blunders. The ftnal adjustment of the block was accomplished by using a rigorous simultaneous least squares bundle adjustment. For more information, contact: Claire Kiedrowski, CP KAPPA Mapping, Inc. 6 State Street, Suite 301 Bangor, ME 04401 Ph: 207-942-5200 E:</stepDesc>
<stepProc>
<rpIndName>Claire Kiedrowski, CP</rpIndName>
<rpOrgName>KAPPA Mapping Inc</rpOrgName>
<rpCntInfo>
<cntPhone>
<voiceNum>207-942-5200</voiceNum>
</cntPhone>
<cntAddress addressType="both">
<delPoint>6 State Street Suite 301</delPoint>
<city>Bangor</city>
<adminArea>ME</adminArea>
<postCode>04401</postCode>
<eMailAdd>info@kappamap.com</eMailAdd>
</cntAddress>
</rpCntInfo>
<role>
<RoleCd value="009"/>
</role>
</stepProc>
</prcStep>
<prcStep>
<stepDesc>For the 6" orthos, which are over the downtown Bar Harbor area: Project Details This project consists of aerotriangulation of 2 strips of 1"=600' photography over the downtown area of Bar Harbor, Maine. The final results are to be used to generate 1"=100' planimetric mapping of the downtown area and to produce O.5' resolution digital orthophotos. Photography A total of 2 flight lines of panchromatic aerial photography, 14 stereo photographs, were taken at an altitude of 3,600 feet above ground level. The photography was taken running from the northwest to the southeast generally paralleling the shoreline of the Atlantic Ocean. The photography was obtained in May 1, 2004 using a conventional 6" focal length lens, and airborne GPS (ABGPS). Control The ground control for this project consists of GPS surveyed targeted ground control. The targeted ground control was used to perform softcopy A/T that also used ABGPS data. The following is a list of the targeted ground control coordinates: Point ID Easting Northing Elevation 102 1062222.179 262061.361 45.574 103 1061600.889 264518.516 10.300 104 1056553.034 262865.785 156.661 105 1057454.261 259559.051 148.352 106 1060668.922 259005.939 87.022 107 1062175.633 255294.247 277.028 1101 1063863.023 253752.428 141.335 Aerotriangulation Measurement Pass points and flight ties were pugged using a Wild PU G 3 device. The measurement of the pass point and control data was performed on a DSR-14 analytical stereo plotter using ABC software. The data exported from this process is the raw plate coordinates. Aerotriangulation Adjustment The adjustment of the raw coordinates received from DSR-14 and the ground control were adjusted using ALBANY software. All strips were first run through a polynomial strip and block adjustment for the purpose of detecting blunders.</stepDesc>
<stepProc>
<rpIndName>Claire Kiedrowski, CP</rpIndName>
<rpOrgName>KAPPA Mapping Inc</rpOrgName>
<rpCntInfo>
<cntPhone>
<voiceNum>207-942-5200</voiceNum>
</cntPhone>
<cntAddress addressType="both">
<delPoint>6 State Street Suite 301</delPoint>
<city>Bangor</city>
<adminArea>ME</adminArea>
<postCode>04401</postCode>
<eMailAdd>info@kappamap.com</eMailAdd>
</cntAddress>
</rpCntInfo>
<role>
<RoleCd value="009"/>
</role>
</stepProc>
</prcStep>
</dataLineage>
</dqInfo>
<refSysInfo>
<RefSystem>
<refSysID>
<identCode Sync="TRUE" code="26983"/>
<idCodeSpace Sync="TRUE">EPSG</idCodeSpace>
<idVersion Sync="TRUE">6.16(3.0.1)</idVersion>
</refSysID>
</RefSystem>
</refSysInfo>
<spatRepInfo>
<Georect>
<cellGeo>
<CellGeoCd Sync="TRUE" value="002"/>
</cellGeo>
<numDims Sync="TRUE">2</numDims>
<tranParaAv Sync="TRUE">1</tranParaAv>
<chkPtAv Sync="TRUE">0</chkPtAv>
<cornerPts>
<pos Sync="TRUE">307147.200000 70774.200000</pos>
</cornerPts>
<cornerPts>
<pos Sync="TRUE">307147.200000 86624.400000</pos>
</cornerPts>
<cornerPts>
<pos Sync="TRUE">327264.300000 86624.400000</pos>
</cornerPts>
<cornerPts>
<pos Sync="TRUE">327264.300000 70774.200000</pos>
</cornerPts>
<centerPt>
<pos Sync="TRUE">317205.750000 78699.300000</pos>
</centerPt>
<axisDimension type="002">
<dimSize Sync="TRUE">134114</dimSize>
<dimResol>
<value Sync="TRUE" uom="m">0.150000</value>
</dimResol>
</axisDimension>
<axisDimension type="001">
<dimSize Sync="TRUE">105668</dimSize>
<dimResol>
<value Sync="TRUE" uom="m">0.150000</value>
</dimResol>
</axisDimension>
<ptInPixel>
<PixOrientCd Sync="TRUE" value="001"/>
</ptInPixel>
</Georect>
</spatRepInfo>
<contInfo>
<ImgDesc>
<contentTyp>
<ContentTypCd Sync="TRUE" value="001"/>
</contentTyp>
<covDim>
<Band>
<dimDescrp Sync="TRUE">Band_1</dimDescrp>
<maxVal Sync="TRUE">255.000000</maxVal>
<minVal Sync="TRUE">0.000000</minVal>
<bitsPerVal Sync="TRUE">8</bitsPerVal>
<valUnit>
<UOM type="length"/>
</valUnit>
</Band>
</covDim>
</ImgDesc>
</contInfo>
</metadata>
