<?xml version="1.0" encoding="UTF-8" standalone="no"?>
<metadata xml:lang="en">
<Esri>
<CreaDate>20180627</CreaDate>
<CreaTime>12334000</CreaTime>
<ArcGISFormat>1.0</ArcGISFormat>
<ArcGISstyle>FGDC CSDGM Metadata</ArcGISstyle>
<SyncOnce>FALSE</SyncOnce>
<DataProperties>
<lineage>
<Process Date="20180627" Name="" Time="123340" ToolSource="c:\program files (x86)\arcgis\desktop10.4\ArcToolbox\Toolboxes\Data Management Tools.tbx\CreateMosaicDataset" export="">CreateMosaicDataset \\stgisdataprd001.file.core.windows.net\gisprd1gisdata\svcFgdb\megis\orthoMunicipal.gdb orthoMunicipalBarHarbor2008 "PROJCS['NAD_1983_StatePlane_Maine_East_FIPS_1801',GEOGCS['GCS_North_American_1983',DATUM['D_North_American_1983',SPHEROID['GRS_1980',6378137.0,298.257222101]],PRIMEM['Greenwich',0.0],UNIT['Degree',0.0174532925199433]],PROJECTION['Transverse_Mercator'],PARAMETER['False_Easting',300000.0],PARAMETER['False_Northing',0.0],PARAMETER['Central_Meridian',-68.5],PARAMETER['Scale_Factor',0.9999],PARAMETER['Latitude_Of_Origin',43.66666666666666],UNIT['Meter',1.0]],VERTCS['NAVD_1988',VDATUM['North_American_Vertical_Datum_1988'],PARAMETER['Vertical_Shift',0.0],PARAMETER['Direction',1.0],UNIT['Meter',1.0]];-5322600 -14837400 10000;-100000 10000;-100000 10000;0.001;0.001;0.001;IsHighPrecision" 3 8_BIT_UNSIGNED NATURAL_COLOR_RGB "Red 630 690;Green 530 570;Blue 440 510"</Process>
<Process Date="20180627" Name="" Time="123554" ToolSource="c:\program files (x86)\arcgis\desktop10.4\ArcToolbox\Toolboxes\Data Management Tools.tbx\AddRastersToMosaicDataset" export="">AddRastersToMosaicDataset \\stgisdataprd001.file.core.windows.net\gisprd1gisdata\svcFgdb\megis\orthoMunicipal.gdb\orthoMunicipalBarHarbor2008 "Raster Dataset" \\oit-teaqfstier2.emc.state.me.us\gisdata\megis\ras\bar_harbor_08\tiles UPDATE_CELL_SIZES UPDATE_BOUNDARY UPDATE_OVERVIEWS # 0 1500 "PROJCS['NAD_1983_StatePlane_Maine_East_FIPS_1801',GEOGCS['GCS_North_American_1983',DATUM['D_North_American_1983',SPHEROID['GRS_1980',6378137.0,298.257222101]],PRIMEM['Greenwich',0.0],UNIT['Degree',0.0174532925199433]],PROJECTION['Transverse_Mercator'],PARAMETER['False_Easting',300000.0],PARAMETER['False_Northing',0.0],PARAMETER['Central_Meridian',-68.5],PARAMETER['Scale_Factor',0.9999],PARAMETER['Latitude_Of_Origin',43.66666666666666],UNIT['Meter',1.0]];-5322600 -14837400 10000;-100000 10000;-100000 10000;0.001;0.001;0.001;IsHighPrecision" # SUBFOLDERS ALLOW_DUPLICATES BUILD_PYRAMIDS CALCULATE_STATISTICS NO_THUMBNAILS # NO_FORCE_SPATIAL_REFERENCE NO_STATISTICS #</Process>
<Process Date="20180628" Name="" Time="125104" ToolSource="c:\program files (x86)\arcgis\desktop10.4\ArcToolbox\Toolboxes\Data Management Tools.tbx\AnalyzeMosaicDataset" export="">AnalyzeMosaicDataset \\stgisdataprd001.file.core.windows.net\gisprd1gisdata\svcFgdb\megis\orthoMunicipal.gdb\orthoMunicipalBarHarbor2008 # FOOTPRINT;FUNCTION;RASTER;PATHS</Process>
<Process Date="20180719" Name="" Time="120119" ToolSource="c:\program files\arcgis\pro\Resources\ArcToolbox\toolboxes\Data Management Tools.tbx\BuildPyramidsandStatistics" export="">BuildPyramidsandStatistics \\stgisdataprd001.file.core.windows.net\gisprd1gisdata\svcFgdb\megis\orthoMunicipal.gdb\orthoMunicipalBarHarbor2008 # BUILD_PYRAMIDS CALCULATE_STATISTICS BUILD_ON_SOURCE # # 1 1 # -1 NONE Bilinear "LZ77 Compression" 75 OVERWRITE #</Process>
</lineage>
<itemProps>
<itemName Sync="TRUE">orthoMunicipalBarHarbor2008</itemName>
<itemLocation>
<linkage Sync="TRUE">file://\\stgisdataprd001.file.core.windows.net\gisprd1gisdata\svcFgdb\megis\orthoMunicipal.gdb</linkage>
<protocol Sync="TRUE">Local Area Network</protocol>
</itemLocation>
<nativeExtBox>
<westBL Sync="TRUE">307147.200000</westBL>
<eastBL Sync="TRUE">327264.300000</eastBL>
<southBL Sync="TRUE">70774.200000</southBL>
<northBL Sync="TRUE">86624.400000</northBL>
<exTypeCode Sync="TRUE">1</exTypeCode>
</nativeExtBox>
</itemProps>
<coordRef>
<type Sync="TRUE">Projected</type>
<geogcsn Sync="TRUE">GCS_North_American_1983</geogcsn>
<csUnits Sync="TRUE">Linear Unit: Meter (1.000000)</csUnits>
<projcsn Sync="TRUE">NAD_1983_StatePlane_Maine_East_FIPS_1801</projcsn>
<peXml Sync="TRUE">&lt;ProjectedCoordinateSystem xsi:type='typens:ProjectedCoordinateSystem' xmlns:xsi='http://www.w3.org/2001/XMLSchema-instance' xmlns:xs='http://www.w3.org/2001/XMLSchema' xmlns:typens='http://www.esri.com/schemas/ArcGIS/10.6'&gt;&lt;WKT&gt;PROJCS[&amp;quot;NAD_1983_StatePlane_Maine_East_FIPS_1801&amp;quot;,GEOGCS[&amp;quot;GCS_North_American_1983&amp;quot;,DATUM[&amp;quot;D_North_American_1983&amp;quot;,SPHEROID[&amp;quot;GRS_1980&amp;quot;,6378137.0,298.257222101]],PRIMEM[&amp;quot;Greenwich&amp;quot;,0.0],UNIT[&amp;quot;Degree&amp;quot;,0.0174532925199433]],PROJECTION[&amp;quot;Transverse_Mercator&amp;quot;],PARAMETER[&amp;quot;False_Easting&amp;quot;,300000.0],PARAMETER[&amp;quot;False_Northing&amp;quot;,0.0],PARAMETER[&amp;quot;Central_Meridian&amp;quot;,-68.5],PARAMETER[&amp;quot;Scale_Factor&amp;quot;,0.9999],PARAMETER[&amp;quot;Latitude_Of_Origin&amp;quot;,43.66666666666666],UNIT[&amp;quot;Meter&amp;quot;,1.0]],VERTCS[&amp;quot;NAVD_1988&amp;quot;,VDATUM[&amp;quot;North_American_Vertical_Datum_1988&amp;quot;],PARAMETER[&amp;quot;Vertical_Shift&amp;quot;,0.0],PARAMETER[&amp;quot;Direction&amp;quot;,1.0],UNIT[&amp;quot;Meter&amp;quot;,1.0]]&lt;/WKT&gt;&lt;XOrigin&gt;-5322600&lt;/XOrigin&gt;&lt;YOrigin&gt;-14837400&lt;/YOrigin&gt;&lt;XYScale&gt;450310428.58990461&lt;/XYScale&gt;&lt;ZOrigin&gt;-100000&lt;/ZOrigin&gt;&lt;ZScale&gt;10000&lt;/ZScale&gt;&lt;MOrigin&gt;-100000&lt;/MOrigin&gt;&lt;MScale&gt;10000&lt;/MScale&gt;&lt;XYTolerance&gt;0.001&lt;/XYTolerance&gt;&lt;ZTolerance&gt;0.001&lt;/ZTolerance&gt;&lt;MTolerance&gt;0.001&lt;/MTolerance&gt;&lt;HighPrecision&gt;true&lt;/HighPrecision&gt;&lt;WKID&gt;26983&lt;/WKID&gt;&lt;LatestWKID&gt;26983&lt;/LatestWKID&gt;&lt;VCSWKID&gt;5703&lt;/VCSWKID&gt;&lt;LatestVCSWKID&gt;5703&lt;/LatestVCSWKID&gt;&lt;/ProjectedCoordinateSystem&gt;</peXml>
</coordRef>
<RasterProperties>
<General>
<PixelDepth Sync="TRUE">8</PixelDepth>
<HasColormap Sync="TRUE">FALSE</HasColormap>
<CompressionType Sync="TRUE">None</CompressionType>
<NumBands Sync="TRUE">3</NumBands>
<Format Sync="TRUE">AMD</Format>
<HasPyramids Sync="TRUE">TRUE</HasPyramids>
<SourceType Sync="TRUE">continuous</SourceType>
<PixelType Sync="TRUE">unsigned integer</PixelType>
<NoDataValue Sync="TRUE"/>
</General>
<Properties>
<MaxImageHeight Sync="TRUE">4100</MaxImageHeight>
<MaxImageWidth Sync="TRUE">15000</MaxImageWidth>
<MaxRecordCount Sync="TRUE">1000</MaxRecordCount>
<MaxDownloadImageCount Sync="TRUE">20</MaxDownloadImageCount>
<MaxDownloadSizeLimit Sync="TRUE">2048</MaxDownloadSizeLimit>
<MaxMosaicImageCount Sync="TRUE">20</MaxMosaicImageCount>
<DefaultCompressionQuality Sync="TRUE">87</DefaultCompressionQuality>
<DefaultCompressionTolerance Sync="TRUE">0.01</DefaultCompressionTolerance>
<BlendWidth Sync="TRUE">10</BlendWidth>
<ViewpointSpacingX Sync="TRUE">600</ViewpointSpacingX>
<ViewpointSpacingY Sync="TRUE">300</ViewpointSpacingY>
<AllowedItemMetadata Sync="TRUE">Basic</AllowedItemMetadata>
<DefaultResamplingMethod Sync="TRUE">1</DefaultResamplingMethod>
<AllowedMosaicMethods Sync="TRUE">NorthWest,Center,ByAttribute,Nadir,Viewpoint,None</AllowedMosaicMethods>
<AllowedCompressions Sync="TRUE">LZ77,None,JPEG,LERC</AllowedCompressions>
<AllowedMensurationCapabilities Sync="TRUE">Basic</AllowedMensurationCapabilities>
<AvailableMensurationCapabilities Sync="TRUE">None,Basic,Base-Top Height,Top-Top Shadow Height,Base-Top Shadow Height,3D</AvailableMensurationCapabilities>
<ClipToBoundary Sync="TRUE">-1</ClipToBoundary>
<FootprintMayContainNoData Sync="TRUE">-1</FootprintMayContainNoData>
<CellSizeTolerance Sync="TRUE">0.8</CellSizeTolerance>
<MinimumPixelContribution Sync="TRUE">1</MinimumPixelContribution>
<AvailableMosaicMethods Sync="TRUE">NorthWest,Center,LockRaster,ByAttribute,Nadir,Viewpoint,Seamline,None</AvailableMosaicMethods>
<AvailableCompressionMethods Sync="TRUE">None,JPEG,LZ77,LERC</AvailableCompressionMethods>
<AvailableItemMetadataLevels Sync="TRUE">None,Basic,Full</AvailableItemMetadataLevels>
<ConfigKeyword Sync="TRUE"/>
<BandDefinitionKeyword Sync="TRUE">NaturalColor</BandDefinitionKeyword>
<AllowedFields Sync="TRUE">Name,MinPS,MaxPS,LowPS,HighPS,Tag,GroupName,ProductName,CenterX,CenterY,ZOrder,Shape_Length,Shape_Area,Date,DateInt</AllowedFields>
<MaxCellSize Sync="TRUE">7290.00000000002</MaxCellSize>
<LowCellSize Sync="TRUE">0.149999999999996</LowCellSize>
<HighCellSize Sync="TRUE">145.8</HighCellSize>
<AvailableFields Sync="TRUE">Name,MinPS,MaxPS,LowPS,HighPS,Tag,GroupName,ProductName,CenterX,CenterY,ZOrder,Shape_Length,Shape_Area,Date,DateInt</AvailableFields>
<SortableFields Sync="TRUE">MinPS,MaxPS,LowPS,HighPS,CenterX,CenterY,ZOrder,Shape_Length,Shape_Area,Date,DateInt</SortableFields>
<SortAscending Sync="TRUE">-1</SortAscending>
<MosaicOperator Sync="TRUE">1</MosaicOperator>
<BlendWidthUnits Sync="TRUE">1</BlendWidthUnits>
<ClipToFootprint Sync="TRUE">0</ClipToFootprint>
<ClipOverviewsToFootprint Sync="TRUE">0</ClipOverviewsToFootprint>
<HasDodgingTable Sync="TRUE">0</HasDodgingTable>
<ApplyColorCorrection Sync="TRUE">0</ApplyColorCorrection>
<UseTime Sync="TRUE">-1</UseTime>
<StartTimeFieldName Sync="TRUE">Date</StartTimeFieldName>
<EndTimeFieldName Sync="TRUE">Date</EndTimeFieldName>
<TimeValueFormat Sync="TRUE">YYYY-MM-DD</TimeValueFormat>
<UseRange Sync="TRUE">0</UseRange>
<TimeInterval Sync="TRUE">2</TimeInterval>
<TimeIntervalUnits Sync="TRUE">Days</TimeIntervalUnits>
<SortField Sync="TRUE">MinPS</SortField>
<SortValue Sync="TRUE"/>
</Properties>
<Functions Sync="TRUE">
<Function Description="Performs on-the-fly mosaic on a raster catalog." Name="Mosaic Function"/>
</Functions>
</RasterProperties>
</DataProperties>
<SyncDate>20190807</SyncDate>
<SyncTime>08294400</SyncTime>
<ModDate>20190807</ModDate>
<ModTime>08294400</ModTime>
<scaleRange>
<minScale>150000000</minScale>
<maxScale>5000</maxScale>
</scaleRange>
<ArcGISProfile>FGDC</ArcGISProfile>
</Esri>
<mdLang>
<languageCode value="eng"/>
<countryCode Sync="TRUE" value="USA"/>
</mdLang>
<mdChar>
<CharSetCd value="004"/>
</mdChar>
<mdHrLv>
<ScopeCd value="005"/>
</mdHrLv>
<mdContact>
<rpIndName>Mike Smith</rpIndName>
<rpOrgName>Maine Office of Geographic Information Systems</rpOrgName>
<rpPosName>GIS Manager</rpPosName>
<rpCntInfo>
<cntPhone>
<voiceNum>(207) 624-7700</voiceNum>
<faxNum>(207) 287-3842</faxNum>
</cntPhone>
<cntAddress addressType="postal">
<delPoint>State House Station 174</delPoint>
<city>Augusta</city>
<adminArea>ME</adminArea>
<postCode>04333</postCode>
<country>US</country>
<eMailAdd>michael.smith@maine.gov</eMailAdd>
</cntAddress>
<cntHours>Monday through Friday 0800 - 1700 EST</cntHours>
</rpCntInfo>
<role>
<RoleCd value="007"/>
</role>
</mdContact>
<mdDateSt Sync="TRUE">20190807</mdDateSt>
<mdStanName>ArcGIS Metadata</mdStanName>
<mdStanVer>1.0</mdStanVer>
<distInfo>
<distributor>
<distorCont>
<rpOrgName>Maine Office of Geographic Information Systems</rpOrgName>
<rpPosName>GIS Coordinator</rpPosName>
<rpCntInfo>
<cntPhone>
<voiceNum>(207) 624-7700</voiceNum>
<faxNum>(207) 287-3842</faxNum>
</cntPhone>
<cntAddress addressType="postal">
<delPoint>State House Station 174</delPoint>
<city>Augusta</city>
<adminArea>ME</adminArea>
<postCode>04333-0174</postCode>
<country>US</country>
</cntAddress>
<cntHours>Monday through Friday 0800 - 1700 EST</cntHours>
</rpCntInfo>
<role>
<RoleCd value="005"/>
</role>
</distorCont>
<distorOrdPrc>
<resFees>None</resFees>
<ordInstr>http://www.maine.gov/geolib/wms.htm</ordInstr>
</distorOrdPrc>
<distorFormat>
<formatName>WMS</formatName>
<formatVer>1.1</formatVer>
<formatSpec>OpenGIS (OGC) Web Map Service (WMS)</formatSpec>
</distorFormat>
</distributor>
</distInfo>
<dataIdInfo>
<idCitation>
<resTitle Sync="TRUE">orthoMunicipalBarHarbor2008</resTitle>
<date>
<pubDate>2008-01-01</pubDate>
</date>
<citRespParty>
<rpOrgName>KAPPA Mapping Inc</rpOrgName>
<role>
<RoleCd value="006"/>
</role>
</citRespParty>
<citRespParty>
<rpOrgName>Maine Office of Geographic Information Systems (MEGIS)</rpOrgName>
<rpCntInfo>
<cntAddress>
<delPoint>Augusta ME</delPoint>
</cntAddress>
</rpCntInfo>
<role>
<RoleCd value="010"/>
</role>
</citRespParty>
<presForm>
<PresFormCd Sync="TRUE" value="005"/>
</presForm>
</idCitation>
<idAbs>&lt;DIV STYLE="text-align:Left;"&gt;&lt;DIV&gt;&lt;DIV&gt;&lt;P&gt;&lt;SPAN&gt;2008 aerial orthophotos at a resolution of 1 foot for Bar Harbor, Maine and some adjacent areas.&lt;/SPAN&gt;&lt;/P&gt;&lt;/DIV&gt;&lt;/DIV&gt;&lt;/DIV&gt;</idAbs>
<idPurp>Maine Orthoimagery Municipal Bar Harbor 2008</idPurp>
<idStatus>
<ProgCd value="001"/>
</idStatus>
<idPoC>
<rpIndName>Claire Kiedrowski, CP</rpIndName>
<rpOrgName>KAPPA Mapping Inc</rpOrgName>
<rpCntInfo>
<cntPhone>
<voiceNum>207-942-5200</voiceNum>
</cntPhone>
<cntAddress addressType="both">
<delPoint>6 State Street Suite 301</delPoint>
<city>Bangor</city>
<adminArea>ME</adminArea>
<postCode>04401</postCode>
<eMailAdd>info@kappamap.com</eMailAdd>
</cntAddress>
</rpCntInfo>
<role>
<RoleCd value="007"/>
</role>
</idPoC>
<resMaint>
<maintFreq>
<MaintFreqCd value="011"/>
</maintFreq>
</resMaint>
<placeKeys>
<thesaName>
<resTitle>Maine GIS Thesaurus-Place</resTitle>
</thesaName>
<keyword>United States</keyword>
<keyword>Maine</keyword>
</placeKeys>
<stratKeys>
<thesaName>
<resTitle>GCMD Parameter Keyword</resTitle>
</thesaName>
<keyword>land surface</keyword>
</stratKeys>
<themeKeys>
<keyword>imageryBaseMapsEarthCover</keyword>
</themeKeys>
<searchKeys>
<keyword>imageryBaseMapsEarthCover</keyword>
<keyword>ortho</keyword>
<keyword>orthoimagery</keyword>
<keyword>orthophotography</keyword>
<keyword>GeoLibrary</keyword>
<keyword>Maine</keyword>
<keyword>MaineGeoLibrary</keyword>
<keyword>MaineGIS</keyword>
<keyword>municipal</keyword>
<keyword>Bar Harbor</keyword>
<keyword>2008</keyword>
</searchKeys>
<resConst>
<LegConsts>
<useLimit>Users must assume responsibility to determine the usability of this data for their purposes.</useLimit>
</LegConsts>
</resConst>
<dataLang>
<languageCode value="eng"/>
<countryCode Sync="TRUE" value="USA"/>
</dataLang>
<envirDesc Sync="TRUE"> Version 6.2 (Build 9200) ; Esri ArcGIS 10.6.1.9273</envirDesc>
<dataExt>
<exDesc>ground condition</exDesc>
<tempEle>
<TempExtent>
<exTemp>
<TM_Instant>
<tmPosition time="unknown">2008-04-19</tmPosition>
</TM_Instant>
</exTemp>
</TempExtent>
</tempEle>
</dataExt>
<dataExt>
<geoEle>
<GeoBndBox>
<westBL>-68.42</westBL>
<eastBL>-68.16</eastBL>
<southBL>44.3</southBL>
<northBL>44.45</northBL>
</GeoBndBox>
</geoEle>
</dataExt>
<spatRpType>
<SpatRepTypCd Sync="TRUE" value="002"/>
</spatRpType>
<dataExt>
<geoEle>
<GeoBndBox esriExtentType="search">
<exTypeCode Sync="TRUE">1</exTypeCode>
<westBL Sync="TRUE">-68.410423</westBL>
<eastBL Sync="TRUE">-68.157463</eastBL>
<northBL Sync="TRUE">44.446313</northBL>
<southBL Sync="TRUE">44.303182</southBL>
</GeoBndBox>
</geoEle>
</dataExt>
<idCredit>Maine GeoLibrary</idCredit>
<resConst>
<Consts>
<useLimit>&lt;DIV STYLE="text-align:Left;"&gt;&lt;DIV&gt;&lt;DIV&gt;&lt;P&gt;&lt;SPAN&gt;Access: Public Use: User assumes risk.&lt;/SPAN&gt;&lt;/P&gt;&lt;/DIV&gt;&lt;/DIV&gt;&lt;/DIV&gt;</useLimit>
</Consts>
</resConst>
<tpCat>
<TopicCatCd value="010"/>
</tpCat>
</dataIdInfo>
<dqInfo>
<dqScope>
<scpLvl>
<ScopeCd value="005"/>
</scpLvl>
</dqScope>
<report dimension="horizontal" type="DQAbsExtPosAcc">
<measDesc>Consistent with national standards for 1' ground sample distance (GSD).</measDesc>
</report>
<dataLineage>
<prcStep>
<stepDesc>Imagery for the Town of Bar Harbor was acquired on April 19, 2008 using a Z/I Digital Mapping Camera (DMC). This metric digital camera is capable of capturing true color, color infrared (CIR), and panchromatic (B&amp;W) imagery at the same time. Positioning of the image centers were also captured using Airborne GPS (AGPS). Imagery was captured for an output suitable for a 1' ground sample distance (GSD). Richard Crouse &amp; Associates of Frederick Maryland were selected to provide this service. The coordinate system is Maine State Plane Coordinate System, East Zone, and the horizontal datum is NAD83. Units are in US Survey Feet. The vertical datum is NAVD 88. Previous control points (from the 2004 aerial mapping project) were refreshed with new paint so that they would be visible for the 2008 imagery. The ground control was tied to the AGPS data. Pass, tie, and ground control points were measured using SoftPlotter 4.1. Albany software was used to aerotriangulate the data. Maximum residuals were less than 0.5 feet for X, Y, and Z. Digital Terrain Models (DTM) are a necessary component to create ortho-rectified imagery. In this case, the existing 5' contour interval DTM was used, which was photogrammetrically captured from the 2004 imagery. Digital orthophotographs (1.0' ground sample distance) were created from the aerial images, the camera calibration report, the aerotriangulation data, and the existing 2004 DTM. A cubic convolution algorithm was used to orthorectify each image (using SoftPlotter v4.1 software). Mosaicking was performed with INPHO OrthoVista 4.2 software. Mosaicking occurred along sharp linear features when possible and linear feathering was used to the blend the images. Previous stereo-compiled planimetric features were compared to the same orthophoto features to ensure proper alignment. Image color was enhanced slightly with Adobe PhotoShop' s image adjustment tools. This step improves visual appeal without affecting po</stepDesc>
</prcStep>
</dataLineage>
</dqInfo>
<refSysInfo>
<RefSystem>
<refSysID>
<identCode Sync="TRUE" code="26983"/>
<idCodeSpace Sync="TRUE">EPSG</idCodeSpace>
<idVersion Sync="TRUE">6.16(3.0.1)</idVersion>
</refSysID>
</RefSystem>
</refSysInfo>
<spatRepInfo>
<Georect>
<cellGeo>
<CellGeoCd Sync="TRUE" value="002"/>
</cellGeo>
<numDims Sync="TRUE">2</numDims>
<tranParaAv Sync="TRUE">1</tranParaAv>
<chkPtAv Sync="TRUE">0</chkPtAv>
<cornerPts>
<pos Sync="TRUE">307147.200000 70774.200000</pos>
</cornerPts>
<cornerPts>
<pos Sync="TRUE">307147.200000 86624.400000</pos>
</cornerPts>
<cornerPts>
<pos Sync="TRUE">327264.300000 86624.400000</pos>
</cornerPts>
<cornerPts>
<pos Sync="TRUE">327264.300000 70774.200000</pos>
</cornerPts>
<centerPt>
<pos Sync="TRUE">317205.750000 78699.300000</pos>
</centerPt>
<axisDimension type="002">
<dimSize Sync="TRUE">134114</dimSize>
<dimResol>
<value Sync="TRUE" uom="m">0.150000</value>
</dimResol>
</axisDimension>
<axisDimension type="001">
<dimSize Sync="TRUE">105668</dimSize>
<dimResol>
<value Sync="TRUE" uom="m">0.150000</value>
</dimResol>
</axisDimension>
<ptInPixel>
<PixOrientCd Sync="TRUE" value="001"/>
</ptInPixel>
</Georect>
</spatRepInfo>
<contInfo>
<ImgDesc>
<contentTyp>
<ContentTypCd Sync="TRUE" value="001"/>
</contentTyp>
<covDim>
<Band>
<dimDescrp Sync="TRUE">Red</dimDescrp>
<maxVal Sync="TRUE">255.000000</maxVal>
<minVal Sync="TRUE">0.000000</minVal>
<bitsPerVal Sync="TRUE">8</bitsPerVal>
<valUnit>
<UOM type="length"/>
</valUnit>
</Band>
<Band>
<dimDescrp Sync="TRUE">Green</dimDescrp>
<maxVal Sync="TRUE">255.000000</maxVal>
<minVal Sync="TRUE">0.000000</minVal>
<bitsPerVal Sync="TRUE">8</bitsPerVal>
<valUnit>
<UOM type="length"/>
</valUnit>
</Band>
<Band>
<dimDescrp Sync="TRUE">Blue</dimDescrp>
<maxVal Sync="TRUE">255.000000</maxVal>
<minVal Sync="TRUE">0.000000</minVal>
<bitsPerVal Sync="TRUE">8</bitsPerVal>
<valUnit>
<UOM type="length"/>
</valUnit>
</Band>
</covDim>
</ImgDesc>
</contInfo>
</metadata>
