<?xml version="1.0" encoding="UTF-8" standalone="no"?>
<metadata xml:lang="en">
<Esri>
<CreaDate>20181220</CreaDate>
<CreaTime>04355200</CreaTime>
<ArcGISFormat>1.0</ArcGISFormat>
<ArcGISstyle>FGDC CSDGM Metadata</ArcGISstyle>
<SyncOnce>FALSE</SyncOnce>
<DataProperties>
<lineage>
<Process Date="20181220" Name="" Time="043552" ToolSource="c:\program files (x86)\arcgis\desktop10.6\ArcToolbox\Toolboxes\Data Management Tools.tbx\CreateMosaicDataset" export="">CreateMosaicDataset \\stgisdataprd001.file.core.windows.net\gisprd1gisdata\svcFgdb\megis\orthoMunicipal.gdb orthoMunicipalFortFairfield2003 "PROJCS['WGS_1984_UTM_Zone_19N',GEOGCS['GCS_WGS_1984',DATUM['D_WGS_1984',SPHEROID['WGS_1984',6378137.0,298.257223563]],PRIMEM['Greenwich',0.0],UNIT['Degree',0.0174532925199433]],PROJECTION['Transverse_Mercator'],PARAMETER['False_Easting',500000.0],PARAMETER['False_Northing',0.0],PARAMETER['Central_Meridian',-69.0],PARAMETER['Scale_Factor',0.9996],PARAMETER['Latitude_Of_Origin',0.0],UNIT['Meter',1.0]];-5120900 -9998100 10000;-100000 10000;-100000 10000;0.001;0.001;0.001;IsHighPrecision" 3 8_BIT_UNSIGNED NATURAL_COLOR_RGB "Red 630 690;Green 530 570;Blue 440 510"</Process>
<Process Date="20181220" Time="061301" ToolSource="c:\program files (x86)\arcgis\desktop10.6\ArcToolbox\Toolboxes\Data Management Tools.tbx\AnalyzeMosaicDataset">AnalyzeMosaicDataset \\stgisdataprd001.file.core.windows.net\gisprd1gisdata\svcFgdb\megis\orthoMunicipal.gdb\orthoMunicipalFortFairfield2003 # FOOTPRINT;FUNCTION;RASTER;PATHS;SOURCE_VALIDITY;STALE;PYRAMIDS;STATISTICS;PERFORMANCE;INFORMATION</Process>
</lineage>
<itemProps>
<itemName Sync="TRUE">orthoMunicipalFortFairfield2003</itemName>
<itemLocation>
<linkage Sync="TRUE">file://\\stgisdataprd001.file.core.windows.net\gisprd1gisdata\svcFgdb\megis\orthoMunicipal.gdb</linkage>
<protocol Sync="TRUE">Local Area Network</protocol>
</itemLocation>
<nativeExtBox>
<westBL Sync="TRUE">581899.925000</westBL>
<eastBL Sync="TRUE">592700.075000</eastBL>
<southBL Sync="TRUE">5170699.925100</southBL>
<northBL Sync="TRUE">5192300.075100</northBL>
<exTypeCode Sync="TRUE">1</exTypeCode>
</nativeExtBox>
<imsContentType export="False"/>
</itemProps>
<coordRef>
<type Sync="TRUE">Projected</type>
<geogcsn Sync="TRUE">GCS_WGS_1984</geogcsn>
<csUnits Sync="TRUE">Linear Unit: Meter (1.000000)</csUnits>
<projcsn Sync="TRUE">WGS_1984_UTM_Zone_19N</projcsn>
<peXml Sync="TRUE">&lt;ProjectedCoordinateSystem xsi:type='typens:ProjectedCoordinateSystem' xmlns:xsi='http://www.w3.org/2001/XMLSchema-instance' xmlns:xs='http://www.w3.org/2001/XMLSchema' xmlns:typens='http://www.esri.com/schemas/ArcGIS/10.6'&gt;&lt;WKT&gt;PROJCS[&amp;quot;WGS_1984_UTM_Zone_19N&amp;quot;,GEOGCS[&amp;quot;GCS_WGS_1984&amp;quot;,DATUM[&amp;quot;D_WGS_1984&amp;quot;,SPHEROID[&amp;quot;WGS_1984&amp;quot;,6378137.0,298.257223563]],PRIMEM[&amp;quot;Greenwich&amp;quot;,0.0],UNIT[&amp;quot;Degree&amp;quot;,0.0174532925199433]],PROJECTION[&amp;quot;Transverse_Mercator&amp;quot;],PARAMETER[&amp;quot;False_Easting&amp;quot;,500000.0],PARAMETER[&amp;quot;False_Northing&amp;quot;,0.0],PARAMETER[&amp;quot;Central_Meridian&amp;quot;,-69.0],PARAMETER[&amp;quot;Scale_Factor&amp;quot;,0.9996],PARAMETER[&amp;quot;Latitude_Of_Origin&amp;quot;,0.0],UNIT[&amp;quot;Meter&amp;quot;,1.0],AUTHORITY[&amp;quot;EPSG&amp;quot;,32619]]&lt;/WKT&gt;&lt;XOrigin&gt;-5120900&lt;/XOrigin&gt;&lt;YOrigin&gt;-9998100&lt;/YOrigin&gt;&lt;XYScale&gt;450445547.3910538&lt;/XYScale&gt;&lt;ZOrigin&gt;-100000&lt;/ZOrigin&gt;&lt;ZScale&gt;10000&lt;/ZScale&gt;&lt;MOrigin&gt;-100000&lt;/MOrigin&gt;&lt;MScale&gt;10000&lt;/MScale&gt;&lt;XYTolerance&gt;0.001&lt;/XYTolerance&gt;&lt;ZTolerance&gt;0.001&lt;/ZTolerance&gt;&lt;MTolerance&gt;0.001&lt;/MTolerance&gt;&lt;HighPrecision&gt;true&lt;/HighPrecision&gt;&lt;WKID&gt;32619&lt;/WKID&gt;&lt;LatestWKID&gt;32619&lt;/LatestWKID&gt;&lt;/ProjectedCoordinateSystem&gt;</peXml>
</coordRef>
<RasterProperties>
<General>
<PixelDepth Sync="TRUE">8</PixelDepth>
<HasColormap Sync="TRUE">FALSE</HasColormap>
<CompressionType Sync="TRUE">None</CompressionType>
<NumBands Sync="TRUE">3</NumBands>
<Format Sync="TRUE">AMD</Format>
<HasPyramids Sync="TRUE">TRUE</HasPyramids>
<SourceType Sync="TRUE">continuous</SourceType>
<PixelType Sync="TRUE">unsigned integer</PixelType>
<NoDataValue Sync="TRUE"/>
</General>
<Properties>
<MaxImageHeight Sync="TRUE">4100</MaxImageHeight>
<MaxImageWidth Sync="TRUE">15000</MaxImageWidth>
<MaxRecordCount Sync="TRUE">1000</MaxRecordCount>
<MaxDownloadImageCount Sync="TRUE">20</MaxDownloadImageCount>
<MaxDownloadSizeLimit Sync="TRUE">2048</MaxDownloadSizeLimit>
<MaxMosaicImageCount Sync="TRUE">20</MaxMosaicImageCount>
<DefaultCompressionQuality Sync="TRUE">87</DefaultCompressionQuality>
<DefaultCompressionTolerance Sync="TRUE">0.01</DefaultCompressionTolerance>
<BlendWidth Sync="TRUE">10</BlendWidth>
<ViewpointSpacingX Sync="TRUE">600</ViewpointSpacingX>
<ViewpointSpacingY Sync="TRUE">300</ViewpointSpacingY>
<AllowedItemMetadata Sync="TRUE">Basic</AllowedItemMetadata>
<DefaultResamplingMethod Sync="TRUE">1</DefaultResamplingMethod>
<AllowedMosaicMethods Sync="TRUE">NorthWest,Center,ByAttribute,Nadir,Viewpoint,None</AllowedMosaicMethods>
<AllowedCompressions Sync="TRUE">LZ77,None,JPEG,LERC</AllowedCompressions>
<AllowedMensurationCapabilities Sync="TRUE">None</AllowedMensurationCapabilities>
<AvailableMensurationCapabilities Sync="TRUE">None,Basic,Base-Top Height,Top-Top Shadow Height,Base-Top Shadow Height,3D</AvailableMensurationCapabilities>
<ClipToBoundary Sync="TRUE">-1</ClipToBoundary>
<FootprintMayContainNoData Sync="TRUE">-1</FootprintMayContainNoData>
<CellSizeTolerance Sync="TRUE">0.8</CellSizeTolerance>
<MinimumPixelContribution Sync="TRUE">1</MinimumPixelContribution>
<AvailableMosaicMethods Sync="TRUE">NorthWest,Center,LockRaster,ByAttribute,Nadir,Viewpoint,Seamline,None</AvailableMosaicMethods>
<AvailableCompressionMethods Sync="TRUE">None,JPEG,LZ77,LERC</AvailableCompressionMethods>
<AvailableItemMetadataLevels Sync="TRUE">None,Basic,Full</AvailableItemMetadataLevels>
<BandDefinitionKeyword Sync="TRUE">NaturalColor</BandDefinitionKeyword>
<AllowedFields Sync="TRUE">Name,MinPS,MaxPS,LowPS,HighPS,Tag,GroupName,ProductName,CenterX,CenterY,ZOrder,Shape_Length,Shape_Area,DateBegin,DateEnd,DateIntBegin,DateIntEnd</AllowedFields>
<MaxCellSize Sync="TRUE">2430.00000000004</MaxCellSize>
<LowCellSize Sync="TRUE">0.150000000000002</LowCellSize>
<HighCellSize Sync="TRUE">48.6000000000007</HighCellSize>
<ApplyColorCorrection Sync="TRUE">0</ApplyColorCorrection>
<TimeValueFormat Sync="TRUE">YYYY-MM-DD</TimeValueFormat>
<EndTimeFieldName Sync="TRUE">DateEnd</EndTimeFieldName>
<StartTimeFieldName Sync="TRUE">DateBegin</StartTimeFieldName>
<TimeIntervalUnits Sync="TRUE">Days</TimeIntervalUnits>
<TimeInterval Sync="TRUE">1</TimeInterval>
<VerticalDimension Sync="TRUE"/>
<FlowDirection Sync="TRUE"/>
<MosaicOperator Sync="TRUE">1</MosaicOperator>
<BlendWidthUnits Sync="TRUE">1</BlendWidthUnits>
<UseTime Sync="TRUE">-1</UseTime>
<SortAscending Sync="TRUE">-1</SortAscending>
<ClipToFootprint Sync="TRUE">0</ClipToFootprint>
<ClipOverviewsToFootprint Sync="TRUE">0</ClipOverviewsToFootprint>
<SortField Sync="TRUE">MinPS</SortField>
<SortValue Sync="TRUE">0</SortValue>
</Properties>
<Functions Sync="TRUE">
<Function Description="Performs on-the-fly mosaic on a raster catalog." Name="Mosaic Function"/>
</Functions>
</RasterProperties>
</DataProperties>
<SyncDate>20190807</SyncDate>
<SyncTime>08301000</SyncTime>
<ModDate>20190807</ModDate>
<ModTime>08301000</ModTime>
<scaleRange>
<minScale>12000</minScale>
<maxScale>6000</maxScale>
</scaleRange>
<ArcGISProfile>FGDC</ArcGISProfile>
</Esri>
<mdLang>
<languageCode value="eng"/>
<countryCode Sync="TRUE" value="USA"/>
</mdLang>
<mdChar>
<CharSetCd value="004"/>
</mdChar>
<mdHrLv>
<ScopeCd value="005"/>
</mdHrLv>
<mdContact>
<rpIndName>GIS Coordinator</rpIndName>
<rpOrgName>(MEGIS) Maine Office of Geographic Information Systems</rpOrgName>
<rpPosName>GIS Coordinator</rpPosName>
<rpCntInfo>
<cntPhone>
<voiceNum>207 624-7700</voiceNum>
<faxNum>207 287-3842</faxNum>
</cntPhone>
<cntAddress addressType="postal">
<delPoint>State House Station 174</delPoint>
<city>Augusta</city>
<adminArea>ME</adminArea>
<postCode>04333-0174</postCode>
<country>US</country>
</cntAddress>
<cntHours>Monday through Friday 0800 - 1700 EST</cntHours>
</rpCntInfo>
<role>
<RoleCd value="007"/>
</role>
</mdContact>
<mdDateSt Sync="TRUE">20190807</mdDateSt>
<mdStanName>ArcGIS Metadata</mdStanName>
<mdStanVer>1.0</mdStanVer>
<distInfo>
<distributor>
<distorCont>
<rpOrgName>Maine Office of Geographic Information Systems</rpOrgName>
<rpPosName>GIS Coordinator</rpPosName>
<rpCntInfo>
<cntPhone>
<voiceNum>(207) 624-7700</voiceNum>
<faxNum>(207) 287-3842</faxNum>
</cntPhone>
<cntAddress addressType="postal">
<delPoint>State House Station 174</delPoint>
<city>Augusta</city>
<adminArea>ME</adminArea>
<postCode>04333-0174</postCode>
<country>US</country>
</cntAddress>
<cntHours>Monday through Friday 0800 - 1700 EST</cntHours>
</rpCntInfo>
<role>
<RoleCd value="005"/>
</role>
</distorCont>
<distorOrdPrc>
<resFees>None</resFees>
<ordInstr>http://www.maine.gov/geolib/wms.htm</ordInstr>
</distorOrdPrc>
<distorFormat>
<formatName>WMS</formatName>
<formatVer>1.1</formatVer>
<formatSpec>OpenGIS (OGC) Web Map Service (WMS)</formatSpec>
<formatInfo>MEGIS has created a web based application for Maine GIS data that adheres to the OpenGIS Consortium (OGC) Web Mapping Specification (WMS 1.1.1) which allows map servers to create and send standard map images over the Web.</formatInfo>
</distorFormat>
<distorTran>
<onLineSrc>
<linkage>http://megisims.state.me.us/wmsconnector/com.esri.wms.Esrimap/WMSFramework?</linkage>
<orDesc>This metadata document contains embedded URLs that can be used to make OGC WMS 1.1.1 compliant map requests of the framework layers in the Maine GeoLibrary.</orDesc>
</onLineSrc>
<onLineSrc>
<linkage>http://megisims.state.me.us/wmsconnector/com.esri.wms.Esrimap/WMSFramework?SERVICE=WMS&amp;VERSION=1.1.1&amp;REQUEST=GetMap&amp;LAYERS=ORTHO_FF&amp;SRS=EPSG:4326&amp;BBOX=-67.94,46.68,-67.77,46.88&amp;WIDTH=400&amp;HEIGHT=300&amp;FORMAT=image/png&amp;STYLES=</linkage>
<orDesc>This metadata document contains embedded URLs that can be used to make OGC WMS 1.1.1 compliant map requests of the framework layers in the Maine GeoLibrary.</orDesc>
</onLineSrc>
<onLineSrc>
<linkage>http://megisims.state.me.us/wmsconnector/com.esri.wms.Esrimap/WMSFramework?request=getcapabilities&amp;service=WMS&amp;version=1.1.1</linkage>
<orDesc>This metadata document contains embedded URLs that can be used to make OGC WMS 1.1.1 compliant map requests of the framework layers in the Maine GeoLibrary.</orDesc>
</onLineSrc>
</distorTran>
</distributor>
<distTranOps>
<onLineSrc>
<linkage>http://megis.maine.gov/catalog/</linkage>
</onLineSrc>
</distTranOps>
</distInfo>
<dataIdInfo>
<idCitation>
<resTitle Sync="TRUE">orthoMunicipalFortFairfield2003</resTitle>
<date>
<pubDate>2018-12-20T00:00:00</pubDate>
<reviseDate>2018-12-20T00:00:00</reviseDate>
</date>
<citRespParty>
<rpOrgName>Bradstreet Consultants, Inc. (www.bradstreet.com), Maine Office of Geographic Information Systems (comp.)</rpOrgName>
<role>
<RoleCd value="006"/>
</role>
</citRespParty>
<citRespParty>
<rpOrgName>Maine Office of Geographic Information Systems (MEGIS)</rpOrgName>
<rpCntInfo>
<cntAddress>
<delPoint>Augusta ME</delPoint>
</cntAddress>
</rpCntInfo>
<role>
<RoleCd value="010"/>
</role>
</citRespParty>
<presForm>
<PresFormCd value="005"/>
</presForm>
<presForm>
<fgdcGeoform>remote-sensing image</fgdcGeoform>
</presForm>
<otherCitDet>1:1200 ORTHO_FF consists of high resolution, 24-bit color orthophotography. Flown in May 2003 the ortho-rectified digital imagery covers all of Fort Fairfield, Maine. These digital images have a pixel resolution (or ground sample distance GSD) of 1/2 foot, are precision geo-referenced and ortho-rectified, and accurate for 1"=100' mapping applications. The digital orthoimagery has been made available by the Bradstreet Consultants, Inc. and the Town of Fort Fairfield. Original file sizes were: 100 images at 1800 meters by 1200 meters, butt matched with no overlap and an image file size of 281 MB; and 24 images at 900 meters by 600 meters, with a file size of 70 MB and also butt matched with no overlap.</otherCitDet>
</idCitation>
<idAbs>&lt;DIV STYLE="text-align:Left;"&gt;&lt;DIV&gt;&lt;DIV&gt;&lt;P&gt;&lt;SPAN&gt;ORTHO_FF orthophotography of Fort Fairfield, Maine compiled by Bradstreet Consultants, Inc. in the year 2003. Features were collected from aerial photography taken May 20, 2003. Airborne GPS, IMU, and ground control were all used to control the project. All features were compiled in Kork Digital Mapping System then translated using AutoCAD to files for use in ArcGIS. The orthophotography in ORTHO_FF has a ground spacing value of 0.15 meters or 1/2 foot GSD and provide a digital photographic map suitable for applications requiring a 1:1200 National Map Accuracy Standard (NMAS).&lt;/SPAN&gt;&lt;/P&gt;&lt;/DIV&gt;&lt;/DIV&gt;&lt;/DIV&gt;</idAbs>
<idPurp>Maine Orthoimagery Municipal Fort Fairfield 2003.</idPurp>
<idCredit>Maine GeoLibrary</idCredit>
<idStatus>
<ProgCd value="001"/>
</idStatus>
<idPoC>
<rpOrgName>Bradstreet Consultants, Inc.</rpOrgName>
<rpPosName>President</rpPosName>
<rpCntInfo>
<cntPhone>
<voiceNum>(207) 621 8500</voiceNum>
<faxNum>(207) 621 0033</faxNum>
</cntPhone>
<cntAddress addressType="physical">
<delPoint>962 Western Avenue/PO Box 488</delPoint>
<city>Manchester</city>
<adminArea>ME</adminArea>
<postCode>04351</postCode>
<country>US</country>
</cntAddress>
</rpCntInfo>
<role>
<RoleCd value="007"/>
</role>
</idPoC>
<resMaint>
<maintFreq>
<MaintFreqCd value="009"/>
</maintFreq>
</resMaint>
<searchKeys>
<keyword>imageryBaseMapsEarthCover</keyword>
<keyword>ortho</keyword>
<keyword>orthoimagery</keyword>
<keyword>orthophotography</keyword>
<keyword>Maine</keyword>
<keyword>MaineGeoLibrary</keyword>
<keyword>municipal</keyword>
<keyword>Fort Fairfield</keyword>
<keyword>2003</keyword>
</searchKeys>
<resConst>
<LegConsts>
<useLimit>Users must assume responsibility to determine the usability of this data for their purposes.</useLimit>
</LegConsts>
</resConst>
<resConst>
<Consts>
<useLimit>&lt;DIV STYLE="text-align:Left;"&gt;&lt;DIV&gt;&lt;DIV&gt;&lt;P&gt;&lt;SPAN&gt;Access: Public Use: User assumes risk.&lt;/SPAN&gt;&lt;/P&gt;&lt;/DIV&gt;&lt;/DIV&gt;&lt;/DIV&gt;</useLimit>
</Consts>
</resConst>
<aggrInfo>
<aggrDSName>
<resTitle>index_ff</resTitle>
<date>
<pubDate time="unknown">2004-08-01</pubDate>
</date>
<citRespParty>
<rpOrgName>Maine Office of Geographic Information Systems (MEGIS)</rpOrgName>
<rpCntInfo>
<cntAddress>
<delPoint>Augusta ME</delPoint>
</cntAddress>
</rpCntInfo>
<role>
<RoleCd value="010"/>
</role>
</citRespParty>
<citRespParty>
<rpOrgName>Maine Office of Geographic Information Systems</rpOrgName>
<role>
<RoleCd value="006"/>
</role>
</citRespParty>
<presForm>
<PresFormCd value="005"/>
</presForm>
<presForm>
<fgdcGeoform>vector digital data</fgdcGeoform>
</presForm>
<datasetSeries>
<seriesName>Maine GIS</seriesName>
<issId>SDE server; Internet Data Catalog</issId>
</datasetSeries>
<otherCitDet>1:1200</otherCitDet>
<citOnlineRes>
<linkage>http://megis.maine.gov/catalog/</linkage>
</citOnlineRes>
</aggrDSName>
<assocType>
<AscTypeCd value="001"/>
</assocType>
</aggrInfo>
<dataLang>
<languageCode value="eng"/>
<countryCode Sync="TRUE" value="USA"/>
</dataLang>
<envirDesc Sync="TRUE"> Version 6.2 (Build 9200) ; Esri ArcGIS 10.6.1.9273</envirDesc>
<spatRpType>
<SpatRepTypCd Sync="TRUE" value="002"/>
</spatRpType>
<placeKeys>
<keyword>Fort Fairfield Maine</keyword>
</placeKeys>
<dataChar>
<CharSetCd value="004"/>
</dataChar>
<dataExt>
<exDesc>Fort Fairfield, Maine</exDesc>
<geoEle>
<GeoDesc>
<exTypeCode>0</exTypeCode>
</GeoDesc>
</geoEle>
</dataExt>
<tpCat>
<TopicCatCd value="010"/>
</tpCat>
<dataExt>
<geoEle>
<GeoBndBox esriExtentType="search">
<exTypeCode Sync="TRUE">1</exTypeCode>
<westBL Sync="TRUE">-67.929010</westBL>
<eastBL Sync="TRUE">-67.783438</eastBL>
<northBL Sync="TRUE">46.879192</northBL>
<southBL Sync="TRUE">46.683435</southBL>
</GeoBndBox>
</geoEle>
</dataExt>
</dataIdInfo>
<mdMaint>
<maintFreq>
<MaintFreqCd value="012"/>
</maintFreq>
</mdMaint>
<dqInfo>
<dqScope>
<scpLvl>
<ScopeCd value="005"/>
</scpLvl>
</dqScope>
<report type="DQConcConsis">
<measDesc>Standard practices dictate that all photogrammetric data be field checked prior to use. The data collected meets or exceeds American Society of Photogrammetry and Remote Sensing (ASPRS) Class I standards for accuracy and content.</measDesc>
</report>
<report type="DQCompOm">
<measDesc>In accordance with ASPRS Class I standards for planimetric and topographic mapping.</measDesc>
</report>
<report dimension="horizontal" type="DQAbsExtPosAcc">
<measDesc>The accuracy and quality of the digital orthoimagery in ORTHOS_FF meet National Map Accuracy Standards 1:1,200 scale, plus/minus 1 meter or 3.33 feet, and is accurate for mapping applications at 1" = 100'.</measDesc>
<evalMethDesc>Digital file features include high quality ground-level georeferencing, derived from accurate positioning and geometric corrections, and provide a digital photographic map suitable for applications requiring a 1:1200 National Map Accuracy Standard (NMAS).</evalMethDesc>
<measResult>
<QuanResult>
<quanVal>1</quanVal>
</QuanResult>
</measResult>
</report>
<dataLineage>
<dataSource>
<srcScale>
<rfDenom>6000</rfDenom>
</srcScale>
<srcCitatn>
<resTitle>(JWSCLR6000) 1:6,000 Color Aerial Photography</resTitle>
<resAltTitle>jwsclr6000</resAltTitle>
<citRespParty>
<rpOrgName>James W. Sewall Company</rpOrgName>
<role>
<RoleCd value="006"/>
</role>
</citRespParty>
<presForm>
<PresFormCd value="005"/>
</presForm>
<presForm>
<fgdcGeoform>remote-sensing image</fgdcGeoform>
</presForm>
</srcCitatn>
<srcExt>
<exDesc>ground condition</exDesc>
<tempEle>
<TempExtent>
<exTemp>
<TM_Period>
<tmBegin time="unknown">2003-03-01</tmBegin>
<tmEnd time="unknown">2005-06-20</tmEnd>
</TM_Period>
</exTemp>
</TempExtent>
</tempEle>
</srcExt>
</dataSource>
<dataSource>
<srcScale>
<rfDenom>12000</rfDenom>
</srcScale>
<srcCitatn>
<resTitle>(JWSCLR12000) 1:12,000 Color Aerial Photography</resTitle>
<resAltTitle>jwsclr12000</resAltTitle>
<citRespParty>
<rpOrgName>James W. Sewall Company</rpOrgName>
<role>
<RoleCd value="006"/>
</role>
</citRespParty>
<presForm>
<PresFormCd value="005"/>
</presForm>
<presForm>
<fgdcGeoform>remote-sensing image</fgdcGeoform>
</presForm>
</srcCitatn>
<srcExt>
<exDesc>ground condition</exDesc>
<tempEle>
<TempExtent>
<exTemp>
<TM_Period>
<tmBegin time="unknown">2003-05-20</tmBegin>
<tmEnd time="unknown">2005-06-20</tmEnd>
</TM_Period>
</exTemp>
</TempExtent>
</tempEle>
</srcExt>
</dataSource>
<prcStep>
<stepDesc>Stereoscopic compilation using analytical stereoplotters into the KORK digital mapping system, translated to AutoCAD .DWG for use in ArcGIS.</stepDesc>
<stepDateTm>2004-02-16</stepDateTm>
<stepProc>
<rpOrgName>Bradstreet Consultants, Inc.</rpOrgName>
<rpPosName>President</rpPosName>
<rpCntInfo>
<cntPhone>
<voiceNum>(207) 621 8500</voiceNum>
<faxNum>(207) 621 0033</faxNum>
</cntPhone>
<cntAddress addressType="physical">
<delPoint>962 Western Avenue/PO Box 488</delPoint>
<city>Manchester</city>
<adminArea>ME</adminArea>
<postCode>04351</postCode>
<country>US</country>
</cntAddress>
</rpCntInfo>
<role>
<RoleCd value="009"/>
</role>
</stepProc>
</prcStep>
</dataLineage>
</dqInfo>
<spatRepInfo>
<Georect>
<numDims Sync="TRUE">2</numDims>
<axisDimension type="001">
<dimSize Sync="TRUE">144001</dimSize>
<dimResol>
<value Sync="TRUE" uom="m">0.150000</value>
</dimResol>
</axisDimension>
<axisDimension type="002">
<dimSize Sync="TRUE">72001</dimSize>
<dimResol>
<value Sync="TRUE" uom="m">0.150000</value>
</dimResol>
</axisDimension>
<cellGeo>
<CellGeoCd Sync="TRUE" value="002"/>
</cellGeo>
<tranParaAv Sync="TRUE">1</tranParaAv>
<chkPtAv Sync="TRUE">0</chkPtAv>
<cornerPts>
<pos Sync="TRUE">581899.925000 5170699.925100</pos>
</cornerPts>
<cornerPts>
<pos Sync="TRUE">581899.925000 5192300.075100</pos>
</cornerPts>
<cornerPts>
<pos Sync="TRUE">592700.075000 5192300.075100</pos>
</cornerPts>
<cornerPts>
<pos Sync="TRUE">592700.075000 5170699.925100</pos>
</cornerPts>
<centerPt>
<pos Sync="TRUE">587300.000000 5181500.000100</pos>
</centerPt>
<ptInPixel>
<PixOrientCd Sync="TRUE" value="001"/>
</ptInPixel>
</Georect>
</spatRepInfo>
<spatRepInfo>
<Indref>106 images all of Town of Fort Fairfield</Indref>
<Georect>
<tranParaAv Sync="TRUE">1</tranParaAv>
<chkPtAv Sync="TRUE">0</chkPtAv>
<cornerPts>
<pos Sync="TRUE">581899.925000 5170699.925100</pos>
</cornerPts>
<cornerPts>
<pos Sync="TRUE">581899.925000 5192300.075100</pos>
</cornerPts>
<cornerPts>
<pos Sync="TRUE">592700.075000 5192300.075100</pos>
</cornerPts>
<cornerPts>
<pos Sync="TRUE">592700.075000 5170699.925100</pos>
</cornerPts>
<centerPt>
<pos Sync="TRUE">587300.000000 5181500.000100</pos>
</centerPt>
<ptInPixel>
<PixOrientCd Sync="TRUE" value="001"/>
</ptInPixel>
</Georect>
</spatRepInfo>
<refSysInfo>
<RefSystem>
<refSysID>
<identCode Sync="TRUE" code="32619"/>
<idCodeSpace Sync="TRUE">EPSG</idCodeSpace>
<idVersion Sync="TRUE">2.1(3.0.1)</idVersion>
</refSysID>
</RefSystem>
</refSysInfo>
<contInfo>
<ImgDesc>
<contentTyp>
<ContentTypCd Sync="TRUE" value="001"/>
</contentTyp>
<covDim>
<Band>
<dimDescrp Sync="TRUE">Red</dimDescrp>
<maxVal Sync="TRUE">241.000000</maxVal>
<minVal Sync="TRUE">19.000000</minVal>
<bitsPerVal Sync="TRUE">8</bitsPerVal>
<valUnit>
<UOM type="length"/>
</valUnit>
</Band>
<Band>
<dimDescrp Sync="TRUE">Green</dimDescrp>
<maxVal Sync="TRUE">255.000000</maxVal>
<minVal Sync="TRUE">32.000000</minVal>
<bitsPerVal Sync="TRUE">8</bitsPerVal>
<valUnit>
<UOM type="length"/>
</valUnit>
</Band>
<Band>
<dimDescrp Sync="TRUE">Blue</dimDescrp>
<maxVal Sync="TRUE">246.000000</maxVal>
<minVal Sync="TRUE">37.000000</minVal>
<bitsPerVal Sync="TRUE">8</bitsPerVal>
<valUnit>
<UOM type="length"/>
</valUnit>
</Band>
</covDim>
</ImgDesc>
</contInfo>
</metadata>
